BEGIN:VCALENDAR
VERSION:2.0
PRODID:-//Nine Circles Community Health Centre - ECPv6.15.18//NONSGML v1.0//EN
CALSCALE:GREGORIAN
METHOD:PUBLISH
X-WR-CALNAME:Nine Circles Community Health Centre
X-ORIGINAL-URL:https://ninecircles.ca
X-WR-CALDESC:Events for Nine Circles Community Health Centre
REFRESH-INTERVAL;VALUE=DURATION:PT1H
X-Robots-Tag:noindex
X-PUBLISHED-TTL:PT1H
BEGIN:VTIMEZONE
TZID:America/Winnipeg
BEGIN:DAYLIGHT
TZOFFSETFROM:-0600
TZOFFSETTO:-0500
TZNAME:CDT
DTSTART:20210314T080000
END:DAYLIGHT
BEGIN:STANDARD
TZOFFSETFROM:-0500
TZOFFSETTO:-0600
TZNAME:CST
DTSTART:20211107T070000
END:STANDARD
BEGIN:DAYLIGHT
TZOFFSETFROM:-0600
TZOFFSETTO:-0500
TZNAME:CDT
DTSTART:20220313T080000
END:DAYLIGHT
BEGIN:STANDARD
TZOFFSETFROM:-0500
TZOFFSETTO:-0600
TZNAME:CST
DTSTART:20221106T070000
END:STANDARD
BEGIN:DAYLIGHT
TZOFFSETFROM:-0600
TZOFFSETTO:-0500
TZNAME:CDT
DTSTART:20230312T080000
END:DAYLIGHT
BEGIN:STANDARD
TZOFFSETFROM:-0500
TZOFFSETTO:-0600
TZNAME:CST
DTSTART:20231105T070000
END:STANDARD
END:VTIMEZONE
BEGIN:VEVENT
DTSTART;TZID=America/Winnipeg:20221011T153000
DTEND;TZID=America/Winnipeg:20221011T170000
DTSTAMP:20260421T013451
CREATED:20220922T192446Z
LAST-MODIFIED:20220922T193051Z
UID:10001892-1665502200-1665507600@ninecircles.ca
SUMMARY:Get Better Sleep Group
DESCRIPTION:Guided by Nine Circles Community Health Centre’s Mental Health Therapists Rosa and Sandra.\nSession dates: \nIn-person: October 11\, 2022 at 3:30pm-5:00pm\nLocation: 705 Broadway in office\, pizza and bus ticket\nprovided. \nOnline: October 12\, 2022 4:30-6:00pm virtual\nover Zoom (link provided upon registration) \nTo register\, please contact: \nRosa: 204-940-6023
URL:https://ninecircles.ca/event/get-better-sleep-group/
LOCATION:Nine Circles Community Centre\, 705 Broadway Winnipeg\, Winnipeg\, Manitoba\, R3G 0X2\, Canada
CATEGORIES:Announcements,Client Events,Community / Public Events
ATTACH;FMTTYPE=application/pdf:https://ninecircles.ca/wp-content/uploads/2022/09/Get-Better-Sleep-2.pdf
ORGANIZER;CN="Nine Circles Community Health":MAILTO:ninecircles@ninecircles.ca
END:VEVENT
END:VCALENDAR