BEGIN:VCALENDAR
VERSION:2.0
PRODID:-//Nine Circles Community Health Centre - ECPv6.15.18//NONSGML v1.0//EN
CALSCALE:GREGORIAN
METHOD:PUBLISH
X-ORIGINAL-URL:https://ninecircles.ca
X-WR-CALDESC:Events for Nine Circles Community Health Centre
REFRESH-INTERVAL;VALUE=DURATION:PT1H
X-Robots-Tag:noindex
X-PUBLISHED-TTL:PT1H
BEGIN:VTIMEZONE
TZID:America/Winnipeg
BEGIN:DAYLIGHT
TZOFFSETFROM:-0600
TZOFFSETTO:-0500
TZNAME:CDT
DTSTART:20220313T080000
END:DAYLIGHT
BEGIN:STANDARD
TZOFFSETFROM:-0500
TZOFFSETTO:-0600
TZNAME:CST
DTSTART:20221106T070000
END:STANDARD
BEGIN:DAYLIGHT
TZOFFSETFROM:-0600
TZOFFSETTO:-0500
TZNAME:CDT
DTSTART:20230312T080000
END:DAYLIGHT
BEGIN:STANDARD
TZOFFSETFROM:-0500
TZOFFSETTO:-0600
TZNAME:CST
DTSTART:20231105T070000
END:STANDARD
BEGIN:DAYLIGHT
TZOFFSETFROM:-0600
TZOFFSETTO:-0500
TZNAME:CDT
DTSTART:20240310T080000
END:DAYLIGHT
BEGIN:STANDARD
TZOFFSETFROM:-0500
TZOFFSETTO:-0600
TZNAME:CST
DTSTART:20241103T070000
END:STANDARD
END:VTIMEZONE
BEGIN:VEVENT
DTSTART;TZID=America/Winnipeg:20230117T153000
DTEND;TZID=America/Winnipeg:20230117T170000
DTSTAMP:20260419T194840
CREATED:20221215T195659Z
LAST-MODIFIED:20221215T195659Z
UID:10001643-1673969400-1673974800@ninecircles.ca
SUMMARY:Setting Achievable Goals: Group
DESCRIPTION:Big or small\, setting goals can help us to move forward when we’re feeling “stuck”\nDate: Tuesday January 17th\, 2023\nTime: 3:30 – 5:00pm\nLocation: In-person 705 Broadway in the Gathering Place\nHosted by Nine Circles’ Occupational Therapist Gina (she/her) and Mental Health Therapist Sandra (she/her) \nReceive a slice of pizza\, bus tickets\, and a SMART Goal worksheet\nRegister with Sandra at: 204-940-6053
URL:https://ninecircles.ca/event/setting-achievable-goals-group/
LOCATION:Nine Circles Community Centre\, 705 Broadway Winnipeg\, Winnipeg\, Manitoba\, R3G 0X2\, Canada
CATEGORIES:Announcements,Client Events,Community / Public Events
ATTACH;FMTTYPE=image/jpeg:https://ninecircles.ca/wp-content/uploads/2022/12/Untitled-design-1.jpg
END:VEVENT
END:VCALENDAR