BEGIN:VCALENDAR
VERSION:2.0
PRODID:-//Nine Circles Community Health Centre - ECPv6.15.18//NONSGML v1.0//EN
CALSCALE:GREGORIAN
METHOD:PUBLISH
X-ORIGINAL-URL:https://ninecircles.ca
X-WR-CALDESC:Events for Nine Circles Community Health Centre
REFRESH-INTERVAL;VALUE=DURATION:PT1H
X-Robots-Tag:noindex
X-PUBLISHED-TTL:PT1H
BEGIN:VTIMEZONE
TZID:America/Winnipeg
BEGIN:DAYLIGHT
TZOFFSETFROM:-0600
TZOFFSETTO:-0500
TZNAME:CDT
DTSTART:20220313T080000
END:DAYLIGHT
BEGIN:STANDARD
TZOFFSETFROM:-0500
TZOFFSETTO:-0600
TZNAME:CST
DTSTART:20221106T070000
END:STANDARD
BEGIN:DAYLIGHT
TZOFFSETFROM:-0600
TZOFFSETTO:-0500
TZNAME:CDT
DTSTART:20230312T080000
END:DAYLIGHT
BEGIN:STANDARD
TZOFFSETFROM:-0500
TZOFFSETTO:-0600
TZNAME:CST
DTSTART:20231105T070000
END:STANDARD
BEGIN:DAYLIGHT
TZOFFSETFROM:-0600
TZOFFSETTO:-0500
TZNAME:CDT
DTSTART:20240310T080000
END:DAYLIGHT
BEGIN:STANDARD
TZOFFSETFROM:-0500
TZOFFSETTO:-0600
TZNAME:CST
DTSTART:20241103T070000
END:STANDARD
END:VTIMEZONE
BEGIN:VEVENT
DTSTART;TZID=America/Winnipeg:20230419T120000
DTEND;TZID=America/Winnipeg:20230419T233000
DTSTAMP:20260420T191625
CREATED:20230207T180123Z
LAST-MODIFIED:20230207T180123Z
UID:10002519-1681905600-1681947000@ninecircles.ca
SUMMARY:A Taste for Life: Winnipeg 2023
DESCRIPTION:The Most Delicious Night Out for Over 20 Years.\nA recipe for tasty success: take generous restaurants contributing an amazing 25% of sales\, combine with caring people who dine out and donate every year\, and season with sponsors supporting every aspect of the event. \nParticipating Taste restaurants open their doors for one evening on Wednesday April 19th and donate 25% of their evening sales to an HIV/AIDS Service Organizations in their community. Funds collection will directly help people living with HIV. Testing and treatment\, care and support\, food and shelter\, hope and community. Visit the Winnipeg page at www.ATasteforLife.org for participating restaurants or donate directly! \nIt’s that easy to make a difference in the lives of so many!
URL:https://ninecircles.ca/event/a-taste-for-life-winnipeg-2023/
LOCATION:Manitoba
CATEGORIES:Announcements,Community / Public Events
ATTACH;FMTTYPE=image/png:https://ninecircles.ca/wp-content/uploads/2023/02/A-Taste-for-Life-Banner-PDF.png
ORGANIZER;CN="Nine Circles Community Health":MAILTO:ninecircles@ninecircles.ca
END:VEVENT
BEGIN:VEVENT
DTSTART;TZID=America/Winnipeg:20230419T130000
DTEND;TZID=America/Winnipeg:20230419T160000
DTSTAMP:20260420T191625
CREATED:20230207T171532Z
LAST-MODIFIED:20230403T145924Z
UID:10002257-1681909200-1681920000@ninecircles.ca
SUMMARY:Cultural Drop-In Hours
DESCRIPTION:Indigenous Cultural Drop-in Hours\nJoin Cultural Support Worker Sharon Costello from 1pm-4pm on Mondays and Wednesdays for cultural support.
URL:https://ninecircles.ca/event/cultural-drop-in-hours/2023-04-19/
LOCATION:Nine Circles Community Centre\, 705 Broadway Winnipeg\, Winnipeg\, Manitoba\, R3G 0X2\, Canada
CATEGORIES:Announcements,Community / Public Events
END:VEVENT
END:VCALENDAR