BEGIN:VCALENDAR
VERSION:2.0
PRODID:-//Nine Circles Community Health Centre - ECPv6.15.18//NONSGML v1.0//EN
CALSCALE:GREGORIAN
METHOD:PUBLISH
X-ORIGINAL-URL:https://ninecircles.ca
X-WR-CALDESC:Events for Nine Circles Community Health Centre
REFRESH-INTERVAL;VALUE=DURATION:PT1H
X-Robots-Tag:noindex
X-PUBLISHED-TTL:PT1H
BEGIN:VTIMEZONE
TZID:America/Winnipeg
BEGIN:DAYLIGHT
TZOFFSETFROM:-0600
TZOFFSETTO:-0500
TZNAME:CDT
DTSTART:20240310T080000
END:DAYLIGHT
BEGIN:STANDARD
TZOFFSETFROM:-0500
TZOFFSETTO:-0600
TZNAME:CST
DTSTART:20241103T070000
END:STANDARD
BEGIN:DAYLIGHT
TZOFFSETFROM:-0600
TZOFFSETTO:-0500
TZNAME:CDT
DTSTART:20250309T080000
END:DAYLIGHT
BEGIN:STANDARD
TZOFFSETFROM:-0500
TZOFFSETTO:-0600
TZNAME:CST
DTSTART:20251102T070000
END:STANDARD
BEGIN:DAYLIGHT
TZOFFSETFROM:-0600
TZOFFSETTO:-0500
TZNAME:CDT
DTSTART:20260308T080000
END:DAYLIGHT
BEGIN:STANDARD
TZOFFSETFROM:-0500
TZOFFSETTO:-0600
TZNAME:CST
DTSTART:20261101T070000
END:STANDARD
BEGIN:DAYLIGHT
TZOFFSETFROM:-0600
TZOFFSETTO:-0500
TZNAME:CDT
DTSTART:20270314T080000
END:DAYLIGHT
BEGIN:STANDARD
TZOFFSETFROM:-0500
TZOFFSETTO:-0600
TZNAME:CST
DTSTART:20271107T070000
END:STANDARD
END:VTIMEZONE
BEGIN:VEVENT
DTSTART;TZID=America/Winnipeg:20251117T090000
DTEND;TZID=America/Winnipeg:20251117T110000
DTSTAMP:20260420T204131
CREATED:20250411T204341Z
LAST-MODIFIED:20260327T133123Z
UID:10007008-1763370000-1763377200@ninecircles.ca
SUMMARY:Mending Mondays
DESCRIPTION:Join us for Mending Mondays\, a community event where you can give your favorite clothes a new lease on life! Bring in your ripped jeans\, torn shirts\, or sweaters with snags\, and we’ll help you patch\, sew\, and mend them back to wearable condition. With hands-on guidance\, tools\, and materials provided\, you’ll learn simple techniques to keep your wardrobe looking great while reducing waste. Let’s repair\, not replace!
URL:https://ninecircles.ca/event/mending-mondays-2/2025-11-17/
LOCATION:Nine Circles Community Centre\, 705 Broadway Winnipeg\, Winnipeg\, Manitoba\, R3G 0X2\, Canada
CATEGORIES:Announcements,Client Events
END:VEVENT
BEGIN:VEVENT
DTSTART;TZID=America/Winnipeg:20251119T130000
DTEND;TZID=America/Winnipeg:20251119T153000
DTSTAMP:20260420T204131
CREATED:20251107T154115Z
LAST-MODIFIED:20251107T154115Z
UID:10007366-1763557200-1763566200@ninecircles.ca
SUMMARY:Sewing Class
DESCRIPTION:Learn to sew Wednesdays from 1:00 p.m. to 3:00 p.m. Bring in a project or learn the basics of sewing\, quilting\, sewing machines\, and appliques. All materials and instruction provided. All ages. Open to community members that access the Pit Stop or Nine Circles clinic clients.
URL:https://ninecircles.ca/event/sewing-class/2025-11-19/
LOCATION:Nine Circles Community Centre\, 705 Broadway Winnipeg\, Winnipeg\, Manitoba\, R3G 0X2\, Canada
CATEGORIES:Client Events
END:VEVENT
BEGIN:VEVENT
DTSTART;TZID=America/Winnipeg:20251120T130000
DTEND;TZID=America/Winnipeg:20251120T153000
DTSTAMP:20260420T204131
CREATED:20240924T140605Z
LAST-MODIFIED:20260330T135707Z
UID:10006425-1763643600-1763652600@ninecircles.ca
SUMMARY:Beading Group
DESCRIPTION:Led by Cultural Support Worker Kayleen Kaduchuk\, for all levels and materials provided! \nEvery Thursday from 1:00 p.m. – 4:00 p.m. in our Gathering Place \nTo attend: Drop-in\, call (204) 940-6000\, or e-mail kkaduchuk@ninecircles.ca
URL:https://ninecircles.ca/event/beading-group/2025-11-20/
LOCATION:Nine Circles Community Centre\, 705 Broadway Winnipeg\, Winnipeg\, Manitoba\, R3G 0X2\, Canada
CATEGORIES:Client Events
ATTACH;FMTTYPE=image/png:https://ninecircles.ca/wp-content/uploads/2024/09/1.png
END:VEVENT
BEGIN:VEVENT
DTSTART;TZID=America/Winnipeg:20251124T090000
DTEND;TZID=America/Winnipeg:20251124T110000
DTSTAMP:20260420T204131
CREATED:20250411T204341Z
LAST-MODIFIED:20260327T133123Z
UID:10007009-1763974800-1763982000@ninecircles.ca
SUMMARY:Mending Mondays
DESCRIPTION:Join us for Mending Mondays\, a community event where you can give your favorite clothes a new lease on life! Bring in your ripped jeans\, torn shirts\, or sweaters with snags\, and we’ll help you patch\, sew\, and mend them back to wearable condition. With hands-on guidance\, tools\, and materials provided\, you’ll learn simple techniques to keep your wardrobe looking great while reducing waste. Let’s repair\, not replace!
URL:https://ninecircles.ca/event/mending-mondays-2/2025-11-24/
LOCATION:Nine Circles Community Centre\, 705 Broadway Winnipeg\, Winnipeg\, Manitoba\, R3G 0X2\, Canada
CATEGORIES:Announcements,Client Events
END:VEVENT
BEGIN:VEVENT
DTSTART;TZID=America/Winnipeg:20251126T130000
DTEND;TZID=America/Winnipeg:20251126T153000
DTSTAMP:20260420T204131
CREATED:20251107T154115Z
LAST-MODIFIED:20251107T154115Z
UID:10007367-1764162000-1764171000@ninecircles.ca
SUMMARY:Sewing Class
DESCRIPTION:Learn to sew Wednesdays from 1:00 p.m. to 3:00 p.m. Bring in a project or learn the basics of sewing\, quilting\, sewing machines\, and appliques. All materials and instruction provided. All ages. Open to community members that access the Pit Stop or Nine Circles clinic clients.
URL:https://ninecircles.ca/event/sewing-class/2025-11-26/
LOCATION:Nine Circles Community Centre\, 705 Broadway Winnipeg\, Winnipeg\, Manitoba\, R3G 0X2\, Canada
CATEGORIES:Client Events
END:VEVENT
BEGIN:VEVENT
DTSTART;TZID=America/Winnipeg:20251127T130000
DTEND;TZID=America/Winnipeg:20251127T153000
DTSTAMP:20260420T204131
CREATED:20240924T140605Z
LAST-MODIFIED:20260330T135707Z
UID:10006426-1764248400-1764257400@ninecircles.ca
SUMMARY:Beading Group
DESCRIPTION:Led by Cultural Support Worker Kayleen Kaduchuk\, for all levels and materials provided! \nEvery Thursday from 1:00 p.m. – 4:00 p.m. in our Gathering Place \nTo attend: Drop-in\, call (204) 940-6000\, or e-mail kkaduchuk@ninecircles.ca
URL:https://ninecircles.ca/event/beading-group/2025-11-27/
LOCATION:Nine Circles Community Centre\, 705 Broadway Winnipeg\, Winnipeg\, Manitoba\, R3G 0X2\, Canada
CATEGORIES:Client Events
ATTACH;FMTTYPE=image/png:https://ninecircles.ca/wp-content/uploads/2024/09/1.png
END:VEVENT
BEGIN:VEVENT
DTSTART;TZID=America/Winnipeg:20251201T090000
DTEND;TZID=America/Winnipeg:20251201T110000
DTSTAMP:20260420T204131
CREATED:20250411T204341Z
LAST-MODIFIED:20260327T133123Z
UID:10007010-1764579600-1764586800@ninecircles.ca
SUMMARY:Mending Mondays
DESCRIPTION:Join us for Mending Mondays\, a community event where you can give your favorite clothes a new lease on life! Bring in your ripped jeans\, torn shirts\, or sweaters with snags\, and we’ll help you patch\, sew\, and mend them back to wearable condition. With hands-on guidance\, tools\, and materials provided\, you’ll learn simple techniques to keep your wardrobe looking great while reducing waste. Let’s repair\, not replace!
URL:https://ninecircles.ca/event/mending-mondays-2/2025-12-01/
LOCATION:Nine Circles Community Centre\, 705 Broadway Winnipeg\, Winnipeg\, Manitoba\, R3G 0X2\, Canada
CATEGORIES:Announcements,Client Events
END:VEVENT
BEGIN:VEVENT
DTSTART;TZID=America/Winnipeg:20251203T130000
DTEND;TZID=America/Winnipeg:20251203T153000
DTSTAMP:20260420T204131
CREATED:20251107T154115Z
LAST-MODIFIED:20251107T154115Z
UID:10007368-1764766800-1764775800@ninecircles.ca
SUMMARY:Sewing Class
DESCRIPTION:Learn to sew Wednesdays from 1:00 p.m. to 3:00 p.m. Bring in a project or learn the basics of sewing\, quilting\, sewing machines\, and appliques. All materials and instruction provided. All ages. Open to community members that access the Pit Stop or Nine Circles clinic clients.
URL:https://ninecircles.ca/event/sewing-class/2025-12-03/
LOCATION:Nine Circles Community Centre\, 705 Broadway Winnipeg\, Winnipeg\, Manitoba\, R3G 0X2\, Canada
CATEGORIES:Client Events
END:VEVENT
BEGIN:VEVENT
DTSTART;TZID=America/Winnipeg:20251204T130000
DTEND;TZID=America/Winnipeg:20251204T153000
DTSTAMP:20260420T204131
CREATED:20240924T140605Z
LAST-MODIFIED:20260330T135707Z
UID:10006427-1764853200-1764862200@ninecircles.ca
SUMMARY:Beading Group
DESCRIPTION:Led by Cultural Support Worker Kayleen Kaduchuk\, for all levels and materials provided! \nEvery Thursday from 1:00 p.m. – 4:00 p.m. in our Gathering Place \nTo attend: Drop-in\, call (204) 940-6000\, or e-mail kkaduchuk@ninecircles.ca
URL:https://ninecircles.ca/event/beading-group/2025-12-04/
LOCATION:Nine Circles Community Centre\, 705 Broadway Winnipeg\, Winnipeg\, Manitoba\, R3G 0X2\, Canada
CATEGORIES:Client Events
ATTACH;FMTTYPE=image/png:https://ninecircles.ca/wp-content/uploads/2024/09/1.png
END:VEVENT
BEGIN:VEVENT
DTSTART;TZID=America/Winnipeg:20251208T090000
DTEND;TZID=America/Winnipeg:20251208T110000
DTSTAMP:20260420T204131
CREATED:20250411T204341Z
LAST-MODIFIED:20260327T133123Z
UID:10007011-1765184400-1765191600@ninecircles.ca
SUMMARY:Mending Mondays
DESCRIPTION:Join us for Mending Mondays\, a community event where you can give your favorite clothes a new lease on life! Bring in your ripped jeans\, torn shirts\, or sweaters with snags\, and we’ll help you patch\, sew\, and mend them back to wearable condition. With hands-on guidance\, tools\, and materials provided\, you’ll learn simple techniques to keep your wardrobe looking great while reducing waste. Let’s repair\, not replace!
URL:https://ninecircles.ca/event/mending-mondays-2/2025-12-08/
LOCATION:Nine Circles Community Centre\, 705 Broadway Winnipeg\, Winnipeg\, Manitoba\, R3G 0X2\, Canada
CATEGORIES:Announcements,Client Events
END:VEVENT
BEGIN:VEVENT
DTSTART;TZID=America/Winnipeg:20251210T130000
DTEND;TZID=America/Winnipeg:20251210T140000
DTSTAMP:20260420T204131
CREATED:20251125T164421Z
LAST-MODIFIED:20260122T154627Z
UID:10007644-1765371600-1765375200@ninecircles.ca
SUMMARY:Pipe Ceremony
DESCRIPTION:Join us for a monthly Pipe Ceremony from 1-2pm every second Wednesday of the month!\nFor information about this or all other Indigenous Cultural Programming\, contact Kayleen Kaduchuk at (204) 940-6000 or e-mail KKaduchuk@ninecircles.ca
URL:https://ninecircles.ca/event/pipe-ceremony/2025-12-10/
LOCATION:Nine Circles Community Centre\, 705 Broadway Winnipeg\, Winnipeg\, Manitoba\, R3G 0X2\, Canada
CATEGORIES:Client Events
ATTACH;FMTTYPE=image/jpeg:https://ninecircles.ca/wp-content/uploads/2025/11/Monthly-Pipe-Ceremony-Poster-2026.jpg
END:VEVENT
BEGIN:VEVENT
DTSTART;TZID=America/Winnipeg:20251210T130000
DTEND;TZID=America/Winnipeg:20251210T153000
DTSTAMP:20260420T204131
CREATED:20251107T154115Z
LAST-MODIFIED:20251107T154115Z
UID:10007369-1765371600-1765380600@ninecircles.ca
SUMMARY:Sewing Class
DESCRIPTION:Learn to sew Wednesdays from 1:00 p.m. to 3:00 p.m. Bring in a project or learn the basics of sewing\, quilting\, sewing machines\, and appliques. All materials and instruction provided. All ages. Open to community members that access the Pit Stop or Nine Circles clinic clients.
URL:https://ninecircles.ca/event/sewing-class/2025-12-10/
LOCATION:Nine Circles Community Centre\, 705 Broadway Winnipeg\, Winnipeg\, Manitoba\, R3G 0X2\, Canada
CATEGORIES:Client Events
END:VEVENT
BEGIN:VEVENT
DTSTART;TZID=America/Winnipeg:20251211T130000
DTEND;TZID=America/Winnipeg:20251211T153000
DTSTAMP:20260420T204131
CREATED:20240924T140605Z
LAST-MODIFIED:20260330T135707Z
UID:10006428-1765458000-1765467000@ninecircles.ca
SUMMARY:Beading Group
DESCRIPTION:Led by Cultural Support Worker Kayleen Kaduchuk\, for all levels and materials provided! \nEvery Thursday from 1:00 p.m. – 4:00 p.m. in our Gathering Place \nTo attend: Drop-in\, call (204) 940-6000\, or e-mail kkaduchuk@ninecircles.ca
URL:https://ninecircles.ca/event/beading-group/2025-12-11/
LOCATION:Nine Circles Community Centre\, 705 Broadway Winnipeg\, Winnipeg\, Manitoba\, R3G 0X2\, Canada
CATEGORIES:Client Events
ATTACH;FMTTYPE=image/png:https://ninecircles.ca/wp-content/uploads/2024/09/1.png
END:VEVENT
BEGIN:VEVENT
DTSTART;TZID=America/Winnipeg:20251215T090000
DTEND;TZID=America/Winnipeg:20251215T110000
DTSTAMP:20260420T204131
CREATED:20250411T204341Z
LAST-MODIFIED:20260327T133123Z
UID:10007012-1765789200-1765796400@ninecircles.ca
SUMMARY:Mending Mondays
DESCRIPTION:Join us for Mending Mondays\, a community event where you can give your favorite clothes a new lease on life! Bring in your ripped jeans\, torn shirts\, or sweaters with snags\, and we’ll help you patch\, sew\, and mend them back to wearable condition. With hands-on guidance\, tools\, and materials provided\, you’ll learn simple techniques to keep your wardrobe looking great while reducing waste. Let’s repair\, not replace!
URL:https://ninecircles.ca/event/mending-mondays-2/2025-12-15/
LOCATION:Nine Circles Community Centre\, 705 Broadway Winnipeg\, Winnipeg\, Manitoba\, R3G 0X2\, Canada
CATEGORIES:Announcements,Client Events
END:VEVENT
BEGIN:VEVENT
DTSTART;TZID=America/Winnipeg:20251217T130000
DTEND;TZID=America/Winnipeg:20251217T153000
DTSTAMP:20260420T204131
CREATED:20251107T154115Z
LAST-MODIFIED:20251107T154115Z
UID:10007370-1765976400-1765985400@ninecircles.ca
SUMMARY:Sewing Class
DESCRIPTION:Learn to sew Wednesdays from 1:00 p.m. to 3:00 p.m. Bring in a project or learn the basics of sewing\, quilting\, sewing machines\, and appliques. All materials and instruction provided. All ages. Open to community members that access the Pit Stop or Nine Circles clinic clients.
URL:https://ninecircles.ca/event/sewing-class/2025-12-17/
LOCATION:Nine Circles Community Centre\, 705 Broadway Winnipeg\, Winnipeg\, Manitoba\, R3G 0X2\, Canada
CATEGORIES:Client Events
END:VEVENT
BEGIN:VEVENT
DTSTART;TZID=America/Winnipeg:20251218T130000
DTEND;TZID=America/Winnipeg:20251218T153000
DTSTAMP:20260420T204131
CREATED:20240924T140605Z
LAST-MODIFIED:20260330T135707Z
UID:10006429-1766062800-1766071800@ninecircles.ca
SUMMARY:Beading Group
DESCRIPTION:Led by Cultural Support Worker Kayleen Kaduchuk\, for all levels and materials provided! \nEvery Thursday from 1:00 p.m. – 4:00 p.m. in our Gathering Place \nTo attend: Drop-in\, call (204) 940-6000\, or e-mail kkaduchuk@ninecircles.ca
URL:https://ninecircles.ca/event/beading-group/2025-12-18/
LOCATION:Nine Circles Community Centre\, 705 Broadway Winnipeg\, Winnipeg\, Manitoba\, R3G 0X2\, Canada
CATEGORIES:Client Events
ATTACH;FMTTYPE=image/png:https://ninecircles.ca/wp-content/uploads/2024/09/1.png
END:VEVENT
BEGIN:VEVENT
DTSTART;TZID=America/Winnipeg:20251222T090000
DTEND;TZID=America/Winnipeg:20251222T110000
DTSTAMP:20260420T204131
CREATED:20250411T204341Z
LAST-MODIFIED:20260327T133123Z
UID:10007013-1766394000-1766401200@ninecircles.ca
SUMMARY:Mending Mondays
DESCRIPTION:Join us for Mending Mondays\, a community event where you can give your favorite clothes a new lease on life! Bring in your ripped jeans\, torn shirts\, or sweaters with snags\, and we’ll help you patch\, sew\, and mend them back to wearable condition. With hands-on guidance\, tools\, and materials provided\, you’ll learn simple techniques to keep your wardrobe looking great while reducing waste. Let’s repair\, not replace!
URL:https://ninecircles.ca/event/mending-mondays-2/2025-12-22/
LOCATION:Nine Circles Community Centre\, 705 Broadway Winnipeg\, Winnipeg\, Manitoba\, R3G 0X2\, Canada
CATEGORIES:Announcements,Client Events
END:VEVENT
BEGIN:VEVENT
DTSTART;TZID=America/Winnipeg:20251224T130000
DTEND;TZID=America/Winnipeg:20251224T153000
DTSTAMP:20260420T204131
CREATED:20251202T194607Z
LAST-MODIFIED:20260330T135633Z
UID:10007371-1766581200-1766590200@ninecircles.ca
SUMMARY:Sewing Class
DESCRIPTION:Learn to sew Wednesdays from 1:00 p.m. to 3:00 p.m. Bring in a project or learn the basics of sewing\, quilting\, sewing machines\, and appliques. All materials and instruction provided. All ages. Open to community members that access the Pit Stop or Nine Circles clinic clients.
URL:https://ninecircles.ca/event/sewing-class-2/2025-12-24/
LOCATION:Nine Circles Community Centre\, 705 Broadway Winnipeg\, Winnipeg\, Manitoba\, R3G 0X2\, Canada
CATEGORIES:Client Events
END:VEVENT
BEGIN:VEVENT
DTSTART;TZID=America/Winnipeg:20251229T090000
DTEND;TZID=America/Winnipeg:20251229T110000
DTSTAMP:20260420T204131
CREATED:20250411T204341Z
LAST-MODIFIED:20260327T133123Z
UID:10007014-1766998800-1767006000@ninecircles.ca
SUMMARY:Mending Mondays
DESCRIPTION:Join us for Mending Mondays\, a community event where you can give your favorite clothes a new lease on life! Bring in your ripped jeans\, torn shirts\, or sweaters with snags\, and we’ll help you patch\, sew\, and mend them back to wearable condition. With hands-on guidance\, tools\, and materials provided\, you’ll learn simple techniques to keep your wardrobe looking great while reducing waste. Let’s repair\, not replace!
URL:https://ninecircles.ca/event/mending-mondays-2/2025-12-29/
LOCATION:Nine Circles Community Centre\, 705 Broadway Winnipeg\, Winnipeg\, Manitoba\, R3G 0X2\, Canada
CATEGORIES:Announcements,Client Events
END:VEVENT
BEGIN:VEVENT
DTSTART;TZID=America/Winnipeg:20251231T130000
DTEND;TZID=America/Winnipeg:20251231T153000
DTSTAMP:20260420T204131
CREATED:20251202T194607Z
LAST-MODIFIED:20260330T135633Z
UID:10007372-1767186000-1767195000@ninecircles.ca
SUMMARY:Sewing Class
DESCRIPTION:Learn to sew Wednesdays from 1:00 p.m. to 3:00 p.m. Bring in a project or learn the basics of sewing\, quilting\, sewing machines\, and appliques. All materials and instruction provided. All ages. Open to community members that access the Pit Stop or Nine Circles clinic clients.
URL:https://ninecircles.ca/event/sewing-class-2/2025-12-31/
LOCATION:Nine Circles Community Centre\, 705 Broadway Winnipeg\, Winnipeg\, Manitoba\, R3G 0X2\, Canada
CATEGORIES:Client Events
END:VEVENT
BEGIN:VEVENT
DTSTART;TZID=America/Winnipeg:20260105T090000
DTEND;TZID=America/Winnipeg:20260105T110000
DTSTAMP:20260420T204131
CREATED:20250411T204341Z
LAST-MODIFIED:20260327T133123Z
UID:10007015-1767603600-1767610800@ninecircles.ca
SUMMARY:Mending Mondays
DESCRIPTION:Join us for Mending Mondays\, a community event where you can give your favorite clothes a new lease on life! Bring in your ripped jeans\, torn shirts\, or sweaters with snags\, and we’ll help you patch\, sew\, and mend them back to wearable condition. With hands-on guidance\, tools\, and materials provided\, you’ll learn simple techniques to keep your wardrobe looking great while reducing waste. Let’s repair\, not replace!
URL:https://ninecircles.ca/event/mending-mondays-2/2026-01-05/
LOCATION:Nine Circles Community Centre\, 705 Broadway Winnipeg\, Winnipeg\, Manitoba\, R3G 0X2\, Canada
CATEGORIES:Announcements,Client Events
END:VEVENT
BEGIN:VEVENT
DTSTART;TZID=America/Winnipeg:20260107T130000
DTEND;TZID=America/Winnipeg:20260107T153000
DTSTAMP:20260420T204131
CREATED:20251202T194607Z
LAST-MODIFIED:20260330T135633Z
UID:10007373-1767790800-1767799800@ninecircles.ca
SUMMARY:Sewing Class
DESCRIPTION:Learn to sew Wednesdays from 1:00 p.m. to 3:00 p.m. Bring in a project or learn the basics of sewing\, quilting\, sewing machines\, and appliques. All materials and instruction provided. All ages. Open to community members that access the Pit Stop or Nine Circles clinic clients.
URL:https://ninecircles.ca/event/sewing-class-2/2026-01-07/
LOCATION:Nine Circles Community Centre\, 705 Broadway Winnipeg\, Winnipeg\, Manitoba\, R3G 0X2\, Canada
CATEGORIES:Client Events
END:VEVENT
BEGIN:VEVENT
DTSTART;TZID=America/Winnipeg:20260108T130000
DTEND;TZID=America/Winnipeg:20260108T153000
DTSTAMP:20260420T204131
CREATED:20240924T140605Z
LAST-MODIFIED:20260330T135707Z
UID:10006432-1767877200-1767886200@ninecircles.ca
SUMMARY:Beading Group
DESCRIPTION:Led by Cultural Support Worker Kayleen Kaduchuk\, for all levels and materials provided! \nEvery Thursday from 1:00 p.m. – 4:00 p.m. in our Gathering Place \nTo attend: Drop-in\, call (204) 940-6000\, or e-mail kkaduchuk@ninecircles.ca
URL:https://ninecircles.ca/event/beading-group/2026-01-08/
LOCATION:Nine Circles Community Centre\, 705 Broadway Winnipeg\, Winnipeg\, Manitoba\, R3G 0X2\, Canada
CATEGORIES:Client Events
ATTACH;FMTTYPE=image/png:https://ninecircles.ca/wp-content/uploads/2024/09/1.png
END:VEVENT
BEGIN:VEVENT
DTSTART;TZID=America/Winnipeg:20260112T090000
DTEND;TZID=America/Winnipeg:20260112T110000
DTSTAMP:20260420T204131
CREATED:20250411T204341Z
LAST-MODIFIED:20260327T133123Z
UID:10007016-1768208400-1768215600@ninecircles.ca
SUMMARY:Mending Mondays
DESCRIPTION:Join us for Mending Mondays\, a community event where you can give your favorite clothes a new lease on life! Bring in your ripped jeans\, torn shirts\, or sweaters with snags\, and we’ll help you patch\, sew\, and mend them back to wearable condition. With hands-on guidance\, tools\, and materials provided\, you’ll learn simple techniques to keep your wardrobe looking great while reducing waste. Let’s repair\, not replace!
URL:https://ninecircles.ca/event/mending-mondays-2/2026-01-12/
LOCATION:Nine Circles Community Centre\, 705 Broadway Winnipeg\, Winnipeg\, Manitoba\, R3G 0X2\, Canada
CATEGORIES:Announcements,Client Events
END:VEVENT
BEGIN:VEVENT
DTSTART;TZID=America/Winnipeg:20260114T130000
DTEND;TZID=America/Winnipeg:20260114T140000
DTSTAMP:20260420T204131
CREATED:20251125T164421Z
LAST-MODIFIED:20260122T154627Z
UID:10007645-1768395600-1768399200@ninecircles.ca
SUMMARY:Pipe Ceremony
DESCRIPTION:Join us for a monthly Pipe Ceremony from 1-2pm every second Wednesday of the month!\nFor information about this or all other Indigenous Cultural Programming\, contact Kayleen Kaduchuk at (204) 940-6000 or e-mail KKaduchuk@ninecircles.ca
URL:https://ninecircles.ca/event/pipe-ceremony/2026-01-14/
LOCATION:Nine Circles Community Centre\, 705 Broadway Winnipeg\, Winnipeg\, Manitoba\, R3G 0X2\, Canada
CATEGORIES:Client Events
ATTACH;FMTTYPE=image/jpeg:https://ninecircles.ca/wp-content/uploads/2025/11/Monthly-Pipe-Ceremony-Poster-2026.jpg
END:VEVENT
BEGIN:VEVENT
DTSTART;TZID=America/Winnipeg:20260114T130000
DTEND;TZID=America/Winnipeg:20260114T153000
DTSTAMP:20260420T204131
CREATED:20251202T194607Z
LAST-MODIFIED:20260330T135633Z
UID:10007374-1768395600-1768404600@ninecircles.ca
SUMMARY:Sewing Class
DESCRIPTION:Learn to sew Wednesdays from 1:00 p.m. to 3:00 p.m. Bring in a project or learn the basics of sewing\, quilting\, sewing machines\, and appliques. All materials and instruction provided. All ages. Open to community members that access the Pit Stop or Nine Circles clinic clients.
URL:https://ninecircles.ca/event/sewing-class-2/2026-01-14/
LOCATION:Nine Circles Community Centre\, 705 Broadway Winnipeg\, Winnipeg\, Manitoba\, R3G 0X2\, Canada
CATEGORIES:Client Events
END:VEVENT
BEGIN:VEVENT
DTSTART;TZID=America/Winnipeg:20260115T130000
DTEND;TZID=America/Winnipeg:20260115T153000
DTSTAMP:20260420T204131
CREATED:20240924T140605Z
LAST-MODIFIED:20260330T135707Z
UID:10006433-1768482000-1768491000@ninecircles.ca
SUMMARY:Beading Group
DESCRIPTION:Led by Cultural Support Worker Kayleen Kaduchuk\, for all levels and materials provided! \nEvery Thursday from 1:00 p.m. – 4:00 p.m. in our Gathering Place \nTo attend: Drop-in\, call (204) 940-6000\, or e-mail kkaduchuk@ninecircles.ca
URL:https://ninecircles.ca/event/beading-group/2026-01-15/
LOCATION:Nine Circles Community Centre\, 705 Broadway Winnipeg\, Winnipeg\, Manitoba\, R3G 0X2\, Canada
CATEGORIES:Client Events
ATTACH;FMTTYPE=image/png:https://ninecircles.ca/wp-content/uploads/2024/09/1.png
END:VEVENT
BEGIN:VEVENT
DTSTART;TZID=America/Winnipeg:20260119T090000
DTEND;TZID=America/Winnipeg:20260119T110000
DTSTAMP:20260420T204131
CREATED:20250411T204341Z
LAST-MODIFIED:20260327T133123Z
UID:10007017-1768813200-1768820400@ninecircles.ca
SUMMARY:Mending Mondays
DESCRIPTION:Join us for Mending Mondays\, a community event where you can give your favorite clothes a new lease on life! Bring in your ripped jeans\, torn shirts\, or sweaters with snags\, and we’ll help you patch\, sew\, and mend them back to wearable condition. With hands-on guidance\, tools\, and materials provided\, you’ll learn simple techniques to keep your wardrobe looking great while reducing waste. Let’s repair\, not replace!
URL:https://ninecircles.ca/event/mending-mondays-2/2026-01-19/
LOCATION:Nine Circles Community Centre\, 705 Broadway Winnipeg\, Winnipeg\, Manitoba\, R3G 0X2\, Canada
CATEGORIES:Announcements,Client Events
END:VEVENT
BEGIN:VEVENT
DTSTART;TZID=America/Winnipeg:20260121T130000
DTEND;TZID=America/Winnipeg:20260121T153000
DTSTAMP:20260420T204131
CREATED:20251202T194607Z
LAST-MODIFIED:20260330T135633Z
UID:10007375-1769000400-1769009400@ninecircles.ca
SUMMARY:Sewing Class
DESCRIPTION:Learn to sew Wednesdays from 1:00 p.m. to 3:00 p.m. Bring in a project or learn the basics of sewing\, quilting\, sewing machines\, and appliques. All materials and instruction provided. All ages. Open to community members that access the Pit Stop or Nine Circles clinic clients.
URL:https://ninecircles.ca/event/sewing-class-2/2026-01-21/
LOCATION:Nine Circles Community Centre\, 705 Broadway Winnipeg\, Winnipeg\, Manitoba\, R3G 0X2\, Canada
CATEGORIES:Client Events
END:VEVENT
BEGIN:VEVENT
DTSTART;TZID=America/Winnipeg:20260122T130000
DTEND;TZID=America/Winnipeg:20260122T153000
DTSTAMP:20260420T204131
CREATED:20240924T140605Z
LAST-MODIFIED:20260330T135707Z
UID:10006434-1769086800-1769095800@ninecircles.ca
SUMMARY:Beading Group
DESCRIPTION:Led by Cultural Support Worker Kayleen Kaduchuk\, for all levels and materials provided! \nEvery Thursday from 1:00 p.m. – 4:00 p.m. in our Gathering Place \nTo attend: Drop-in\, call (204) 940-6000\, or e-mail kkaduchuk@ninecircles.ca
URL:https://ninecircles.ca/event/beading-group/2026-01-22/
LOCATION:Nine Circles Community Centre\, 705 Broadway Winnipeg\, Winnipeg\, Manitoba\, R3G 0X2\, Canada
CATEGORIES:Client Events
ATTACH;FMTTYPE=image/png:https://ninecircles.ca/wp-content/uploads/2024/09/1.png
END:VEVENT
END:VCALENDAR