BEGIN:VCALENDAR
VERSION:2.0
PRODID:-//Nine Circles Community Health Centre - ECPv6.15.18//NONSGML v1.0//EN
CALSCALE:GREGORIAN
METHOD:PUBLISH
X-ORIGINAL-URL:https://ninecircles.ca
X-WR-CALDESC:Events for Nine Circles Community Health Centre
REFRESH-INTERVAL;VALUE=DURATION:PT1H
X-Robots-Tag:noindex
X-PUBLISHED-TTL:PT1H
BEGIN:VTIMEZONE
TZID:America/Winnipeg
BEGIN:DAYLIGHT
TZOFFSETFROM:-0600
TZOFFSETTO:-0500
TZNAME:CDT
DTSTART:20250309T080000
END:DAYLIGHT
BEGIN:STANDARD
TZOFFSETFROM:-0500
TZOFFSETTO:-0600
TZNAME:CST
DTSTART:20251102T070000
END:STANDARD
BEGIN:DAYLIGHT
TZOFFSETFROM:-0600
TZOFFSETTO:-0500
TZNAME:CDT
DTSTART:20260308T080000
END:DAYLIGHT
BEGIN:STANDARD
TZOFFSETFROM:-0500
TZOFFSETTO:-0600
TZNAME:CST
DTSTART:20261101T070000
END:STANDARD
BEGIN:DAYLIGHT
TZOFFSETFROM:-0600
TZOFFSETTO:-0500
TZNAME:CDT
DTSTART:20270314T080000
END:DAYLIGHT
BEGIN:STANDARD
TZOFFSETFROM:-0500
TZOFFSETTO:-0600
TZNAME:CST
DTSTART:20271107T070000
END:STANDARD
END:VTIMEZONE
BEGIN:VEVENT
DTSTART;TZID=America/Winnipeg:20260722T130000
DTEND;TZID=America/Winnipeg:20260722T153000
DTSTAMP:20260419T194529
CREATED:20251202T194607Z
LAST-MODIFIED:20260330T135633Z
UID:10007401-1784725200-1784734200@ninecircles.ca
SUMMARY:Sewing Class
DESCRIPTION:Learn to sew Wednesdays from 1:00 p.m. to 3:00 p.m. Bring in a project or learn the basics of sewing\, quilting\, sewing machines\, and appliques. All materials and instruction provided. All ages. Open to community members that access the Pit Stop or Nine Circles clinic clients.
URL:https://ninecircles.ca/event/sewing-class-2/2026-07-22/
LOCATION:Nine Circles Community Centre\, 705 Broadway Winnipeg\, Winnipeg\, Manitoba\, R3G 0X2\, Canada
CATEGORIES:Client Events
END:VEVENT
BEGIN:VEVENT
DTSTART;TZID=America/Winnipeg:20260723T130000
DTEND;TZID=America/Winnipeg:20260723T153000
DTSTAMP:20260419T194529
CREATED:20240924T140605Z
LAST-MODIFIED:20260330T135707Z
UID:10006460-1784811600-1784820600@ninecircles.ca
SUMMARY:Beading Group
DESCRIPTION:Led by Cultural Support Worker Kayleen Kaduchuk\, for all levels and materials provided! \nEvery Thursday from 1:00 p.m. – 4:00 p.m. in our Gathering Place \nTo attend: Drop-in\, call (204) 940-6000\, or e-mail kkaduchuk@ninecircles.ca
URL:https://ninecircles.ca/event/beading-group/2026-07-23/
LOCATION:Nine Circles Community Centre\, 705 Broadway Winnipeg\, Winnipeg\, Manitoba\, R3G 0X2\, Canada
CATEGORIES:Client Events
ATTACH;FMTTYPE=image/png:https://ninecircles.ca/wp-content/uploads/2024/09/1.png
END:VEVENT
BEGIN:VEVENT
DTSTART;TZID=America/Winnipeg:20260727T090000
DTEND;TZID=America/Winnipeg:20260727T110000
DTSTAMP:20260419T194529
CREATED:20250411T204341Z
LAST-MODIFIED:20260327T133123Z
UID:10007814-1785142800-1785150000@ninecircles.ca
SUMMARY:Mending Mondays
DESCRIPTION:Join us for Mending Mondays\, a community event where you can give your favorite clothes a new lease on life! Bring in your ripped jeans\, torn shirts\, or sweaters with snags\, and we’ll help you patch\, sew\, and mend them back to wearable condition. With hands-on guidance\, tools\, and materials provided\, you’ll learn simple techniques to keep your wardrobe looking great while reducing waste. Let’s repair\, not replace!
URL:https://ninecircles.ca/event/mending-mondays-2/2026-07-27/
LOCATION:Nine Circles Community Centre\, 705 Broadway Winnipeg\, Winnipeg\, Manitoba\, R3G 0X2\, Canada
CATEGORIES:Announcements,Client Events
END:VEVENT
BEGIN:VEVENT
DTSTART;TZID=America/Winnipeg:20260729T130000
DTEND;TZID=America/Winnipeg:20260729T153000
DTSTAMP:20260419T194529
CREATED:20251202T194607Z
LAST-MODIFIED:20260330T135633Z
UID:10007402-1785330000-1785339000@ninecircles.ca
SUMMARY:Sewing Class
DESCRIPTION:Learn to sew Wednesdays from 1:00 p.m. to 3:00 p.m. Bring in a project or learn the basics of sewing\, quilting\, sewing machines\, and appliques. All materials and instruction provided. All ages. Open to community members that access the Pit Stop or Nine Circles clinic clients.
URL:https://ninecircles.ca/event/sewing-class-2/2026-07-29/
LOCATION:Nine Circles Community Centre\, 705 Broadway Winnipeg\, Winnipeg\, Manitoba\, R3G 0X2\, Canada
CATEGORIES:Client Events
END:VEVENT
BEGIN:VEVENT
DTSTART;TZID=America/Winnipeg:20260730T130000
DTEND;TZID=America/Winnipeg:20260730T153000
DTSTAMP:20260419T194529
CREATED:20240924T140605Z
LAST-MODIFIED:20260330T135707Z
UID:10006461-1785416400-1785425400@ninecircles.ca
SUMMARY:Beading Group
DESCRIPTION:Led by Cultural Support Worker Kayleen Kaduchuk\, for all levels and materials provided! \nEvery Thursday from 1:00 p.m. – 4:00 p.m. in our Gathering Place \nTo attend: Drop-in\, call (204) 940-6000\, or e-mail kkaduchuk@ninecircles.ca
URL:https://ninecircles.ca/event/beading-group/2026-07-30/
LOCATION:Nine Circles Community Centre\, 705 Broadway Winnipeg\, Winnipeg\, Manitoba\, R3G 0X2\, Canada
CATEGORIES:Client Events
ATTACH;FMTTYPE=image/png:https://ninecircles.ca/wp-content/uploads/2024/09/1.png
END:VEVENT
BEGIN:VEVENT
DTSTART;TZID=America/Winnipeg:20260803T090000
DTEND;TZID=America/Winnipeg:20260803T110000
DTSTAMP:20260419T194529
CREATED:20250411T204341Z
LAST-MODIFIED:20260327T133123Z
UID:10007815-1785747600-1785754800@ninecircles.ca
SUMMARY:Mending Mondays
DESCRIPTION:Join us for Mending Mondays\, a community event where you can give your favorite clothes a new lease on life! Bring in your ripped jeans\, torn shirts\, or sweaters with snags\, and we’ll help you patch\, sew\, and mend them back to wearable condition. With hands-on guidance\, tools\, and materials provided\, you’ll learn simple techniques to keep your wardrobe looking great while reducing waste. Let’s repair\, not replace!
URL:https://ninecircles.ca/event/mending-mondays-2/2026-08-03/
LOCATION:Nine Circles Community Centre\, 705 Broadway Winnipeg\, Winnipeg\, Manitoba\, R3G 0X2\, Canada
CATEGORIES:Announcements,Client Events
END:VEVENT
BEGIN:VEVENT
DTSTART;TZID=America/Winnipeg:20260805T130000
DTEND;TZID=America/Winnipeg:20260805T153000
DTSTAMP:20260419T194529
CREATED:20251202T194607Z
LAST-MODIFIED:20260330T135633Z
UID:10007403-1785934800-1785943800@ninecircles.ca
SUMMARY:Sewing Class
DESCRIPTION:Learn to sew Wednesdays from 1:00 p.m. to 3:00 p.m. Bring in a project or learn the basics of sewing\, quilting\, sewing machines\, and appliques. All materials and instruction provided. All ages. Open to community members that access the Pit Stop or Nine Circles clinic clients.
URL:https://ninecircles.ca/event/sewing-class-2/2026-08-05/
LOCATION:Nine Circles Community Centre\, 705 Broadway Winnipeg\, Winnipeg\, Manitoba\, R3G 0X2\, Canada
CATEGORIES:Client Events
END:VEVENT
BEGIN:VEVENT
DTSTART;TZID=America/Winnipeg:20260806T130000
DTEND;TZID=America/Winnipeg:20260806T153000
DTSTAMP:20260419T194529
CREATED:20240924T140605Z
LAST-MODIFIED:20260330T135707Z
UID:10006462-1786021200-1786030200@ninecircles.ca
SUMMARY:Beading Group
DESCRIPTION:Led by Cultural Support Worker Kayleen Kaduchuk\, for all levels and materials provided! \nEvery Thursday from 1:00 p.m. – 4:00 p.m. in our Gathering Place \nTo attend: Drop-in\, call (204) 940-6000\, or e-mail kkaduchuk@ninecircles.ca
URL:https://ninecircles.ca/event/beading-group/2026-08-06/
LOCATION:Nine Circles Community Centre\, 705 Broadway Winnipeg\, Winnipeg\, Manitoba\, R3G 0X2\, Canada
CATEGORIES:Client Events
ATTACH;FMTTYPE=image/png:https://ninecircles.ca/wp-content/uploads/2024/09/1.png
END:VEVENT
BEGIN:VEVENT
DTSTART;TZID=America/Winnipeg:20260810T090000
DTEND;TZID=America/Winnipeg:20260810T110000
DTSTAMP:20260419T194529
CREATED:20250411T204341Z
LAST-MODIFIED:20260327T133123Z
UID:10007816-1786352400-1786359600@ninecircles.ca
SUMMARY:Mending Mondays
DESCRIPTION:Join us for Mending Mondays\, a community event where you can give your favorite clothes a new lease on life! Bring in your ripped jeans\, torn shirts\, or sweaters with snags\, and we’ll help you patch\, sew\, and mend them back to wearable condition. With hands-on guidance\, tools\, and materials provided\, you’ll learn simple techniques to keep your wardrobe looking great while reducing waste. Let’s repair\, not replace!
URL:https://ninecircles.ca/event/mending-mondays-2/2026-08-10/
LOCATION:Nine Circles Community Centre\, 705 Broadway Winnipeg\, Winnipeg\, Manitoba\, R3G 0X2\, Canada
CATEGORIES:Announcements,Client Events
END:VEVENT
BEGIN:VEVENT
DTSTART;TZID=America/Winnipeg:20260812T130000
DTEND;TZID=America/Winnipeg:20260812T140000
DTSTAMP:20260419T194529
CREATED:20251125T164421Z
LAST-MODIFIED:20260122T154627Z
UID:10007652-1786539600-1786543200@ninecircles.ca
SUMMARY:Pipe Ceremony
DESCRIPTION:Join us for a monthly Pipe Ceremony from 1-2pm every second Wednesday of the month!\nFor information about this or all other Indigenous Cultural Programming\, contact Kayleen Kaduchuk at (204) 940-6000 or e-mail KKaduchuk@ninecircles.ca
URL:https://ninecircles.ca/event/pipe-ceremony/2026-08-12/
LOCATION:Nine Circles Community Centre\, 705 Broadway Winnipeg\, Winnipeg\, Manitoba\, R3G 0X2\, Canada
CATEGORIES:Client Events
ATTACH;FMTTYPE=image/jpeg:https://ninecircles.ca/wp-content/uploads/2025/11/Monthly-Pipe-Ceremony-Poster-2026.jpg
END:VEVENT
BEGIN:VEVENT
DTSTART;TZID=America/Winnipeg:20260812T130000
DTEND;TZID=America/Winnipeg:20260812T153000
DTSTAMP:20260419T194529
CREATED:20251202T194607Z
LAST-MODIFIED:20260330T135633Z
UID:10007404-1786539600-1786548600@ninecircles.ca
SUMMARY:Sewing Class
DESCRIPTION:Learn to sew Wednesdays from 1:00 p.m. to 3:00 p.m. Bring in a project or learn the basics of sewing\, quilting\, sewing machines\, and appliques. All materials and instruction provided. All ages. Open to community members that access the Pit Stop or Nine Circles clinic clients.
URL:https://ninecircles.ca/event/sewing-class-2/2026-08-12/
LOCATION:Nine Circles Community Centre\, 705 Broadway Winnipeg\, Winnipeg\, Manitoba\, R3G 0X2\, Canada
CATEGORIES:Client Events
END:VEVENT
BEGIN:VEVENT
DTSTART;TZID=America/Winnipeg:20260813T130000
DTEND;TZID=America/Winnipeg:20260813T153000
DTSTAMP:20260419T194529
CREATED:20240924T140605Z
LAST-MODIFIED:20260330T135707Z
UID:10006463-1786626000-1786635000@ninecircles.ca
SUMMARY:Beading Group
DESCRIPTION:Led by Cultural Support Worker Kayleen Kaduchuk\, for all levels and materials provided! \nEvery Thursday from 1:00 p.m. – 4:00 p.m. in our Gathering Place \nTo attend: Drop-in\, call (204) 940-6000\, or e-mail kkaduchuk@ninecircles.ca
URL:https://ninecircles.ca/event/beading-group/2026-08-13/
LOCATION:Nine Circles Community Centre\, 705 Broadway Winnipeg\, Winnipeg\, Manitoba\, R3G 0X2\, Canada
CATEGORIES:Client Events
ATTACH;FMTTYPE=image/png:https://ninecircles.ca/wp-content/uploads/2024/09/1.png
END:VEVENT
BEGIN:VEVENT
DTSTART;TZID=America/Winnipeg:20260817T090000
DTEND;TZID=America/Winnipeg:20260817T110000
DTSTAMP:20260419T194529
CREATED:20250411T204341Z
LAST-MODIFIED:20260327T133123Z
UID:10007817-1786957200-1786964400@ninecircles.ca
SUMMARY:Mending Mondays
DESCRIPTION:Join us for Mending Mondays\, a community event where you can give your favorite clothes a new lease on life! Bring in your ripped jeans\, torn shirts\, or sweaters with snags\, and we’ll help you patch\, sew\, and mend them back to wearable condition. With hands-on guidance\, tools\, and materials provided\, you’ll learn simple techniques to keep your wardrobe looking great while reducing waste. Let’s repair\, not replace!
URL:https://ninecircles.ca/event/mending-mondays-2/2026-08-17/
LOCATION:Nine Circles Community Centre\, 705 Broadway Winnipeg\, Winnipeg\, Manitoba\, R3G 0X2\, Canada
CATEGORIES:Announcements,Client Events
END:VEVENT
BEGIN:VEVENT
DTSTART;TZID=America/Winnipeg:20260819T130000
DTEND;TZID=America/Winnipeg:20260819T153000
DTSTAMP:20260419T194529
CREATED:20251202T194607Z
LAST-MODIFIED:20260330T135633Z
UID:10007405-1787144400-1787153400@ninecircles.ca
SUMMARY:Sewing Class
DESCRIPTION:Learn to sew Wednesdays from 1:00 p.m. to 3:00 p.m. Bring in a project or learn the basics of sewing\, quilting\, sewing machines\, and appliques. All materials and instruction provided. All ages. Open to community members that access the Pit Stop or Nine Circles clinic clients.
URL:https://ninecircles.ca/event/sewing-class-2/2026-08-19/
LOCATION:Nine Circles Community Centre\, 705 Broadway Winnipeg\, Winnipeg\, Manitoba\, R3G 0X2\, Canada
CATEGORIES:Client Events
END:VEVENT
BEGIN:VEVENT
DTSTART;TZID=America/Winnipeg:20260820T130000
DTEND;TZID=America/Winnipeg:20260820T153000
DTSTAMP:20260419T194529
CREATED:20240924T140605Z
LAST-MODIFIED:20260330T135707Z
UID:10006464-1787230800-1787239800@ninecircles.ca
SUMMARY:Beading Group
DESCRIPTION:Led by Cultural Support Worker Kayleen Kaduchuk\, for all levels and materials provided! \nEvery Thursday from 1:00 p.m. – 4:00 p.m. in our Gathering Place \nTo attend: Drop-in\, call (204) 940-6000\, or e-mail kkaduchuk@ninecircles.ca
URL:https://ninecircles.ca/event/beading-group/2026-08-20/
LOCATION:Nine Circles Community Centre\, 705 Broadway Winnipeg\, Winnipeg\, Manitoba\, R3G 0X2\, Canada
CATEGORIES:Client Events
ATTACH;FMTTYPE=image/png:https://ninecircles.ca/wp-content/uploads/2024/09/1.png
END:VEVENT
BEGIN:VEVENT
DTSTART;TZID=America/Winnipeg:20260824T090000
DTEND;TZID=America/Winnipeg:20260824T110000
DTSTAMP:20260419T194529
CREATED:20250411T204341Z
LAST-MODIFIED:20260327T133123Z
UID:10007818-1787562000-1787569200@ninecircles.ca
SUMMARY:Mending Mondays
DESCRIPTION:Join us for Mending Mondays\, a community event where you can give your favorite clothes a new lease on life! Bring in your ripped jeans\, torn shirts\, or sweaters with snags\, and we’ll help you patch\, sew\, and mend them back to wearable condition. With hands-on guidance\, tools\, and materials provided\, you’ll learn simple techniques to keep your wardrobe looking great while reducing waste. Let’s repair\, not replace!
URL:https://ninecircles.ca/event/mending-mondays-2/2026-08-24/
LOCATION:Nine Circles Community Centre\, 705 Broadway Winnipeg\, Winnipeg\, Manitoba\, R3G 0X2\, Canada
CATEGORIES:Announcements,Client Events
END:VEVENT
BEGIN:VEVENT
DTSTART;TZID=America/Winnipeg:20260826T130000
DTEND;TZID=America/Winnipeg:20260826T153000
DTSTAMP:20260419T194529
CREATED:20251202T194607Z
LAST-MODIFIED:20260330T135633Z
UID:10007406-1787749200-1787758200@ninecircles.ca
SUMMARY:Sewing Class
DESCRIPTION:Learn to sew Wednesdays from 1:00 p.m. to 3:00 p.m. Bring in a project or learn the basics of sewing\, quilting\, sewing machines\, and appliques. All materials and instruction provided. All ages. Open to community members that access the Pit Stop or Nine Circles clinic clients.
URL:https://ninecircles.ca/event/sewing-class-2/2026-08-26/
LOCATION:Nine Circles Community Centre\, 705 Broadway Winnipeg\, Winnipeg\, Manitoba\, R3G 0X2\, Canada
CATEGORIES:Client Events
END:VEVENT
BEGIN:VEVENT
DTSTART;TZID=America/Winnipeg:20260827T130000
DTEND;TZID=America/Winnipeg:20260827T153000
DTSTAMP:20260419T194529
CREATED:20240924T140605Z
LAST-MODIFIED:20260330T135707Z
UID:10006465-1787835600-1787844600@ninecircles.ca
SUMMARY:Beading Group
DESCRIPTION:Led by Cultural Support Worker Kayleen Kaduchuk\, for all levels and materials provided! \nEvery Thursday from 1:00 p.m. – 4:00 p.m. in our Gathering Place \nTo attend: Drop-in\, call (204) 940-6000\, or e-mail kkaduchuk@ninecircles.ca
URL:https://ninecircles.ca/event/beading-group/2026-08-27/
LOCATION:Nine Circles Community Centre\, 705 Broadway Winnipeg\, Winnipeg\, Manitoba\, R3G 0X2\, Canada
CATEGORIES:Client Events
ATTACH;FMTTYPE=image/png:https://ninecircles.ca/wp-content/uploads/2024/09/1.png
END:VEVENT
BEGIN:VEVENT
DTSTART;TZID=America/Winnipeg:20260831T090000
DTEND;TZID=America/Winnipeg:20260831T110000
DTSTAMP:20260419T194529
CREATED:20250411T204341Z
LAST-MODIFIED:20260327T133123Z
UID:10007819-1788166800-1788174000@ninecircles.ca
SUMMARY:Mending Mondays
DESCRIPTION:Join us for Mending Mondays\, a community event where you can give your favorite clothes a new lease on life! Bring in your ripped jeans\, torn shirts\, or sweaters with snags\, and we’ll help you patch\, sew\, and mend them back to wearable condition. With hands-on guidance\, tools\, and materials provided\, you’ll learn simple techniques to keep your wardrobe looking great while reducing waste. Let’s repair\, not replace!
URL:https://ninecircles.ca/event/mending-mondays-2/2026-08-31/
LOCATION:Nine Circles Community Centre\, 705 Broadway Winnipeg\, Winnipeg\, Manitoba\, R3G 0X2\, Canada
CATEGORIES:Announcements,Client Events
END:VEVENT
BEGIN:VEVENT
DTSTART;TZID=America/Winnipeg:20260902T130000
DTEND;TZID=America/Winnipeg:20260902T153000
DTSTAMP:20260419T194529
CREATED:20251202T194607Z
LAST-MODIFIED:20260330T135633Z
UID:10007407-1788354000-1788363000@ninecircles.ca
SUMMARY:Sewing Class
DESCRIPTION:Learn to sew Wednesdays from 1:00 p.m. to 3:00 p.m. Bring in a project or learn the basics of sewing\, quilting\, sewing machines\, and appliques. All materials and instruction provided. All ages. Open to community members that access the Pit Stop or Nine Circles clinic clients.
URL:https://ninecircles.ca/event/sewing-class-2/2026-09-02/
LOCATION:Nine Circles Community Centre\, 705 Broadway Winnipeg\, Winnipeg\, Manitoba\, R3G 0X2\, Canada
CATEGORIES:Client Events
END:VEVENT
BEGIN:VEVENT
DTSTART;TZID=America/Winnipeg:20260903T130000
DTEND;TZID=America/Winnipeg:20260903T153000
DTSTAMP:20260419T194529
CREATED:20240924T140605Z
LAST-MODIFIED:20260330T135707Z
UID:10006466-1788440400-1788449400@ninecircles.ca
SUMMARY:Beading Group
DESCRIPTION:Led by Cultural Support Worker Kayleen Kaduchuk\, for all levels and materials provided! \nEvery Thursday from 1:00 p.m. – 4:00 p.m. in our Gathering Place \nTo attend: Drop-in\, call (204) 940-6000\, or e-mail kkaduchuk@ninecircles.ca
URL:https://ninecircles.ca/event/beading-group/2026-09-03/
LOCATION:Nine Circles Community Centre\, 705 Broadway Winnipeg\, Winnipeg\, Manitoba\, R3G 0X2\, Canada
CATEGORIES:Client Events
ATTACH;FMTTYPE=image/png:https://ninecircles.ca/wp-content/uploads/2024/09/1.png
END:VEVENT
BEGIN:VEVENT
DTSTART;TZID=America/Winnipeg:20260907T090000
DTEND;TZID=America/Winnipeg:20260907T110000
DTSTAMP:20260419T194529
CREATED:20250411T204341Z
LAST-MODIFIED:20260327T133123Z
UID:10007820-1788771600-1788778800@ninecircles.ca
SUMMARY:Mending Mondays
DESCRIPTION:Join us for Mending Mondays\, a community event where you can give your favorite clothes a new lease on life! Bring in your ripped jeans\, torn shirts\, or sweaters with snags\, and we’ll help you patch\, sew\, and mend them back to wearable condition. With hands-on guidance\, tools\, and materials provided\, you’ll learn simple techniques to keep your wardrobe looking great while reducing waste. Let’s repair\, not replace!
URL:https://ninecircles.ca/event/mending-mondays-2/2026-09-07/
LOCATION:Nine Circles Community Centre\, 705 Broadway Winnipeg\, Winnipeg\, Manitoba\, R3G 0X2\, Canada
CATEGORIES:Announcements,Client Events
END:VEVENT
BEGIN:VEVENT
DTSTART;TZID=America/Winnipeg:20260909T130000
DTEND;TZID=America/Winnipeg:20260909T140000
DTSTAMP:20260419T194529
CREATED:20251125T164421Z
LAST-MODIFIED:20260122T154627Z
UID:10007653-1788958800-1788962400@ninecircles.ca
SUMMARY:Pipe Ceremony
DESCRIPTION:Join us for a monthly Pipe Ceremony from 1-2pm every second Wednesday of the month!\nFor information about this or all other Indigenous Cultural Programming\, contact Kayleen Kaduchuk at (204) 940-6000 or e-mail KKaduchuk@ninecircles.ca
URL:https://ninecircles.ca/event/pipe-ceremony/2026-09-09/
LOCATION:Nine Circles Community Centre\, 705 Broadway Winnipeg\, Winnipeg\, Manitoba\, R3G 0X2\, Canada
CATEGORIES:Client Events
ATTACH;FMTTYPE=image/jpeg:https://ninecircles.ca/wp-content/uploads/2025/11/Monthly-Pipe-Ceremony-Poster-2026.jpg
END:VEVENT
BEGIN:VEVENT
DTSTART;TZID=America/Winnipeg:20260909T130000
DTEND;TZID=America/Winnipeg:20260909T153000
DTSTAMP:20260419T194529
CREATED:20251202T194607Z
LAST-MODIFIED:20260330T135633Z
UID:10007408-1788958800-1788967800@ninecircles.ca
SUMMARY:Sewing Class
DESCRIPTION:Learn to sew Wednesdays from 1:00 p.m. to 3:00 p.m. Bring in a project or learn the basics of sewing\, quilting\, sewing machines\, and appliques. All materials and instruction provided. All ages. Open to community members that access the Pit Stop or Nine Circles clinic clients.
URL:https://ninecircles.ca/event/sewing-class-2/2026-09-09/
LOCATION:Nine Circles Community Centre\, 705 Broadway Winnipeg\, Winnipeg\, Manitoba\, R3G 0X2\, Canada
CATEGORIES:Client Events
END:VEVENT
BEGIN:VEVENT
DTSTART;TZID=America/Winnipeg:20260910T130000
DTEND;TZID=America/Winnipeg:20260910T153000
DTSTAMP:20260419T194529
CREATED:20240924T140605Z
LAST-MODIFIED:20260330T135707Z
UID:10006467-1789045200-1789054200@ninecircles.ca
SUMMARY:Beading Group
DESCRIPTION:Led by Cultural Support Worker Kayleen Kaduchuk\, for all levels and materials provided! \nEvery Thursday from 1:00 p.m. – 4:00 p.m. in our Gathering Place \nTo attend: Drop-in\, call (204) 940-6000\, or e-mail kkaduchuk@ninecircles.ca
URL:https://ninecircles.ca/event/beading-group/2026-09-10/
LOCATION:Nine Circles Community Centre\, 705 Broadway Winnipeg\, Winnipeg\, Manitoba\, R3G 0X2\, Canada
CATEGORIES:Client Events
ATTACH;FMTTYPE=image/png:https://ninecircles.ca/wp-content/uploads/2024/09/1.png
END:VEVENT
BEGIN:VEVENT
DTSTART;TZID=America/Winnipeg:20260914T090000
DTEND;TZID=America/Winnipeg:20260914T110000
DTSTAMP:20260419T194529
CREATED:20250411T204341Z
LAST-MODIFIED:20260327T133123Z
UID:10007821-1789376400-1789383600@ninecircles.ca
SUMMARY:Mending Mondays
DESCRIPTION:Join us for Mending Mondays\, a community event where you can give your favorite clothes a new lease on life! Bring in your ripped jeans\, torn shirts\, or sweaters with snags\, and we’ll help you patch\, sew\, and mend them back to wearable condition. With hands-on guidance\, tools\, and materials provided\, you’ll learn simple techniques to keep your wardrobe looking great while reducing waste. Let’s repair\, not replace!
URL:https://ninecircles.ca/event/mending-mondays-2/2026-09-14/
LOCATION:Nine Circles Community Centre\, 705 Broadway Winnipeg\, Winnipeg\, Manitoba\, R3G 0X2\, Canada
CATEGORIES:Announcements,Client Events
END:VEVENT
BEGIN:VEVENT
DTSTART;TZID=America/Winnipeg:20260916T130000
DTEND;TZID=America/Winnipeg:20260916T153000
DTSTAMP:20260419T194529
CREATED:20251202T194607Z
LAST-MODIFIED:20260330T135633Z
UID:10007409-1789563600-1789572600@ninecircles.ca
SUMMARY:Sewing Class
DESCRIPTION:Learn to sew Wednesdays from 1:00 p.m. to 3:00 p.m. Bring in a project or learn the basics of sewing\, quilting\, sewing machines\, and appliques. All materials and instruction provided. All ages. Open to community members that access the Pit Stop or Nine Circles clinic clients.
URL:https://ninecircles.ca/event/sewing-class-2/2026-09-16/
LOCATION:Nine Circles Community Centre\, 705 Broadway Winnipeg\, Winnipeg\, Manitoba\, R3G 0X2\, Canada
CATEGORIES:Client Events
END:VEVENT
BEGIN:VEVENT
DTSTART;TZID=America/Winnipeg:20260917T130000
DTEND;TZID=America/Winnipeg:20260917T153000
DTSTAMP:20260419T194529
CREATED:20240924T140605Z
LAST-MODIFIED:20260330T135707Z
UID:10006468-1789650000-1789659000@ninecircles.ca
SUMMARY:Beading Group
DESCRIPTION:Led by Cultural Support Worker Kayleen Kaduchuk\, for all levels and materials provided! \nEvery Thursday from 1:00 p.m. – 4:00 p.m. in our Gathering Place \nTo attend: Drop-in\, call (204) 940-6000\, or e-mail kkaduchuk@ninecircles.ca
URL:https://ninecircles.ca/event/beading-group/2026-09-17/
LOCATION:Nine Circles Community Centre\, 705 Broadway Winnipeg\, Winnipeg\, Manitoba\, R3G 0X2\, Canada
CATEGORIES:Client Events
ATTACH;FMTTYPE=image/png:https://ninecircles.ca/wp-content/uploads/2024/09/1.png
END:VEVENT
BEGIN:VEVENT
DTSTART;TZID=America/Winnipeg:20260921T090000
DTEND;TZID=America/Winnipeg:20260921T110000
DTSTAMP:20260419T194529
CREATED:20250411T204341Z
LAST-MODIFIED:20260327T133123Z
UID:10007822-1789981200-1789988400@ninecircles.ca
SUMMARY:Mending Mondays
DESCRIPTION:Join us for Mending Mondays\, a community event where you can give your favorite clothes a new lease on life! Bring in your ripped jeans\, torn shirts\, or sweaters with snags\, and we’ll help you patch\, sew\, and mend them back to wearable condition. With hands-on guidance\, tools\, and materials provided\, you’ll learn simple techniques to keep your wardrobe looking great while reducing waste. Let’s repair\, not replace!
URL:https://ninecircles.ca/event/mending-mondays-2/2026-09-21/
LOCATION:Nine Circles Community Centre\, 705 Broadway Winnipeg\, Winnipeg\, Manitoba\, R3G 0X2\, Canada
CATEGORIES:Announcements,Client Events
END:VEVENT
BEGIN:VEVENT
DTSTART;TZID=America/Winnipeg:20260923T130000
DTEND;TZID=America/Winnipeg:20260923T153000
DTSTAMP:20260419T194529
CREATED:20251202T194607Z
LAST-MODIFIED:20260330T135633Z
UID:10007410-1790168400-1790177400@ninecircles.ca
SUMMARY:Sewing Class
DESCRIPTION:Learn to sew Wednesdays from 1:00 p.m. to 3:00 p.m. Bring in a project or learn the basics of sewing\, quilting\, sewing machines\, and appliques. All materials and instruction provided. All ages. Open to community members that access the Pit Stop or Nine Circles clinic clients.
URL:https://ninecircles.ca/event/sewing-class-2/2026-09-23/
LOCATION:Nine Circles Community Centre\, 705 Broadway Winnipeg\, Winnipeg\, Manitoba\, R3G 0X2\, Canada
CATEGORIES:Client Events
END:VEVENT
END:VCALENDAR