BEGIN:VCALENDAR
VERSION:2.0
PRODID:-//Nine Circles Community Health Centre - ECPv6.15.18//NONSGML v1.0//EN
CALSCALE:GREGORIAN
METHOD:PUBLISH
X-ORIGINAL-URL:https://ninecircles.ca
X-WR-CALDESC:Events for Nine Circles Community Health Centre
REFRESH-INTERVAL;VALUE=DURATION:PT1H
X-Robots-Tag:noindex
X-PUBLISHED-TTL:PT1H
BEGIN:VTIMEZONE
TZID:America/Winnipeg
BEGIN:DAYLIGHT
TZOFFSETFROM:-0600
TZOFFSETTO:-0500
TZNAME:CDT
DTSTART:20260308T080000
END:DAYLIGHT
BEGIN:STANDARD
TZOFFSETFROM:-0500
TZOFFSETTO:-0600
TZNAME:CST
DTSTART:20261101T070000
END:STANDARD
BEGIN:DAYLIGHT
TZOFFSETFROM:-0600
TZOFFSETTO:-0500
TZNAME:CDT
DTSTART:20270314T080000
END:DAYLIGHT
BEGIN:STANDARD
TZOFFSETFROM:-0500
TZOFFSETTO:-0600
TZNAME:CST
DTSTART:20271107T070000
END:STANDARD
BEGIN:DAYLIGHT
TZOFFSETFROM:-0600
TZOFFSETTO:-0500
TZNAME:CDT
DTSTART:20280312T080000
END:DAYLIGHT
BEGIN:STANDARD
TZOFFSETFROM:-0500
TZOFFSETTO:-0600
TZNAME:CST
DTSTART:20281105T070000
END:STANDARD
END:VTIMEZONE
BEGIN:VEVENT
DTSTART;TZID=America/Winnipeg:20270908T130000
DTEND;TZID=America/Winnipeg:20270908T153000
DTSTAMP:20260422T184523
CREATED:20251202T194607Z
LAST-MODIFIED:20260330T135633Z
UID:10007460-1820408400-1820417400@ninecircles.ca
SUMMARY:Sewing Class
DESCRIPTION:Learn to sew Wednesdays from 1:00 p.m. to 3:00 p.m. Bring in a project or learn the basics of sewing\, quilting\, sewing machines\, and appliques. All materials and instruction provided. All ages. Open to community members that access the Pit Stop or Nine Circles clinic clients.
URL:https://ninecircles.ca/event/sewing-class-2/2027-09-08/
LOCATION:Nine Circles Community Centre\, 705 Broadway Winnipeg\, Winnipeg\, Manitoba\, R3G 0X2\, Canada
CATEGORIES:Client Events
END:VEVENT
BEGIN:VEVENT
DTSTART;TZID=America/Winnipeg:20270909T130000
DTEND;TZID=America/Winnipeg:20270909T153000
DTSTAMP:20260422T184523
CREATED:20240924T140605Z
LAST-MODIFIED:20260330T135707Z
UID:10006519-1820494800-1820503800@ninecircles.ca
SUMMARY:Beading Group
DESCRIPTION:Led by Cultural Support Worker Kayleen Kaduchuk\, for all levels and materials provided! \nEvery Thursday from 1:00 p.m. – 4:00 p.m. in our Gathering Place \nTo attend: Drop-in\, call (204) 940-6000\, or e-mail kkaduchuk@ninecircles.ca
URL:https://ninecircles.ca/event/beading-group/2027-09-09/
LOCATION:Nine Circles Community Centre\, 705 Broadway Winnipeg\, Winnipeg\, Manitoba\, R3G 0X2\, Canada
CATEGORIES:Client Events
ATTACH;FMTTYPE=image/png:https://ninecircles.ca/wp-content/uploads/2024/09/1.png
END:VEVENT
BEGIN:VEVENT
DTSTART;TZID=America/Winnipeg:20270915T130000
DTEND;TZID=America/Winnipeg:20270915T153000
DTSTAMP:20260422T184523
CREATED:20251202T194607Z
LAST-MODIFIED:20260330T135633Z
UID:10007461-1821013200-1821022200@ninecircles.ca
SUMMARY:Sewing Class
DESCRIPTION:Learn to sew Wednesdays from 1:00 p.m. to 3:00 p.m. Bring in a project or learn the basics of sewing\, quilting\, sewing machines\, and appliques. All materials and instruction provided. All ages. Open to community members that access the Pit Stop or Nine Circles clinic clients.
URL:https://ninecircles.ca/event/sewing-class-2/2027-09-15/
LOCATION:Nine Circles Community Centre\, 705 Broadway Winnipeg\, Winnipeg\, Manitoba\, R3G 0X2\, Canada
CATEGORIES:Client Events
END:VEVENT
BEGIN:VEVENT
DTSTART;TZID=America/Winnipeg:20270916T130000
DTEND;TZID=America/Winnipeg:20270916T153000
DTSTAMP:20260422T184523
CREATED:20240924T140605Z
LAST-MODIFIED:20260330T135707Z
UID:10006520-1821099600-1821108600@ninecircles.ca
SUMMARY:Beading Group
DESCRIPTION:Led by Cultural Support Worker Kayleen Kaduchuk\, for all levels and materials provided! \nEvery Thursday from 1:00 p.m. – 4:00 p.m. in our Gathering Place \nTo attend: Drop-in\, call (204) 940-6000\, or e-mail kkaduchuk@ninecircles.ca
URL:https://ninecircles.ca/event/beading-group/2027-09-16/
LOCATION:Nine Circles Community Centre\, 705 Broadway Winnipeg\, Winnipeg\, Manitoba\, R3G 0X2\, Canada
CATEGORIES:Client Events
ATTACH;FMTTYPE=image/png:https://ninecircles.ca/wp-content/uploads/2024/09/1.png
END:VEVENT
BEGIN:VEVENT
DTSTART;TZID=America/Winnipeg:20270922T130000
DTEND;TZID=America/Winnipeg:20270922T153000
DTSTAMP:20260422T184523
CREATED:20251202T194607Z
LAST-MODIFIED:20260330T135633Z
UID:10007462-1821618000-1821627000@ninecircles.ca
SUMMARY:Sewing Class
DESCRIPTION:Learn to sew Wednesdays from 1:00 p.m. to 3:00 p.m. Bring in a project or learn the basics of sewing\, quilting\, sewing machines\, and appliques. All materials and instruction provided. All ages. Open to community members that access the Pit Stop or Nine Circles clinic clients.
URL:https://ninecircles.ca/event/sewing-class-2/2027-09-22/
LOCATION:Nine Circles Community Centre\, 705 Broadway Winnipeg\, Winnipeg\, Manitoba\, R3G 0X2\, Canada
CATEGORIES:Client Events
END:VEVENT
BEGIN:VEVENT
DTSTART;TZID=America/Winnipeg:20270923T130000
DTEND;TZID=America/Winnipeg:20270923T153000
DTSTAMP:20260422T184523
CREATED:20240924T140605Z
LAST-MODIFIED:20260330T135707Z
UID:10006521-1821704400-1821713400@ninecircles.ca
SUMMARY:Beading Group
DESCRIPTION:Led by Cultural Support Worker Kayleen Kaduchuk\, for all levels and materials provided! \nEvery Thursday from 1:00 p.m. – 4:00 p.m. in our Gathering Place \nTo attend: Drop-in\, call (204) 940-6000\, or e-mail kkaduchuk@ninecircles.ca
URL:https://ninecircles.ca/event/beading-group/2027-09-23/
LOCATION:Nine Circles Community Centre\, 705 Broadway Winnipeg\, Winnipeg\, Manitoba\, R3G 0X2\, Canada
CATEGORIES:Client Events
ATTACH;FMTTYPE=image/png:https://ninecircles.ca/wp-content/uploads/2024/09/1.png
END:VEVENT
BEGIN:VEVENT
DTSTART;TZID=America/Winnipeg:20270929T130000
DTEND;TZID=America/Winnipeg:20270929T153000
DTSTAMP:20260422T184523
CREATED:20251202T194607Z
LAST-MODIFIED:20260330T135633Z
UID:10007463-1822222800-1822231800@ninecircles.ca
SUMMARY:Sewing Class
DESCRIPTION:Learn to sew Wednesdays from 1:00 p.m. to 3:00 p.m. Bring in a project or learn the basics of sewing\, quilting\, sewing machines\, and appliques. All materials and instruction provided. All ages. Open to community members that access the Pit Stop or Nine Circles clinic clients.
URL:https://ninecircles.ca/event/sewing-class-2/2027-09-29/
LOCATION:Nine Circles Community Centre\, 705 Broadway Winnipeg\, Winnipeg\, Manitoba\, R3G 0X2\, Canada
CATEGORIES:Client Events
END:VEVENT
BEGIN:VEVENT
DTSTART;TZID=America/Winnipeg:20270930T130000
DTEND;TZID=America/Winnipeg:20270930T153000
DTSTAMP:20260422T184523
CREATED:20240924T140605Z
LAST-MODIFIED:20260330T135707Z
UID:10006522-1822309200-1822318200@ninecircles.ca
SUMMARY:Beading Group
DESCRIPTION:Led by Cultural Support Worker Kayleen Kaduchuk\, for all levels and materials provided! \nEvery Thursday from 1:00 p.m. – 4:00 p.m. in our Gathering Place \nTo attend: Drop-in\, call (204) 940-6000\, or e-mail kkaduchuk@ninecircles.ca
URL:https://ninecircles.ca/event/beading-group/2027-09-30/
LOCATION:Nine Circles Community Centre\, 705 Broadway Winnipeg\, Winnipeg\, Manitoba\, R3G 0X2\, Canada
CATEGORIES:Client Events
ATTACH;FMTTYPE=image/png:https://ninecircles.ca/wp-content/uploads/2024/09/1.png
END:VEVENT
BEGIN:VEVENT
DTSTART;TZID=America/Winnipeg:20271006T130000
DTEND;TZID=America/Winnipeg:20271006T153000
DTSTAMP:20260422T184523
CREATED:20251202T194607Z
LAST-MODIFIED:20260330T135633Z
UID:10007464-1822827600-1822836600@ninecircles.ca
SUMMARY:Sewing Class
DESCRIPTION:Learn to sew Wednesdays from 1:00 p.m. to 3:00 p.m. Bring in a project or learn the basics of sewing\, quilting\, sewing machines\, and appliques. All materials and instruction provided. All ages. Open to community members that access the Pit Stop or Nine Circles clinic clients.
URL:https://ninecircles.ca/event/sewing-class-2/2027-10-06/
LOCATION:Nine Circles Community Centre\, 705 Broadway Winnipeg\, Winnipeg\, Manitoba\, R3G 0X2\, Canada
CATEGORIES:Client Events
END:VEVENT
BEGIN:VEVENT
DTSTART;TZID=America/Winnipeg:20271007T130000
DTEND;TZID=America/Winnipeg:20271007T153000
DTSTAMP:20260422T184523
CREATED:20240924T140605Z
LAST-MODIFIED:20260330T135707Z
UID:10006523-1822914000-1822923000@ninecircles.ca
SUMMARY:Beading Group
DESCRIPTION:Led by Cultural Support Worker Kayleen Kaduchuk\, for all levels and materials provided! \nEvery Thursday from 1:00 p.m. – 4:00 p.m. in our Gathering Place \nTo attend: Drop-in\, call (204) 940-6000\, or e-mail kkaduchuk@ninecircles.ca
URL:https://ninecircles.ca/event/beading-group/2027-10-07/
LOCATION:Nine Circles Community Centre\, 705 Broadway Winnipeg\, Winnipeg\, Manitoba\, R3G 0X2\, Canada
CATEGORIES:Client Events
ATTACH;FMTTYPE=image/png:https://ninecircles.ca/wp-content/uploads/2024/09/1.png
END:VEVENT
BEGIN:VEVENT
DTSTART;TZID=America/Winnipeg:20271013T130000
DTEND;TZID=America/Winnipeg:20271013T140000
DTSTAMP:20260422T184523
CREATED:20251125T164421Z
LAST-MODIFIED:20260122T154627Z
UID:10007666-1823432400-1823436000@ninecircles.ca
SUMMARY:Pipe Ceremony
DESCRIPTION:Join us for a monthly Pipe Ceremony from 1-2pm every second Wednesday of the month!\nFor information about this or all other Indigenous Cultural Programming\, contact Kayleen Kaduchuk at (204) 940-6000 or e-mail KKaduchuk@ninecircles.ca
URL:https://ninecircles.ca/event/pipe-ceremony/2027-10-13/
LOCATION:Nine Circles Community Centre\, 705 Broadway Winnipeg\, Winnipeg\, Manitoba\, R3G 0X2\, Canada
CATEGORIES:Client Events
ATTACH;FMTTYPE=image/jpeg:https://ninecircles.ca/wp-content/uploads/2025/11/Monthly-Pipe-Ceremony-Poster-2026.jpg
END:VEVENT
BEGIN:VEVENT
DTSTART;TZID=America/Winnipeg:20271013T130000
DTEND;TZID=America/Winnipeg:20271013T153000
DTSTAMP:20260422T184523
CREATED:20251202T194607Z
LAST-MODIFIED:20260330T135633Z
UID:10007465-1823432400-1823441400@ninecircles.ca
SUMMARY:Sewing Class
DESCRIPTION:Learn to sew Wednesdays from 1:00 p.m. to 3:00 p.m. Bring in a project or learn the basics of sewing\, quilting\, sewing machines\, and appliques. All materials and instruction provided. All ages. Open to community members that access the Pit Stop or Nine Circles clinic clients.
URL:https://ninecircles.ca/event/sewing-class-2/2027-10-13/
LOCATION:Nine Circles Community Centre\, 705 Broadway Winnipeg\, Winnipeg\, Manitoba\, R3G 0X2\, Canada
CATEGORIES:Client Events
END:VEVENT
BEGIN:VEVENT
DTSTART;TZID=America/Winnipeg:20271014T130000
DTEND;TZID=America/Winnipeg:20271014T153000
DTSTAMP:20260422T184523
CREATED:20240924T140605Z
LAST-MODIFIED:20260330T135707Z
UID:10006524-1823518800-1823527800@ninecircles.ca
SUMMARY:Beading Group
DESCRIPTION:Led by Cultural Support Worker Kayleen Kaduchuk\, for all levels and materials provided! \nEvery Thursday from 1:00 p.m. – 4:00 p.m. in our Gathering Place \nTo attend: Drop-in\, call (204) 940-6000\, or e-mail kkaduchuk@ninecircles.ca
URL:https://ninecircles.ca/event/beading-group/2027-10-14/
LOCATION:Nine Circles Community Centre\, 705 Broadway Winnipeg\, Winnipeg\, Manitoba\, R3G 0X2\, Canada
CATEGORIES:Client Events
ATTACH;FMTTYPE=image/png:https://ninecircles.ca/wp-content/uploads/2024/09/1.png
END:VEVENT
BEGIN:VEVENT
DTSTART;TZID=America/Winnipeg:20271020T130000
DTEND;TZID=America/Winnipeg:20271020T153000
DTSTAMP:20260422T184523
CREATED:20251202T194607Z
LAST-MODIFIED:20260330T135633Z
UID:10007466-1824037200-1824046200@ninecircles.ca
SUMMARY:Sewing Class
DESCRIPTION:Learn to sew Wednesdays from 1:00 p.m. to 3:00 p.m. Bring in a project or learn the basics of sewing\, quilting\, sewing machines\, and appliques. All materials and instruction provided. All ages. Open to community members that access the Pit Stop or Nine Circles clinic clients.
URL:https://ninecircles.ca/event/sewing-class-2/2027-10-20/
LOCATION:Nine Circles Community Centre\, 705 Broadway Winnipeg\, Winnipeg\, Manitoba\, R3G 0X2\, Canada
CATEGORIES:Client Events
END:VEVENT
BEGIN:VEVENT
DTSTART;TZID=America/Winnipeg:20271021T130000
DTEND;TZID=America/Winnipeg:20271021T153000
DTSTAMP:20260422T184523
CREATED:20240924T140605Z
LAST-MODIFIED:20260330T135707Z
UID:10006525-1824123600-1824132600@ninecircles.ca
SUMMARY:Beading Group
DESCRIPTION:Led by Cultural Support Worker Kayleen Kaduchuk\, for all levels and materials provided! \nEvery Thursday from 1:00 p.m. – 4:00 p.m. in our Gathering Place \nTo attend: Drop-in\, call (204) 940-6000\, or e-mail kkaduchuk@ninecircles.ca
URL:https://ninecircles.ca/event/beading-group/2027-10-21/
LOCATION:Nine Circles Community Centre\, 705 Broadway Winnipeg\, Winnipeg\, Manitoba\, R3G 0X2\, Canada
CATEGORIES:Client Events
ATTACH;FMTTYPE=image/png:https://ninecircles.ca/wp-content/uploads/2024/09/1.png
END:VEVENT
BEGIN:VEVENT
DTSTART;TZID=America/Winnipeg:20271027T130000
DTEND;TZID=America/Winnipeg:20271027T153000
DTSTAMP:20260422T184523
CREATED:20251202T194607Z
LAST-MODIFIED:20260330T135633Z
UID:10007467-1824642000-1824651000@ninecircles.ca
SUMMARY:Sewing Class
DESCRIPTION:Learn to sew Wednesdays from 1:00 p.m. to 3:00 p.m. Bring in a project or learn the basics of sewing\, quilting\, sewing machines\, and appliques. All materials and instruction provided. All ages. Open to community members that access the Pit Stop or Nine Circles clinic clients.
URL:https://ninecircles.ca/event/sewing-class-2/2027-10-27/
LOCATION:Nine Circles Community Centre\, 705 Broadway Winnipeg\, Winnipeg\, Manitoba\, R3G 0X2\, Canada
CATEGORIES:Client Events
END:VEVENT
BEGIN:VEVENT
DTSTART;TZID=America/Winnipeg:20271028T130000
DTEND;TZID=America/Winnipeg:20271028T153000
DTSTAMP:20260422T184523
CREATED:20240924T140605Z
LAST-MODIFIED:20260330T135707Z
UID:10006526-1824728400-1824737400@ninecircles.ca
SUMMARY:Beading Group
DESCRIPTION:Led by Cultural Support Worker Kayleen Kaduchuk\, for all levels and materials provided! \nEvery Thursday from 1:00 p.m. – 4:00 p.m. in our Gathering Place \nTo attend: Drop-in\, call (204) 940-6000\, or e-mail kkaduchuk@ninecircles.ca
URL:https://ninecircles.ca/event/beading-group/2027-10-28/
LOCATION:Nine Circles Community Centre\, 705 Broadway Winnipeg\, Winnipeg\, Manitoba\, R3G 0X2\, Canada
CATEGORIES:Client Events
ATTACH;FMTTYPE=image/png:https://ninecircles.ca/wp-content/uploads/2024/09/1.png
END:VEVENT
BEGIN:VEVENT
DTSTART;TZID=America/Winnipeg:20271103T130000
DTEND;TZID=America/Winnipeg:20271103T153000
DTSTAMP:20260422T184523
CREATED:20251202T194607Z
LAST-MODIFIED:20260330T135633Z
UID:10007468-1825246800-1825255800@ninecircles.ca
SUMMARY:Sewing Class
DESCRIPTION:Learn to sew Wednesdays from 1:00 p.m. to 3:00 p.m. Bring in a project or learn the basics of sewing\, quilting\, sewing machines\, and appliques. All materials and instruction provided. All ages. Open to community members that access the Pit Stop or Nine Circles clinic clients.
URL:https://ninecircles.ca/event/sewing-class-2/2027-11-03/
LOCATION:Nine Circles Community Centre\, 705 Broadway Winnipeg\, Winnipeg\, Manitoba\, R3G 0X2\, Canada
CATEGORIES:Client Events
END:VEVENT
BEGIN:VEVENT
DTSTART;TZID=America/Winnipeg:20271104T130000
DTEND;TZID=America/Winnipeg:20271104T153000
DTSTAMP:20260422T184523
CREATED:20240924T140605Z
LAST-MODIFIED:20260330T135707Z
UID:10006527-1825333200-1825342200@ninecircles.ca
SUMMARY:Beading Group
DESCRIPTION:Led by Cultural Support Worker Kayleen Kaduchuk\, for all levels and materials provided! \nEvery Thursday from 1:00 p.m. – 4:00 p.m. in our Gathering Place \nTo attend: Drop-in\, call (204) 940-6000\, or e-mail kkaduchuk@ninecircles.ca
URL:https://ninecircles.ca/event/beading-group/2027-11-04/
LOCATION:Nine Circles Community Centre\, 705 Broadway Winnipeg\, Winnipeg\, Manitoba\, R3G 0X2\, Canada
CATEGORIES:Client Events
ATTACH;FMTTYPE=image/png:https://ninecircles.ca/wp-content/uploads/2024/09/1.png
END:VEVENT
BEGIN:VEVENT
DTSTART;TZID=America/Winnipeg:20271110T130000
DTEND;TZID=America/Winnipeg:20271110T140000
DTSTAMP:20260422T184523
CREATED:20251125T164421Z
LAST-MODIFIED:20260122T154627Z
UID:10007667-1825851600-1825855200@ninecircles.ca
SUMMARY:Pipe Ceremony
DESCRIPTION:Join us for a monthly Pipe Ceremony from 1-2pm every second Wednesday of the month!\nFor information about this or all other Indigenous Cultural Programming\, contact Kayleen Kaduchuk at (204) 940-6000 or e-mail KKaduchuk@ninecircles.ca
URL:https://ninecircles.ca/event/pipe-ceremony/2027-11-10/
LOCATION:Nine Circles Community Centre\, 705 Broadway Winnipeg\, Winnipeg\, Manitoba\, R3G 0X2\, Canada
CATEGORIES:Client Events
ATTACH;FMTTYPE=image/jpeg:https://ninecircles.ca/wp-content/uploads/2025/11/Monthly-Pipe-Ceremony-Poster-2026.jpg
END:VEVENT
BEGIN:VEVENT
DTSTART;TZID=America/Winnipeg:20271110T130000
DTEND;TZID=America/Winnipeg:20271110T153000
DTSTAMP:20260422T184523
CREATED:20251202T194607Z
LAST-MODIFIED:20260330T135633Z
UID:10007469-1825851600-1825860600@ninecircles.ca
SUMMARY:Sewing Class
DESCRIPTION:Learn to sew Wednesdays from 1:00 p.m. to 3:00 p.m. Bring in a project or learn the basics of sewing\, quilting\, sewing machines\, and appliques. All materials and instruction provided. All ages. Open to community members that access the Pit Stop or Nine Circles clinic clients.
URL:https://ninecircles.ca/event/sewing-class-2/2027-11-10/
LOCATION:Nine Circles Community Centre\, 705 Broadway Winnipeg\, Winnipeg\, Manitoba\, R3G 0X2\, Canada
CATEGORIES:Client Events
END:VEVENT
BEGIN:VEVENT
DTSTART;TZID=America/Winnipeg:20271111T130000
DTEND;TZID=America/Winnipeg:20271111T153000
DTSTAMP:20260422T184523
CREATED:20240924T140605Z
LAST-MODIFIED:20260330T135707Z
UID:10006528-1825938000-1825947000@ninecircles.ca
SUMMARY:Beading Group
DESCRIPTION:Led by Cultural Support Worker Kayleen Kaduchuk\, for all levels and materials provided! \nEvery Thursday from 1:00 p.m. – 4:00 p.m. in our Gathering Place \nTo attend: Drop-in\, call (204) 940-6000\, or e-mail kkaduchuk@ninecircles.ca
URL:https://ninecircles.ca/event/beading-group/2027-11-11/
LOCATION:Nine Circles Community Centre\, 705 Broadway Winnipeg\, Winnipeg\, Manitoba\, R3G 0X2\, Canada
CATEGORIES:Client Events
ATTACH;FMTTYPE=image/png:https://ninecircles.ca/wp-content/uploads/2024/09/1.png
END:VEVENT
BEGIN:VEVENT
DTSTART;TZID=America/Winnipeg:20271117T130000
DTEND;TZID=America/Winnipeg:20271117T153000
DTSTAMP:20260422T184523
CREATED:20251202T194607Z
LAST-MODIFIED:20260330T135633Z
UID:10007470-1826456400-1826465400@ninecircles.ca
SUMMARY:Sewing Class
DESCRIPTION:Learn to sew Wednesdays from 1:00 p.m. to 3:00 p.m. Bring in a project or learn the basics of sewing\, quilting\, sewing machines\, and appliques. All materials and instruction provided. All ages. Open to community members that access the Pit Stop or Nine Circles clinic clients.
URL:https://ninecircles.ca/event/sewing-class-2/2027-11-17/
LOCATION:Nine Circles Community Centre\, 705 Broadway Winnipeg\, Winnipeg\, Manitoba\, R3G 0X2\, Canada
CATEGORIES:Client Events
END:VEVENT
BEGIN:VEVENT
DTSTART;TZID=America/Winnipeg:20271118T130000
DTEND;TZID=America/Winnipeg:20271118T153000
DTSTAMP:20260422T184523
CREATED:20240924T140605Z
LAST-MODIFIED:20260330T135707Z
UID:10006529-1826542800-1826551800@ninecircles.ca
SUMMARY:Beading Group
DESCRIPTION:Led by Cultural Support Worker Kayleen Kaduchuk\, for all levels and materials provided! \nEvery Thursday from 1:00 p.m. – 4:00 p.m. in our Gathering Place \nTo attend: Drop-in\, call (204) 940-6000\, or e-mail kkaduchuk@ninecircles.ca
URL:https://ninecircles.ca/event/beading-group/2027-11-18/
LOCATION:Nine Circles Community Centre\, 705 Broadway Winnipeg\, Winnipeg\, Manitoba\, R3G 0X2\, Canada
CATEGORIES:Client Events
ATTACH;FMTTYPE=image/png:https://ninecircles.ca/wp-content/uploads/2024/09/1.png
END:VEVENT
BEGIN:VEVENT
DTSTART;TZID=America/Winnipeg:20271124T130000
DTEND;TZID=America/Winnipeg:20271124T153000
DTSTAMP:20260422T184523
CREATED:20251202T194607Z
LAST-MODIFIED:20260330T135633Z
UID:10007471-1827061200-1827070200@ninecircles.ca
SUMMARY:Sewing Class
DESCRIPTION:Learn to sew Wednesdays from 1:00 p.m. to 3:00 p.m. Bring in a project or learn the basics of sewing\, quilting\, sewing machines\, and appliques. All materials and instruction provided. All ages. Open to community members that access the Pit Stop or Nine Circles clinic clients.
URL:https://ninecircles.ca/event/sewing-class-2/2027-11-24/
LOCATION:Nine Circles Community Centre\, 705 Broadway Winnipeg\, Winnipeg\, Manitoba\, R3G 0X2\, Canada
CATEGORIES:Client Events
END:VEVENT
BEGIN:VEVENT
DTSTART;TZID=America/Winnipeg:20271125T130000
DTEND;TZID=America/Winnipeg:20271125T153000
DTSTAMP:20260422T184523
CREATED:20240924T140605Z
LAST-MODIFIED:20260330T135707Z
UID:10006530-1827147600-1827156600@ninecircles.ca
SUMMARY:Beading Group
DESCRIPTION:Led by Cultural Support Worker Kayleen Kaduchuk\, for all levels and materials provided! \nEvery Thursday from 1:00 p.m. – 4:00 p.m. in our Gathering Place \nTo attend: Drop-in\, call (204) 940-6000\, or e-mail kkaduchuk@ninecircles.ca
URL:https://ninecircles.ca/event/beading-group/2027-11-25/
LOCATION:Nine Circles Community Centre\, 705 Broadway Winnipeg\, Winnipeg\, Manitoba\, R3G 0X2\, Canada
CATEGORIES:Client Events
ATTACH;FMTTYPE=image/png:https://ninecircles.ca/wp-content/uploads/2024/09/1.png
END:VEVENT
BEGIN:VEVENT
DTSTART;TZID=America/Winnipeg:20271201T130000
DTEND;TZID=America/Winnipeg:20271201T153000
DTSTAMP:20260422T184523
CREATED:20251202T194607Z
LAST-MODIFIED:20260330T135633Z
UID:10007472-1827666000-1827675000@ninecircles.ca
SUMMARY:Sewing Class
DESCRIPTION:Learn to sew Wednesdays from 1:00 p.m. to 3:00 p.m. Bring in a project or learn the basics of sewing\, quilting\, sewing machines\, and appliques. All materials and instruction provided. All ages. Open to community members that access the Pit Stop or Nine Circles clinic clients.
URL:https://ninecircles.ca/event/sewing-class-2/2027-12-01/
LOCATION:Nine Circles Community Centre\, 705 Broadway Winnipeg\, Winnipeg\, Manitoba\, R3G 0X2\, Canada
CATEGORIES:Client Events
END:VEVENT
BEGIN:VEVENT
DTSTART;TZID=America/Winnipeg:20271202T130000
DTEND;TZID=America/Winnipeg:20271202T153000
DTSTAMP:20260422T184523
CREATED:20240924T140605Z
LAST-MODIFIED:20260330T135707Z
UID:10006531-1827752400-1827761400@ninecircles.ca
SUMMARY:Beading Group
DESCRIPTION:Led by Cultural Support Worker Kayleen Kaduchuk\, for all levels and materials provided! \nEvery Thursday from 1:00 p.m. – 4:00 p.m. in our Gathering Place \nTo attend: Drop-in\, call (204) 940-6000\, or e-mail kkaduchuk@ninecircles.ca
URL:https://ninecircles.ca/event/beading-group/2027-12-02/
LOCATION:Nine Circles Community Centre\, 705 Broadway Winnipeg\, Winnipeg\, Manitoba\, R3G 0X2\, Canada
CATEGORIES:Client Events
ATTACH;FMTTYPE=image/png:https://ninecircles.ca/wp-content/uploads/2024/09/1.png
END:VEVENT
BEGIN:VEVENT
DTSTART;TZID=America/Winnipeg:20271208T130000
DTEND;TZID=America/Winnipeg:20271208T140000
DTSTAMP:20260422T184523
CREATED:20251125T164421Z
LAST-MODIFIED:20260122T154627Z
UID:10007668-1828270800-1828274400@ninecircles.ca
SUMMARY:Pipe Ceremony
DESCRIPTION:Join us for a monthly Pipe Ceremony from 1-2pm every second Wednesday of the month!\nFor information about this or all other Indigenous Cultural Programming\, contact Kayleen Kaduchuk at (204) 940-6000 or e-mail KKaduchuk@ninecircles.ca
URL:https://ninecircles.ca/event/pipe-ceremony/2027-12-08/
LOCATION:Nine Circles Community Centre\, 705 Broadway Winnipeg\, Winnipeg\, Manitoba\, R3G 0X2\, Canada
CATEGORIES:Client Events
ATTACH;FMTTYPE=image/jpeg:https://ninecircles.ca/wp-content/uploads/2025/11/Monthly-Pipe-Ceremony-Poster-2026.jpg
END:VEVENT
BEGIN:VEVENT
DTSTART;TZID=America/Winnipeg:20271208T130000
DTEND;TZID=America/Winnipeg:20271208T153000
DTSTAMP:20260422T184523
CREATED:20251202T194607Z
LAST-MODIFIED:20260330T135633Z
UID:10007473-1828270800-1828279800@ninecircles.ca
SUMMARY:Sewing Class
DESCRIPTION:Learn to sew Wednesdays from 1:00 p.m. to 3:00 p.m. Bring in a project or learn the basics of sewing\, quilting\, sewing machines\, and appliques. All materials and instruction provided. All ages. Open to community members that access the Pit Stop or Nine Circles clinic clients.
URL:https://ninecircles.ca/event/sewing-class-2/2027-12-08/
LOCATION:Nine Circles Community Centre\, 705 Broadway Winnipeg\, Winnipeg\, Manitoba\, R3G 0X2\, Canada
CATEGORIES:Client Events
END:VEVENT
END:VCALENDAR