BEGIN:VCALENDAR
VERSION:2.0
PRODID:-//Nine Circles Community Health Centre - ECPv6.15.18//NONSGML v1.0//EN
CALSCALE:GREGORIAN
METHOD:PUBLISH
X-WR-CALNAME:Nine Circles Community Health Centre
X-ORIGINAL-URL:https://ninecircles.ca
X-WR-CALDESC:Events for Nine Circles Community Health Centre
REFRESH-INTERVAL;VALUE=DURATION:PT1H
X-Robots-Tag:noindex
X-PUBLISHED-TTL:PT1H
BEGIN:VTIMEZONE
TZID:America/Winnipeg
BEGIN:DAYLIGHT
TZOFFSETFROM:-0600
TZOFFSETTO:-0500
TZNAME:CDT
DTSTART:20260308T080000
END:DAYLIGHT
BEGIN:STANDARD
TZOFFSETFROM:-0500
TZOFFSETTO:-0600
TZNAME:CST
DTSTART:20261101T070000
END:STANDARD
BEGIN:DAYLIGHT
TZOFFSETFROM:-0600
TZOFFSETTO:-0500
TZNAME:CDT
DTSTART:20270314T080000
END:DAYLIGHT
BEGIN:STANDARD
TZOFFSETFROM:-0500
TZOFFSETTO:-0600
TZNAME:CST
DTSTART:20271107T070000
END:STANDARD
BEGIN:DAYLIGHT
TZOFFSETFROM:-0600
TZOFFSETTO:-0500
TZNAME:CDT
DTSTART:20280312T080000
END:DAYLIGHT
BEGIN:STANDARD
TZOFFSETFROM:-0500
TZOFFSETTO:-0600
TZNAME:CST
DTSTART:20281105T070000
END:STANDARD
END:VTIMEZONE
BEGIN:VEVENT
DTSTART;TZID=America/Winnipeg:20270303T130000
DTEND;TZID=America/Winnipeg:20270303T153000
DTSTAMP:20260422T170814
CREATED:20251202T194607Z
LAST-MODIFIED:20260330T135633Z
UID:10007433-1804078800-1804087800@ninecircles.ca
SUMMARY:Sewing Class
DESCRIPTION:Learn to sew Wednesdays from 1:00 p.m. to 3:00 p.m. Bring in a project or learn the basics of sewing\, quilting\, sewing machines\, and appliques. All materials and instruction provided. All ages. Open to community members that access the Pit Stop or Nine Circles clinic clients.
URL:https://ninecircles.ca/event/sewing-class-2/2027-03-03/
LOCATION:Nine Circles Community Centre\, 705 Broadway Winnipeg\, Winnipeg\, Manitoba\, R3G 0X2\, Canada
CATEGORIES:Client Events
END:VEVENT
BEGIN:VEVENT
DTSTART;TZID=America/Winnipeg:20270304T130000
DTEND;TZID=America/Winnipeg:20270304T153000
DTSTAMP:20260422T170814
CREATED:20240924T140605Z
LAST-MODIFIED:20260330T135707Z
UID:10006492-1804165200-1804174200@ninecircles.ca
SUMMARY:Beading Group
DESCRIPTION:Led by Cultural Support Worker Kayleen Kaduchuk\, for all levels and materials provided! \nEvery Thursday from 1:00 p.m. – 4:00 p.m. in our Gathering Place \nTo attend: Drop-in\, call (204) 940-6000\, or e-mail kkaduchuk@ninecircles.ca
URL:https://ninecircles.ca/event/beading-group/2027-03-04/
LOCATION:Nine Circles Community Centre\, 705 Broadway Winnipeg\, Winnipeg\, Manitoba\, R3G 0X2\, Canada
CATEGORIES:Client Events
ATTACH;FMTTYPE=image/png:https://ninecircles.ca/wp-content/uploads/2024/09/1.png
END:VEVENT
BEGIN:VEVENT
DTSTART;TZID=America/Winnipeg:20270310T130000
DTEND;TZID=America/Winnipeg:20270310T140000
DTSTAMP:20260422T170814
CREATED:20251125T164421Z
LAST-MODIFIED:20260122T154627Z
UID:10007659-1804683600-1804687200@ninecircles.ca
SUMMARY:Pipe Ceremony
DESCRIPTION:Join us for a monthly Pipe Ceremony from 1-2pm every second Wednesday of the month!\nFor information about this or all other Indigenous Cultural Programming\, contact Kayleen Kaduchuk at (204) 940-6000 or e-mail KKaduchuk@ninecircles.ca
URL:https://ninecircles.ca/event/pipe-ceremony/2027-03-10/
LOCATION:Nine Circles Community Centre\, 705 Broadway Winnipeg\, Winnipeg\, Manitoba\, R3G 0X2\, Canada
CATEGORIES:Client Events
ATTACH;FMTTYPE=image/jpeg:https://ninecircles.ca/wp-content/uploads/2025/11/Monthly-Pipe-Ceremony-Poster-2026.jpg
END:VEVENT
BEGIN:VEVENT
DTSTART;TZID=America/Winnipeg:20270310T130000
DTEND;TZID=America/Winnipeg:20270310T153000
DTSTAMP:20260422T170814
CREATED:20251202T194607Z
LAST-MODIFIED:20260330T135633Z
UID:10007434-1804683600-1804692600@ninecircles.ca
SUMMARY:Sewing Class
DESCRIPTION:Learn to sew Wednesdays from 1:00 p.m. to 3:00 p.m. Bring in a project or learn the basics of sewing\, quilting\, sewing machines\, and appliques. All materials and instruction provided. All ages. Open to community members that access the Pit Stop or Nine Circles clinic clients.
URL:https://ninecircles.ca/event/sewing-class-2/2027-03-10/
LOCATION:Nine Circles Community Centre\, 705 Broadway Winnipeg\, Winnipeg\, Manitoba\, R3G 0X2\, Canada
CATEGORIES:Client Events
END:VEVENT
BEGIN:VEVENT
DTSTART;TZID=America/Winnipeg:20270311T130000
DTEND;TZID=America/Winnipeg:20270311T153000
DTSTAMP:20260422T170814
CREATED:20240924T140605Z
LAST-MODIFIED:20260330T135707Z
UID:10006493-1804770000-1804779000@ninecircles.ca
SUMMARY:Beading Group
DESCRIPTION:Led by Cultural Support Worker Kayleen Kaduchuk\, for all levels and materials provided! \nEvery Thursday from 1:00 p.m. – 4:00 p.m. in our Gathering Place \nTo attend: Drop-in\, call (204) 940-6000\, or e-mail kkaduchuk@ninecircles.ca
URL:https://ninecircles.ca/event/beading-group/2027-03-11/
LOCATION:Nine Circles Community Centre\, 705 Broadway Winnipeg\, Winnipeg\, Manitoba\, R3G 0X2\, Canada
CATEGORIES:Client Events
ATTACH;FMTTYPE=image/png:https://ninecircles.ca/wp-content/uploads/2024/09/1.png
END:VEVENT
BEGIN:VEVENT
DTSTART;TZID=America/Winnipeg:20270317T130000
DTEND;TZID=America/Winnipeg:20270317T153000
DTSTAMP:20260422T170814
CREATED:20251202T194607Z
LAST-MODIFIED:20260330T135633Z
UID:10007435-1805288400-1805297400@ninecircles.ca
SUMMARY:Sewing Class
DESCRIPTION:Learn to sew Wednesdays from 1:00 p.m. to 3:00 p.m. Bring in a project or learn the basics of sewing\, quilting\, sewing machines\, and appliques. All materials and instruction provided. All ages. Open to community members that access the Pit Stop or Nine Circles clinic clients.
URL:https://ninecircles.ca/event/sewing-class-2/2027-03-17/
LOCATION:Nine Circles Community Centre\, 705 Broadway Winnipeg\, Winnipeg\, Manitoba\, R3G 0X2\, Canada
CATEGORIES:Client Events
END:VEVENT
BEGIN:VEVENT
DTSTART;TZID=America/Winnipeg:20270318T130000
DTEND;TZID=America/Winnipeg:20270318T153000
DTSTAMP:20260422T170814
CREATED:20240924T140605Z
LAST-MODIFIED:20260330T135707Z
UID:10006494-1805374800-1805383800@ninecircles.ca
SUMMARY:Beading Group
DESCRIPTION:Led by Cultural Support Worker Kayleen Kaduchuk\, for all levels and materials provided! \nEvery Thursday from 1:00 p.m. – 4:00 p.m. in our Gathering Place \nTo attend: Drop-in\, call (204) 940-6000\, or e-mail kkaduchuk@ninecircles.ca
URL:https://ninecircles.ca/event/beading-group/2027-03-18/
LOCATION:Nine Circles Community Centre\, 705 Broadway Winnipeg\, Winnipeg\, Manitoba\, R3G 0X2\, Canada
CATEGORIES:Client Events
ATTACH;FMTTYPE=image/png:https://ninecircles.ca/wp-content/uploads/2024/09/1.png
END:VEVENT
BEGIN:VEVENT
DTSTART;TZID=America/Winnipeg:20270324T130000
DTEND;TZID=America/Winnipeg:20270324T153000
DTSTAMP:20260422T170814
CREATED:20251202T194607Z
LAST-MODIFIED:20260330T135633Z
UID:10007436-1805893200-1805902200@ninecircles.ca
SUMMARY:Sewing Class
DESCRIPTION:Learn to sew Wednesdays from 1:00 p.m. to 3:00 p.m. Bring in a project or learn the basics of sewing\, quilting\, sewing machines\, and appliques. All materials and instruction provided. All ages. Open to community members that access the Pit Stop or Nine Circles clinic clients.
URL:https://ninecircles.ca/event/sewing-class-2/2027-03-24/
LOCATION:Nine Circles Community Centre\, 705 Broadway Winnipeg\, Winnipeg\, Manitoba\, R3G 0X2\, Canada
CATEGORIES:Client Events
END:VEVENT
BEGIN:VEVENT
DTSTART;TZID=America/Winnipeg:20270325T130000
DTEND;TZID=America/Winnipeg:20270325T153000
DTSTAMP:20260422T170814
CREATED:20240924T140605Z
LAST-MODIFIED:20260330T135707Z
UID:10006495-1805979600-1805988600@ninecircles.ca
SUMMARY:Beading Group
DESCRIPTION:Led by Cultural Support Worker Kayleen Kaduchuk\, for all levels and materials provided! \nEvery Thursday from 1:00 p.m. – 4:00 p.m. in our Gathering Place \nTo attend: Drop-in\, call (204) 940-6000\, or e-mail kkaduchuk@ninecircles.ca
URL:https://ninecircles.ca/event/beading-group/2027-03-25/
LOCATION:Nine Circles Community Centre\, 705 Broadway Winnipeg\, Winnipeg\, Manitoba\, R3G 0X2\, Canada
CATEGORIES:Client Events
ATTACH;FMTTYPE=image/png:https://ninecircles.ca/wp-content/uploads/2024/09/1.png
END:VEVENT
BEGIN:VEVENT
DTSTART;TZID=America/Winnipeg:20270331T130000
DTEND;TZID=America/Winnipeg:20270331T153000
DTSTAMP:20260422T170814
CREATED:20251202T194607Z
LAST-MODIFIED:20260330T135633Z
UID:10007437-1806498000-1806507000@ninecircles.ca
SUMMARY:Sewing Class
DESCRIPTION:Learn to sew Wednesdays from 1:00 p.m. to 3:00 p.m. Bring in a project or learn the basics of sewing\, quilting\, sewing machines\, and appliques. All materials and instruction provided. All ages. Open to community members that access the Pit Stop or Nine Circles clinic clients.
URL:https://ninecircles.ca/event/sewing-class-2/2027-03-31/
LOCATION:Nine Circles Community Centre\, 705 Broadway Winnipeg\, Winnipeg\, Manitoba\, R3G 0X2\, Canada
CATEGORIES:Client Events
END:VEVENT
BEGIN:VEVENT
DTSTART;TZID=America/Winnipeg:20270401T130000
DTEND;TZID=America/Winnipeg:20270401T153000
DTSTAMP:20260422T170814
CREATED:20240924T140605Z
LAST-MODIFIED:20260330T135707Z
UID:10006496-1806584400-1806593400@ninecircles.ca
SUMMARY:Beading Group
DESCRIPTION:Led by Cultural Support Worker Kayleen Kaduchuk\, for all levels and materials provided! \nEvery Thursday from 1:00 p.m. – 4:00 p.m. in our Gathering Place \nTo attend: Drop-in\, call (204) 940-6000\, or e-mail kkaduchuk@ninecircles.ca
URL:https://ninecircles.ca/event/beading-group/2027-04-01/
LOCATION:Nine Circles Community Centre\, 705 Broadway Winnipeg\, Winnipeg\, Manitoba\, R3G 0X2\, Canada
CATEGORIES:Client Events
ATTACH;FMTTYPE=image/png:https://ninecircles.ca/wp-content/uploads/2024/09/1.png
END:VEVENT
BEGIN:VEVENT
DTSTART;TZID=America/Winnipeg:20270407T130000
DTEND;TZID=America/Winnipeg:20270407T153000
DTSTAMP:20260422T170814
CREATED:20251202T194607Z
LAST-MODIFIED:20260330T135633Z
UID:10007438-1807102800-1807111800@ninecircles.ca
SUMMARY:Sewing Class
DESCRIPTION:Learn to sew Wednesdays from 1:00 p.m. to 3:00 p.m. Bring in a project or learn the basics of sewing\, quilting\, sewing machines\, and appliques. All materials and instruction provided. All ages. Open to community members that access the Pit Stop or Nine Circles clinic clients.
URL:https://ninecircles.ca/event/sewing-class-2/2027-04-07/
LOCATION:Nine Circles Community Centre\, 705 Broadway Winnipeg\, Winnipeg\, Manitoba\, R3G 0X2\, Canada
CATEGORIES:Client Events
END:VEVENT
BEGIN:VEVENT
DTSTART;TZID=America/Winnipeg:20270408T130000
DTEND;TZID=America/Winnipeg:20270408T153000
DTSTAMP:20260422T170814
CREATED:20240924T140605Z
LAST-MODIFIED:20260330T135707Z
UID:10006497-1807189200-1807198200@ninecircles.ca
SUMMARY:Beading Group
DESCRIPTION:Led by Cultural Support Worker Kayleen Kaduchuk\, for all levels and materials provided! \nEvery Thursday from 1:00 p.m. – 4:00 p.m. in our Gathering Place \nTo attend: Drop-in\, call (204) 940-6000\, or e-mail kkaduchuk@ninecircles.ca
URL:https://ninecircles.ca/event/beading-group/2027-04-08/
LOCATION:Nine Circles Community Centre\, 705 Broadway Winnipeg\, Winnipeg\, Manitoba\, R3G 0X2\, Canada
CATEGORIES:Client Events
ATTACH;FMTTYPE=image/png:https://ninecircles.ca/wp-content/uploads/2024/09/1.png
END:VEVENT
BEGIN:VEVENT
DTSTART;TZID=America/Winnipeg:20270414T130000
DTEND;TZID=America/Winnipeg:20270414T140000
DTSTAMP:20260422T170814
CREATED:20251125T164421Z
LAST-MODIFIED:20260122T154627Z
UID:10007660-1807707600-1807711200@ninecircles.ca
SUMMARY:Pipe Ceremony
DESCRIPTION:Join us for a monthly Pipe Ceremony from 1-2pm every second Wednesday of the month!\nFor information about this or all other Indigenous Cultural Programming\, contact Kayleen Kaduchuk at (204) 940-6000 or e-mail KKaduchuk@ninecircles.ca
URL:https://ninecircles.ca/event/pipe-ceremony/2027-04-14/
LOCATION:Nine Circles Community Centre\, 705 Broadway Winnipeg\, Winnipeg\, Manitoba\, R3G 0X2\, Canada
CATEGORIES:Client Events
ATTACH;FMTTYPE=image/jpeg:https://ninecircles.ca/wp-content/uploads/2025/11/Monthly-Pipe-Ceremony-Poster-2026.jpg
END:VEVENT
BEGIN:VEVENT
DTSTART;TZID=America/Winnipeg:20270414T130000
DTEND;TZID=America/Winnipeg:20270414T153000
DTSTAMP:20260422T170814
CREATED:20251202T194607Z
LAST-MODIFIED:20260330T135633Z
UID:10007439-1807707600-1807716600@ninecircles.ca
SUMMARY:Sewing Class
DESCRIPTION:Learn to sew Wednesdays from 1:00 p.m. to 3:00 p.m. Bring in a project or learn the basics of sewing\, quilting\, sewing machines\, and appliques. All materials and instruction provided. All ages. Open to community members that access the Pit Stop or Nine Circles clinic clients.
URL:https://ninecircles.ca/event/sewing-class-2/2027-04-14/
LOCATION:Nine Circles Community Centre\, 705 Broadway Winnipeg\, Winnipeg\, Manitoba\, R3G 0X2\, Canada
CATEGORIES:Client Events
END:VEVENT
BEGIN:VEVENT
DTSTART;TZID=America/Winnipeg:20270415T130000
DTEND;TZID=America/Winnipeg:20270415T153000
DTSTAMP:20260422T170814
CREATED:20240924T140605Z
LAST-MODIFIED:20260330T135707Z
UID:10006498-1807794000-1807803000@ninecircles.ca
SUMMARY:Beading Group
DESCRIPTION:Led by Cultural Support Worker Kayleen Kaduchuk\, for all levels and materials provided! \nEvery Thursday from 1:00 p.m. – 4:00 p.m. in our Gathering Place \nTo attend: Drop-in\, call (204) 940-6000\, or e-mail kkaduchuk@ninecircles.ca
URL:https://ninecircles.ca/event/beading-group/2027-04-15/
LOCATION:Nine Circles Community Centre\, 705 Broadway Winnipeg\, Winnipeg\, Manitoba\, R3G 0X2\, Canada
CATEGORIES:Client Events
ATTACH;FMTTYPE=image/png:https://ninecircles.ca/wp-content/uploads/2024/09/1.png
END:VEVENT
BEGIN:VEVENT
DTSTART;TZID=America/Winnipeg:20270421T130000
DTEND;TZID=America/Winnipeg:20270421T153000
DTSTAMP:20260422T170814
CREATED:20251202T194607Z
LAST-MODIFIED:20260330T135633Z
UID:10007440-1808312400-1808321400@ninecircles.ca
SUMMARY:Sewing Class
DESCRIPTION:Learn to sew Wednesdays from 1:00 p.m. to 3:00 p.m. Bring in a project or learn the basics of sewing\, quilting\, sewing machines\, and appliques. All materials and instruction provided. All ages. Open to community members that access the Pit Stop or Nine Circles clinic clients.
URL:https://ninecircles.ca/event/sewing-class-2/2027-04-21/
LOCATION:Nine Circles Community Centre\, 705 Broadway Winnipeg\, Winnipeg\, Manitoba\, R3G 0X2\, Canada
CATEGORIES:Client Events
END:VEVENT
BEGIN:VEVENT
DTSTART;TZID=America/Winnipeg:20270422T130000
DTEND;TZID=America/Winnipeg:20270422T153000
DTSTAMP:20260422T170814
CREATED:20240924T140605Z
LAST-MODIFIED:20260330T135707Z
UID:10006499-1808398800-1808407800@ninecircles.ca
SUMMARY:Beading Group
DESCRIPTION:Led by Cultural Support Worker Kayleen Kaduchuk\, for all levels and materials provided! \nEvery Thursday from 1:00 p.m. – 4:00 p.m. in our Gathering Place \nTo attend: Drop-in\, call (204) 940-6000\, or e-mail kkaduchuk@ninecircles.ca
URL:https://ninecircles.ca/event/beading-group/2027-04-22/
LOCATION:Nine Circles Community Centre\, 705 Broadway Winnipeg\, Winnipeg\, Manitoba\, R3G 0X2\, Canada
CATEGORIES:Client Events
ATTACH;FMTTYPE=image/png:https://ninecircles.ca/wp-content/uploads/2024/09/1.png
END:VEVENT
BEGIN:VEVENT
DTSTART;TZID=America/Winnipeg:20270428T130000
DTEND;TZID=America/Winnipeg:20270428T153000
DTSTAMP:20260422T170814
CREATED:20251202T194607Z
LAST-MODIFIED:20260330T135633Z
UID:10007441-1808917200-1808926200@ninecircles.ca
SUMMARY:Sewing Class
DESCRIPTION:Learn to sew Wednesdays from 1:00 p.m. to 3:00 p.m. Bring in a project or learn the basics of sewing\, quilting\, sewing machines\, and appliques. All materials and instruction provided. All ages. Open to community members that access the Pit Stop or Nine Circles clinic clients.
URL:https://ninecircles.ca/event/sewing-class-2/2027-04-28/
LOCATION:Nine Circles Community Centre\, 705 Broadway Winnipeg\, Winnipeg\, Manitoba\, R3G 0X2\, Canada
CATEGORIES:Client Events
END:VEVENT
BEGIN:VEVENT
DTSTART;TZID=America/Winnipeg:20270429T130000
DTEND;TZID=America/Winnipeg:20270429T153000
DTSTAMP:20260422T170815
CREATED:20240924T140605Z
LAST-MODIFIED:20260330T135707Z
UID:10006500-1809003600-1809012600@ninecircles.ca
SUMMARY:Beading Group
DESCRIPTION:Led by Cultural Support Worker Kayleen Kaduchuk\, for all levels and materials provided! \nEvery Thursday from 1:00 p.m. – 4:00 p.m. in our Gathering Place \nTo attend: Drop-in\, call (204) 940-6000\, or e-mail kkaduchuk@ninecircles.ca
URL:https://ninecircles.ca/event/beading-group/2027-04-29/
LOCATION:Nine Circles Community Centre\, 705 Broadway Winnipeg\, Winnipeg\, Manitoba\, R3G 0X2\, Canada
CATEGORIES:Client Events
ATTACH;FMTTYPE=image/png:https://ninecircles.ca/wp-content/uploads/2024/09/1.png
END:VEVENT
BEGIN:VEVENT
DTSTART;TZID=America/Winnipeg:20270505T130000
DTEND;TZID=America/Winnipeg:20270505T153000
DTSTAMP:20260422T170815
CREATED:20251202T194607Z
LAST-MODIFIED:20260330T135633Z
UID:10007442-1809522000-1809531000@ninecircles.ca
SUMMARY:Sewing Class
DESCRIPTION:Learn to sew Wednesdays from 1:00 p.m. to 3:00 p.m. Bring in a project or learn the basics of sewing\, quilting\, sewing machines\, and appliques. All materials and instruction provided. All ages. Open to community members that access the Pit Stop or Nine Circles clinic clients.
URL:https://ninecircles.ca/event/sewing-class-2/2027-05-05/
LOCATION:Nine Circles Community Centre\, 705 Broadway Winnipeg\, Winnipeg\, Manitoba\, R3G 0X2\, Canada
CATEGORIES:Client Events
END:VEVENT
BEGIN:VEVENT
DTSTART;TZID=America/Winnipeg:20270506T130000
DTEND;TZID=America/Winnipeg:20270506T153000
DTSTAMP:20260422T170815
CREATED:20240924T140605Z
LAST-MODIFIED:20260330T135707Z
UID:10006501-1809608400-1809617400@ninecircles.ca
SUMMARY:Beading Group
DESCRIPTION:Led by Cultural Support Worker Kayleen Kaduchuk\, for all levels and materials provided! \nEvery Thursday from 1:00 p.m. – 4:00 p.m. in our Gathering Place \nTo attend: Drop-in\, call (204) 940-6000\, or e-mail kkaduchuk@ninecircles.ca
URL:https://ninecircles.ca/event/beading-group/2027-05-06/
LOCATION:Nine Circles Community Centre\, 705 Broadway Winnipeg\, Winnipeg\, Manitoba\, R3G 0X2\, Canada
CATEGORIES:Client Events
ATTACH;FMTTYPE=image/png:https://ninecircles.ca/wp-content/uploads/2024/09/1.png
END:VEVENT
BEGIN:VEVENT
DTSTART;TZID=America/Winnipeg:20270512T130000
DTEND;TZID=America/Winnipeg:20270512T140000
DTSTAMP:20260422T170815
CREATED:20251125T164421Z
LAST-MODIFIED:20260122T154627Z
UID:10007661-1810126800-1810130400@ninecircles.ca
SUMMARY:Pipe Ceremony
DESCRIPTION:Join us for a monthly Pipe Ceremony from 1-2pm every second Wednesday of the month!\nFor information about this or all other Indigenous Cultural Programming\, contact Kayleen Kaduchuk at (204) 940-6000 or e-mail KKaduchuk@ninecircles.ca
URL:https://ninecircles.ca/event/pipe-ceremony/2027-05-12/
LOCATION:Nine Circles Community Centre\, 705 Broadway Winnipeg\, Winnipeg\, Manitoba\, R3G 0X2\, Canada
CATEGORIES:Client Events
ATTACH;FMTTYPE=image/jpeg:https://ninecircles.ca/wp-content/uploads/2025/11/Monthly-Pipe-Ceremony-Poster-2026.jpg
END:VEVENT
BEGIN:VEVENT
DTSTART;TZID=America/Winnipeg:20270512T130000
DTEND;TZID=America/Winnipeg:20270512T153000
DTSTAMP:20260422T170815
CREATED:20251202T194607Z
LAST-MODIFIED:20260330T135633Z
UID:10007443-1810126800-1810135800@ninecircles.ca
SUMMARY:Sewing Class
DESCRIPTION:Learn to sew Wednesdays from 1:00 p.m. to 3:00 p.m. Bring in a project or learn the basics of sewing\, quilting\, sewing machines\, and appliques. All materials and instruction provided. All ages. Open to community members that access the Pit Stop or Nine Circles clinic clients.
URL:https://ninecircles.ca/event/sewing-class-2/2027-05-12/
LOCATION:Nine Circles Community Centre\, 705 Broadway Winnipeg\, Winnipeg\, Manitoba\, R3G 0X2\, Canada
CATEGORIES:Client Events
END:VEVENT
BEGIN:VEVENT
DTSTART;TZID=America/Winnipeg:20270513T130000
DTEND;TZID=America/Winnipeg:20270513T153000
DTSTAMP:20260422T170815
CREATED:20240924T140605Z
LAST-MODIFIED:20260330T135707Z
UID:10006502-1810213200-1810222200@ninecircles.ca
SUMMARY:Beading Group
DESCRIPTION:Led by Cultural Support Worker Kayleen Kaduchuk\, for all levels and materials provided! \nEvery Thursday from 1:00 p.m. – 4:00 p.m. in our Gathering Place \nTo attend: Drop-in\, call (204) 940-6000\, or e-mail kkaduchuk@ninecircles.ca
URL:https://ninecircles.ca/event/beading-group/2027-05-13/
LOCATION:Nine Circles Community Centre\, 705 Broadway Winnipeg\, Winnipeg\, Manitoba\, R3G 0X2\, Canada
CATEGORIES:Client Events
ATTACH;FMTTYPE=image/png:https://ninecircles.ca/wp-content/uploads/2024/09/1.png
END:VEVENT
BEGIN:VEVENT
DTSTART;TZID=America/Winnipeg:20270519T130000
DTEND;TZID=America/Winnipeg:20270519T153000
DTSTAMP:20260422T170815
CREATED:20251202T194607Z
LAST-MODIFIED:20260330T135633Z
UID:10007444-1810731600-1810740600@ninecircles.ca
SUMMARY:Sewing Class
DESCRIPTION:Learn to sew Wednesdays from 1:00 p.m. to 3:00 p.m. Bring in a project or learn the basics of sewing\, quilting\, sewing machines\, and appliques. All materials and instruction provided. All ages. Open to community members that access the Pit Stop or Nine Circles clinic clients.
URL:https://ninecircles.ca/event/sewing-class-2/2027-05-19/
LOCATION:Nine Circles Community Centre\, 705 Broadway Winnipeg\, Winnipeg\, Manitoba\, R3G 0X2\, Canada
CATEGORIES:Client Events
END:VEVENT
BEGIN:VEVENT
DTSTART;TZID=America/Winnipeg:20270520T130000
DTEND;TZID=America/Winnipeg:20270520T153000
DTSTAMP:20260422T170815
CREATED:20240924T140605Z
LAST-MODIFIED:20260330T135707Z
UID:10006503-1810818000-1810827000@ninecircles.ca
SUMMARY:Beading Group
DESCRIPTION:Led by Cultural Support Worker Kayleen Kaduchuk\, for all levels and materials provided! \nEvery Thursday from 1:00 p.m. – 4:00 p.m. in our Gathering Place \nTo attend: Drop-in\, call (204) 940-6000\, or e-mail kkaduchuk@ninecircles.ca
URL:https://ninecircles.ca/event/beading-group/2027-05-20/
LOCATION:Nine Circles Community Centre\, 705 Broadway Winnipeg\, Winnipeg\, Manitoba\, R3G 0X2\, Canada
CATEGORIES:Client Events
ATTACH;FMTTYPE=image/png:https://ninecircles.ca/wp-content/uploads/2024/09/1.png
END:VEVENT
BEGIN:VEVENT
DTSTART;TZID=America/Winnipeg:20270526T130000
DTEND;TZID=America/Winnipeg:20270526T153000
DTSTAMP:20260422T170815
CREATED:20251202T194607Z
LAST-MODIFIED:20260330T135633Z
UID:10007445-1811336400-1811345400@ninecircles.ca
SUMMARY:Sewing Class
DESCRIPTION:Learn to sew Wednesdays from 1:00 p.m. to 3:00 p.m. Bring in a project or learn the basics of sewing\, quilting\, sewing machines\, and appliques. All materials and instruction provided. All ages. Open to community members that access the Pit Stop or Nine Circles clinic clients.
URL:https://ninecircles.ca/event/sewing-class-2/2027-05-26/
LOCATION:Nine Circles Community Centre\, 705 Broadway Winnipeg\, Winnipeg\, Manitoba\, R3G 0X2\, Canada
CATEGORIES:Client Events
END:VEVENT
BEGIN:VEVENT
DTSTART;TZID=America/Winnipeg:20270527T130000
DTEND;TZID=America/Winnipeg:20270527T153000
DTSTAMP:20260422T170815
CREATED:20240924T140605Z
LAST-MODIFIED:20260330T135707Z
UID:10006504-1811422800-1811431800@ninecircles.ca
SUMMARY:Beading Group
DESCRIPTION:Led by Cultural Support Worker Kayleen Kaduchuk\, for all levels and materials provided! \nEvery Thursday from 1:00 p.m. – 4:00 p.m. in our Gathering Place \nTo attend: Drop-in\, call (204) 940-6000\, or e-mail kkaduchuk@ninecircles.ca
URL:https://ninecircles.ca/event/beading-group/2027-05-27/
LOCATION:Nine Circles Community Centre\, 705 Broadway Winnipeg\, Winnipeg\, Manitoba\, R3G 0X2\, Canada
CATEGORIES:Client Events
ATTACH;FMTTYPE=image/png:https://ninecircles.ca/wp-content/uploads/2024/09/1.png
END:VEVENT
BEGIN:VEVENT
DTSTART;TZID=America/Winnipeg:20270602T130000
DTEND;TZID=America/Winnipeg:20270602T153000
DTSTAMP:20260422T170815
CREATED:20251202T194607Z
LAST-MODIFIED:20260330T135633Z
UID:10007446-1811941200-1811950200@ninecircles.ca
SUMMARY:Sewing Class
DESCRIPTION:Learn to sew Wednesdays from 1:00 p.m. to 3:00 p.m. Bring in a project or learn the basics of sewing\, quilting\, sewing machines\, and appliques. All materials and instruction provided. All ages. Open to community members that access the Pit Stop or Nine Circles clinic clients.
URL:https://ninecircles.ca/event/sewing-class-2/2027-06-02/
LOCATION:Nine Circles Community Centre\, 705 Broadway Winnipeg\, Winnipeg\, Manitoba\, R3G 0X2\, Canada
CATEGORIES:Client Events
END:VEVENT
END:VCALENDAR