BEGIN:VCALENDAR
VERSION:2.0
PRODID:-//Nine Circles Community Health Centre - ECPv6.15.18//NONSGML v1.0//EN
CALSCALE:GREGORIAN
METHOD:PUBLISH
X-WR-CALNAME:Nine Circles Community Health Centre
X-ORIGINAL-URL:https://ninecircles.ca
X-WR-CALDESC:Events for Nine Circles Community Health Centre
REFRESH-INTERVAL;VALUE=DURATION:PT1H
X-Robots-Tag:noindex
X-PUBLISHED-TTL:PT1H
BEGIN:VTIMEZONE
TZID:America/Winnipeg
BEGIN:DAYLIGHT
TZOFFSETFROM:-0600
TZOFFSETTO:-0500
TZNAME:CDT
DTSTART:20230312T080000
END:DAYLIGHT
BEGIN:STANDARD
TZOFFSETFROM:-0500
TZOFFSETTO:-0600
TZNAME:CST
DTSTART:20231105T070000
END:STANDARD
BEGIN:DAYLIGHT
TZOFFSETFROM:-0600
TZOFFSETTO:-0500
TZNAME:CDT
DTSTART:20240310T080000
END:DAYLIGHT
BEGIN:STANDARD
TZOFFSETFROM:-0500
TZOFFSETTO:-0600
TZNAME:CST
DTSTART:20241103T070000
END:STANDARD
BEGIN:DAYLIGHT
TZOFFSETFROM:-0600
TZOFFSETTO:-0500
TZNAME:CDT
DTSTART:20250309T080000
END:DAYLIGHT
BEGIN:STANDARD
TZOFFSETFROM:-0500
TZOFFSETTO:-0600
TZNAME:CST
DTSTART:20251102T070000
END:STANDARD
END:VTIMEZONE
BEGIN:VEVENT
DTSTART;VALUE=DATE:20240701
DTEND;VALUE=DATE:20240702
DTSTAMP:20260424T190428
CREATED:20240619T145017Z
LAST-MODIFIED:20240619T145017Z
UID:10006012-1719792000-1719878399@ninecircles.ca
SUMMARY:Closed for Canada Day
DESCRIPTION:Our office will be closed on July 1st\, 2024 all day. During this time\, our phone lines and email support will not be monitored. Inquiries or messages received during this period will be promptly addressed upon our return. \nHave a safe long weekend!
URL:https://ninecircles.ca/event/closed-for-canada-day/
LOCATION:Nine Circles Community Centre\, 705 Broadway Winnipeg\, Winnipeg\, Manitoba\, R3G 0X2\, Canada
CATEGORIES:Closure Announcement
END:VEVENT
BEGIN:VEVENT
DTSTART;TZID=America/Winnipeg:20240709T090000
DTEND;TZID=America/Winnipeg:20240709T120000
DTSTAMP:20260424T190428
CREATED:20221213T195902Z
LAST-MODIFIED:20260105T202810Z
UID:10001621-1720515600-1720526400@ninecircles.ca
SUMMARY:All Staff Meeting - Closed Until 12:00pm
DESCRIPTION:Nine Circles Community Health Staff meet every second Tuesday of the month for an all staff meeting\, this means that in-person appointments\, Pit Stop harm reduction services\, phone\, and e-mail services are closed to the public. \nIf you need assistance\, please call 204-940-6000 or visit us at 705 Broadway after 12:00pm. \nIf you need immediate assistance or this is an emergency\, please contact Health Links at 204-788-8200 or call 9-11. Have a question about sexually transmitted and blood-borne infections (STBBIs)? Visit our Q&A website https://sexfriendlymb.ca/
URL:https://ninecircles.ca/event/all-staff-meeting-closed-until-1200pm/2024-07-09/
LOCATION:Nine Circles Community Centre\, 705 Broadway Winnipeg\, Winnipeg\, Manitoba\, R3G 0X2\, Canada
CATEGORIES:Announcements,Closure Announcement
ORGANIZER;CN="Nine Circles Community Health":MAILTO:ninecircles@ninecircles.ca
END:VEVENT
END:VCALENDAR