BEGIN:VCALENDAR
VERSION:2.0
PRODID:-//Nine Circles Community Health Centre - ECPv6.15.18//NONSGML v1.0//EN
CALSCALE:GREGORIAN
METHOD:PUBLISH
X-WR-CALNAME:Nine Circles Community Health Centre
X-ORIGINAL-URL:https://ninecircles.ca
X-WR-CALDESC:Events for Nine Circles Community Health Centre
REFRESH-INTERVAL;VALUE=DURATION:PT1H
X-Robots-Tag:noindex
X-PUBLISHED-TTL:PT1H
BEGIN:VTIMEZONE
TZID:America/Winnipeg
BEGIN:DAYLIGHT
TZOFFSETFROM:-0600
TZOFFSETTO:-0500
TZNAME:CDT
DTSTART:20240310T080000
END:DAYLIGHT
BEGIN:STANDARD
TZOFFSETFROM:-0500
TZOFFSETTO:-0600
TZNAME:CST
DTSTART:20241103T070000
END:STANDARD
BEGIN:DAYLIGHT
TZOFFSETFROM:-0600
TZOFFSETTO:-0500
TZNAME:CDT
DTSTART:20250309T080000
END:DAYLIGHT
BEGIN:STANDARD
TZOFFSETFROM:-0500
TZOFFSETTO:-0600
TZNAME:CST
DTSTART:20251102T070000
END:STANDARD
BEGIN:DAYLIGHT
TZOFFSETFROM:-0600
TZOFFSETTO:-0500
TZNAME:CDT
DTSTART:20260308T080000
END:DAYLIGHT
BEGIN:STANDARD
TZOFFSETFROM:-0500
TZOFFSETTO:-0600
TZNAME:CST
DTSTART:20261101T070000
END:STANDARD
END:VTIMEZONE
BEGIN:VEVENT
DTSTART;TZID=America/Winnipeg:20250909T090000
DTEND;TZID=America/Winnipeg:20250909T120000
DTSTAMP:20260420T194847
CREATED:20221213T195902Z
LAST-MODIFIED:20260105T202810Z
UID:10005147-1757408400-1757419200@ninecircles.ca
SUMMARY:All Staff Meeting - Closed Until 12:00pm
DESCRIPTION:Nine Circles Community Health Staff meet every second Tuesday of the month for an all staff meeting\, this means that in-person appointments\, Pit Stop harm reduction services\, phone\, and e-mail services are closed to the public. \nIf you need assistance\, please call 204-940-6000 or visit us at 705 Broadway after 12:00pm. \nIf you need immediate assistance or this is an emergency\, please contact Health Links at 204-788-8200 or call 9-11. Have a question about sexually transmitted and blood-borne infections (STBBIs)? Visit our Q&A website https://sexfriendlymb.ca/
URL:https://ninecircles.ca/event/all-staff-meeting-closed-until-1200pm/2025-09-09/
LOCATION:Nine Circles Community Centre\, 705 Broadway Winnipeg\, Winnipeg\, Manitoba\, R3G 0X2\, Canada
CATEGORIES:Announcements,Closure Announcement
ORGANIZER;CN="Nine Circles Community Health":MAILTO:ninecircles@ninecircles.ca
END:VEVENT
BEGIN:VEVENT
DTSTART;VALUE=DATE:20250930
DTEND;VALUE=DATE:20251001
DTSTAMP:20260420T194847
CREATED:20240924T141128Z
LAST-MODIFIED:20240924T141128Z
UID:10006627-1759190400-1759276799@ninecircles.ca
SUMMARY:Closed in Recognition of National Day for Truth and Reconciliation
DESCRIPTION:Each year\, September 30th marks the National Day for Truth and Reconciliation.\nThe day honours the children who never returned home and Survivors of residential schools\, as well as their families and communities. Public commemoration of the tragic and painful history and ongoing impacts of residential schools is a vital component of the reconciliation process. \nBoth the National Day for Truth and Reconciliation and Orange Shirt Day take place on September 30th. \nOrange Shirt Day is an Indigenous-led grassroots commemorative day intended to raise awareness of the individual\, family and community inter-generational impacts of residential schools\, and to promote the concept of “Every Child Matters”. The orange shirt is a symbol of the stripping away of culture\, freedom and self-esteem experienced by Indigenous children over generations. \nOn September 30th\, we encourage everyone to wear orange to honour the thousands of Survivors of residential schools and participate in public local activities and gatherings organized to understand the history and impacts of residential schools. \n[adapted from https://www.canada.ca/en/canadian-heritage/campaigns/national-day-truth-reconciliation.html]
URL:https://ninecircles.ca/event/closed-in-recognition-of-national-day-for-truth-and-reconciliation/2025-09-30/
LOCATION:Nine Circles Community Centre\, 705 Broadway Winnipeg\, Winnipeg\, Manitoba\, R3G 0X2\, Canada
CATEGORIES:Closure Announcement
ATTACH;FMTTYPE=image/png:https://ninecircles.ca/wp-content/uploads/2024/09/Closed-May-Long-6.png
END:VEVENT
END:VCALENDAR