BEGIN:VCALENDAR
VERSION:2.0
PRODID:-//Nine Circles Community Health Centre - ECPv6.15.18//NONSGML v1.0//EN
CALSCALE:GREGORIAN
METHOD:PUBLISH
X-ORIGINAL-URL:https://ninecircles.ca
X-WR-CALDESC:Events for Nine Circles Community Health Centre
REFRESH-INTERVAL;VALUE=DURATION:PT1H
X-Robots-Tag:noindex
X-PUBLISHED-TTL:PT1H
BEGIN:VTIMEZONE
TZID:America/Winnipeg
BEGIN:DAYLIGHT
TZOFFSETFROM:-0600
TZOFFSETTO:-0500
TZNAME:CDT
DTSTART:20250309T080000
END:DAYLIGHT
BEGIN:STANDARD
TZOFFSETFROM:-0500
TZOFFSETTO:-0600
TZNAME:CST
DTSTART:20251102T070000
END:STANDARD
BEGIN:DAYLIGHT
TZOFFSETFROM:-0600
TZOFFSETTO:-0500
TZNAME:CDT
DTSTART:20260308T080000
END:DAYLIGHT
BEGIN:STANDARD
TZOFFSETFROM:-0500
TZOFFSETTO:-0600
TZNAME:CST
DTSTART:20261101T070000
END:STANDARD
BEGIN:DAYLIGHT
TZOFFSETFROM:-0600
TZOFFSETTO:-0500
TZNAME:CDT
DTSTART:20270314T080000
END:DAYLIGHT
BEGIN:STANDARD
TZOFFSETFROM:-0500
TZOFFSETTO:-0600
TZNAME:CST
DTSTART:20271107T070000
END:STANDARD
END:VTIMEZONE
BEGIN:VEVENT
DTSTART;TZID=America/Winnipeg:20260101T080000
DTEND;TZID=America/Winnipeg:20260101T170000
DTSTAMP:20260419T082834
CREATED:20251125T164136Z
LAST-MODIFIED:20251125T164209Z
UID:10007643-1767254400-1767286800@ninecircles.ca
SUMMARY:Closed All Day - Holiday Hours
DESCRIPTION:Nine Circles Holiday Hours\nWe will be closed the following days (all day) \n\nThursday\, December 25th\, 2025\nFriday\, December 26th\, 2025\nThursday\, January 1st\, 2026\n\nThis includes our drop-in services\, e-mail\, and phone lines. Beyond the posted dates\, our regular hours will resume as normal. Any additional updates to our hours will be posted to our events calendar and on our social media! \nHappy Holidays and a Safe New Year!
URL:https://ninecircles.ca/event/closed-all-day-holiday-hours/2026-01-01/
LOCATION:Nine Circles Community Centre\, 705 Broadway Winnipeg\, Winnipeg\, Manitoba\, R3G 0X2\, Canada
CATEGORIES:Closure Announcement
END:VEVENT
BEGIN:VEVENT
DTSTART;VALUE=DATE:20260113
DTEND;VALUE=DATE:20260114
DTSTAMP:20260419T082834
CREATED:20260105T202740Z
LAST-MODIFIED:20260105T202740Z
UID:10007779-1768262400-1768348799@ninecircles.ca
SUMMARY:Closed All Day
DESCRIPTION:Nine Circles Community Health will be closed all day on Tuesday\, January 13th for an all day training. This means that in-person appointments\, Pit Stop harm reduction services\, phone\, and e-mail services are closed to the public. \nIf you need immediate assistance or this is an emergency\, please contact Health Links at 204-788-8200 or call 9-11. Have a question about sexually transmitted and blood-borne infections (STBBIs)? Visit our Q&A website https://sexfriendlymb.ca/
URL:https://ninecircles.ca/event/closed-all-day-3/
LOCATION:Nine Circles Community Centre\, 705 Broadway Winnipeg\, Winnipeg\, Manitoba\, R3G 0X2\, Canada
CATEGORIES:Closure Announcement
END:VEVENT
END:VCALENDAR