BEGIN:VCALENDAR
VERSION:2.0
PRODID:-//Nine Circles Community Health Centre - ECPv6.15.18//NONSGML v1.0//EN
CALSCALE:GREGORIAN
METHOD:PUBLISH
X-ORIGINAL-URL:https://ninecircles.ca
X-WR-CALDESC:Events for Nine Circles Community Health Centre
REFRESH-INTERVAL;VALUE=DURATION:PT1H
X-Robots-Tag:noindex
X-PUBLISHED-TTL:PT1H
BEGIN:VTIMEZONE
TZID:America/Winnipeg
BEGIN:DAYLIGHT
TZOFFSETFROM:-0600
TZOFFSETTO:-0500
TZNAME:CDT
DTSTART:20240310T080000
END:DAYLIGHT
BEGIN:STANDARD
TZOFFSETFROM:-0500
TZOFFSETTO:-0600
TZNAME:CST
DTSTART:20241103T070000
END:STANDARD
BEGIN:DAYLIGHT
TZOFFSETFROM:-0600
TZOFFSETTO:-0500
TZNAME:CDT
DTSTART:20250309T080000
END:DAYLIGHT
BEGIN:STANDARD
TZOFFSETFROM:-0500
TZOFFSETTO:-0600
TZNAME:CST
DTSTART:20251102T070000
END:STANDARD
BEGIN:DAYLIGHT
TZOFFSETFROM:-0600
TZOFFSETTO:-0500
TZNAME:CDT
DTSTART:20260308T080000
END:DAYLIGHT
BEGIN:STANDARD
TZOFFSETFROM:-0500
TZOFFSETTO:-0600
TZNAME:CST
DTSTART:20261101T070000
END:STANDARD
END:VTIMEZONE
BEGIN:VEVENT
DTSTART;TZID=America/Winnipeg:20251231T150000
DTEND;TZID=America/Winnipeg:20251231T170000
DTSTAMP:20260420T163224
CREATED:20251127T143741Z
LAST-MODIFIED:20251127T145108Z
UID:10007706-1767193200-1767200400@ninecircles.ca
SUMMARY:Early Closure Notice: Closing at 3:00 p.m.
DESCRIPTION:We Will Be Closing at 3:00 p.m. on Wednesday\, December 24th and Wednesday\, December 31st\nThis includes our drop-in services\, e-mail\, and phone lines. \nNine Circles Holiday Hours: \n\nWednesday\, December 24th – 9am-3pm \nThursday\, December 25th – Closed \nFriday\, December 26th – Closed \nWednesday\, December 31st – 9am-3pm \nThursday\, January 1st – Closed \n\nAside from the hours mentioned above\, our standard operational hours will be in effect [Monday – Friday 9:00am-5:00pm\, closed evenings\, weekends\, and general holidays]. Please visit: www.ninecircles.ca/events for all program and closure information or call 204-940-6000 for more information. \nWishing you a joyful holiday season!
URL:https://ninecircles.ca/event/early-closure-notice-closing-at-300-p-m/2025-12-31/
LOCATION:Nine Circles Community Centre\, 705 Broadway Winnipeg\, Winnipeg\, Manitoba\, R3G 0X2\, Canada
CATEGORIES:Closure Announcement
END:VEVENT
END:VCALENDAR