BEGIN:VCALENDAR
VERSION:2.0
PRODID:-//Nine Circles Community Health Centre - ECPv6.15.18//NONSGML v1.0//EN
CALSCALE:GREGORIAN
METHOD:PUBLISH
X-ORIGINAL-URL:https://ninecircles.ca
X-WR-CALDESC:Events for Nine Circles Community Health Centre
REFRESH-INTERVAL;VALUE=DURATION:PT1H
X-Robots-Tag:noindex
X-PUBLISHED-TTL:PT1H
BEGIN:VTIMEZONE
TZID:America/Winnipeg
BEGIN:DAYLIGHT
TZOFFSETFROM:-0600
TZOFFSETTO:-0500
TZNAME:CDT
DTSTART:20210314T080000
END:DAYLIGHT
BEGIN:STANDARD
TZOFFSETFROM:-0500
TZOFFSETTO:-0600
TZNAME:CST
DTSTART:20211107T070000
END:STANDARD
BEGIN:DAYLIGHT
TZOFFSETFROM:-0600
TZOFFSETTO:-0500
TZNAME:CDT
DTSTART:20220313T080000
END:DAYLIGHT
BEGIN:STANDARD
TZOFFSETFROM:-0500
TZOFFSETTO:-0600
TZNAME:CST
DTSTART:20221106T070000
END:STANDARD
BEGIN:DAYLIGHT
TZOFFSETFROM:-0600
TZOFFSETTO:-0500
TZNAME:CDT
DTSTART:20230312T080000
END:DAYLIGHT
BEGIN:STANDARD
TZOFFSETFROM:-0500
TZOFFSETTO:-0600
TZNAME:CST
DTSTART:20231105T070000
END:STANDARD
BEGIN:DAYLIGHT
TZOFFSETFROM:-0600
TZOFFSETTO:-0500
TZNAME:CDT
DTSTART:20240310T080000
END:DAYLIGHT
BEGIN:STANDARD
TZOFFSETFROM:-0500
TZOFFSETTO:-0600
TZNAME:CST
DTSTART:20241103T070000
END:STANDARD
END:VTIMEZONE
BEGIN:VEVENT
DTSTART;VALUE=DATE:20231226
DTEND;VALUE=DATE:20231227
DTSTAMP:20260425T111404
CREATED:20231127T182322Z
LAST-MODIFIED:20231127T182322Z
UID:10005283-1703577600-1703610000@ninecircles.ca
SUMMARY:Closure Announcement
DESCRIPTION:Nine Circles Community Health Centre will be closed today from 9:00 a.m. – 5:00 p.m.\nThis includes our phone lines\, e-mail\, social media\, and drop in harm reduction services. \nIf this is after hours or an emergency\, please contact Health Links at 204-788-8200 or call 911. Have a question about sexually transmitted and blood-borne infections (STBBIs)? Visit our Q&A website available 24/7 at https://sexfriendlymb.ca/
URL:https://ninecircles.ca/event/closure-announcement/2023-12-26/
LOCATION:Nine Circles Community Centre\, 705 Broadway Winnipeg\, Winnipeg\, Manitoba\, R3G 0X2\, Canada
CATEGORIES:Closure Announcement
END:VEVENT
BEGIN:VEVENT
DTSTART;VALUE=DATE:20231225
DTEND;VALUE=DATE:20231226
DTSTAMP:20260425T111404
CREATED:20231127T182322Z
LAST-MODIFIED:20231127T182322Z
UID:10005282-1703462400-1703548799@ninecircles.ca
SUMMARY:Closure Announcement
DESCRIPTION:Nine Circles Community Health Centre will be closed today from 9:00 a.m. – 5:00 p.m.\nThis includes our phone lines\, e-mail\, social media\, and drop in harm reduction services. \nIf this is after hours or an emergency\, please contact Health Links at 204-788-8200 or call 911. Have a question about sexually transmitted and blood-borne infections (STBBIs)? Visit our Q&A website available 24/7 at https://sexfriendlymb.ca/
URL:https://ninecircles.ca/event/closure-announcement/2023-12-25/
LOCATION:Nine Circles Community Centre\, 705 Broadway Winnipeg\, Winnipeg\, Manitoba\, R3G 0X2\, Canada
CATEGORIES:Closure Announcement
END:VEVENT
BEGIN:VEVENT
DTSTART;TZID=America/Winnipeg:20231212T090000
DTEND;TZID=America/Winnipeg:20231212T120000
DTSTAMP:20260425T111404
CREATED:20221213T195902Z
LAST-MODIFIED:20260105T202810Z
UID:10001614-1702371600-1702382400@ninecircles.ca
SUMMARY:All Staff Meeting - Closed Until 12:00pm
DESCRIPTION:Nine Circles Community Health Staff meet every second Tuesday of the month for an all staff meeting\, this means that in-person appointments\, Pit Stop harm reduction services\, phone\, and e-mail services are closed to the public. \nIf you need assistance\, please call 204-940-6000 or visit us at 705 Broadway after 12:00pm. \nIf you need immediate assistance or this is an emergency\, please contact Health Links at 204-788-8200 or call 9-11. Have a question about sexually transmitted and blood-borne infections (STBBIs)? Visit our Q&A website https://sexfriendlymb.ca/
URL:https://ninecircles.ca/event/all-staff-meeting-closed-until-1200pm/2023-12-12/
LOCATION:Nine Circles Community Centre\, 705 Broadway Winnipeg\, Winnipeg\, Manitoba\, R3G 0X2\, Canada
CATEGORIES:Announcements,Closure Announcement
ORGANIZER;CN="Nine Circles Community Health":MAILTO:ninecircles@ninecircles.ca
END:VEVENT
BEGIN:VEVENT
DTSTART;VALUE=DATE:20231114
DTEND;VALUE=DATE:20231115
DTSTAMP:20260425T111404
CREATED:20231026T154533Z
LAST-MODIFIED:20231026T154623Z
UID:10005185-1699920000-1700006399@ninecircles.ca
SUMMARY:Closed All Day for All Staff Training
DESCRIPTION:Nine Circles Community Health Centre will be closed all day for an all staff training. This means that in-person appointments\, Pit Stop harm reduction services\, phone\, and e-mail services are closed to the public. \nIf you need assistance\, please call 204-940-6000 or visit us at 705 Broadway Wednesday\, November 15th at 9:00 a.m. \nIf you need immediate assistance or this is an emergency\, please contact Health Links at 204-788-8200 or call 9-11. Have a question about sexually transmitted and blood-borne infections (STBBIs)? Visit our Q&A website https://sexfriendlymb.ca/
URL:https://ninecircles.ca/event/closed-all-day-for-all-staff-training/
LOCATION:Nine Circles Community Centre\, 705 Broadway Winnipeg\, Winnipeg\, Manitoba\, R3G 0X2\, Canada
CATEGORIES:Announcements,Closure Announcement
END:VEVENT
BEGIN:VEVENT
DTSTART;VALUE=DATE:20231113
DTEND;VALUE=DATE:20231114
DTSTAMP:20260425T111404
CREATED:20231025T153253Z
LAST-MODIFIED:20231025T155055Z
UID:10005136-1699833600-1699919999@ninecircles.ca
SUMMARY:Closure: Monday November 13th
DESCRIPTION:We will be closed all day in lieu of Remembrance Day.  This includes our phone lines\, drop-in harm reduction services\, and social media.
URL:https://ninecircles.ca/event/closure-monday-november-13th/
LOCATION:Nine Circles Community Centre\, 705 Broadway Winnipeg\, Winnipeg\, Manitoba\, R3G 0X2\, Canada
CATEGORIES:Announcements,Closure Announcement
END:VEVENT
BEGIN:VEVENT
DTSTART;TZID=America/Winnipeg:20231010T090000
DTEND;TZID=America/Winnipeg:20231010T120000
DTSTAMP:20260425T111405
CREATED:20221213T195902Z
LAST-MODIFIED:20260105T202810Z
UID:10001612-1696928400-1696939200@ninecircles.ca
SUMMARY:All Staff Meeting - Closed Until 12:00pm
DESCRIPTION:Nine Circles Community Health Staff meet every second Tuesday of the month for an all staff meeting\, this means that in-person appointments\, Pit Stop harm reduction services\, phone\, and e-mail services are closed to the public. \nIf you need assistance\, please call 204-940-6000 or visit us at 705 Broadway after 12:00pm. \nIf you need immediate assistance or this is an emergency\, please contact Health Links at 204-788-8200 or call 9-11. Have a question about sexually transmitted and blood-borne infections (STBBIs)? Visit our Q&A website https://sexfriendlymb.ca/
URL:https://ninecircles.ca/event/all-staff-meeting-closed-until-1200pm/2023-10-10/
LOCATION:Nine Circles Community Centre\, 705 Broadway Winnipeg\, Winnipeg\, Manitoba\, R3G 0X2\, Canada
CATEGORIES:Announcements,Closure Announcement
ORGANIZER;CN="Nine Circles Community Health":MAILTO:ninecircles@ninecircles.ca
END:VEVENT
BEGIN:VEVENT
DTSTART;TZID=America/Winnipeg:20230912T090000
DTEND;TZID=America/Winnipeg:20230912T120000
DTSTAMP:20260425T111405
CREATED:20221213T195902Z
LAST-MODIFIED:20260105T202810Z
UID:10001611-1694509200-1694520000@ninecircles.ca
SUMMARY:All Staff Meeting - Closed Until 12:00pm
DESCRIPTION:Nine Circles Community Health Staff meet every second Tuesday of the month for an all staff meeting\, this means that in-person appointments\, Pit Stop harm reduction services\, phone\, and e-mail services are closed to the public. \nIf you need assistance\, please call 204-940-6000 or visit us at 705 Broadway after 12:00pm. \nIf you need immediate assistance or this is an emergency\, please contact Health Links at 204-788-8200 or call 9-11. Have a question about sexually transmitted and blood-borne infections (STBBIs)? Visit our Q&A website https://sexfriendlymb.ca/
URL:https://ninecircles.ca/event/all-staff-meeting-closed-until-1200pm/2023-09-12/
LOCATION:Nine Circles Community Centre\, 705 Broadway Winnipeg\, Winnipeg\, Manitoba\, R3G 0X2\, Canada
CATEGORIES:Announcements,Closure Announcement
ORGANIZER;CN="Nine Circles Community Health":MAILTO:ninecircles@ninecircles.ca
END:VEVENT
BEGIN:VEVENT
DTSTART;VALUE=DATE:20230904
DTEND;VALUE=DATE:20230905
DTSTAMP:20260425T111405
CREATED:20230830T190038Z
LAST-MODIFIED:20230830T190038Z
UID:10002555-1693785600-1693871999@ninecircles.ca
SUMMARY:Closed on Labour Day Monday
DESCRIPTION:
URL:https://ninecircles.ca/event/closed-on-labour-day-monday/
LOCATION:Nine Circles Community Centre\, 705 Broadway Winnipeg\, Winnipeg\, Manitoba\, R3G 0X2\, Canada
CATEGORIES:Closure Announcement
END:VEVENT
BEGIN:VEVENT
DTSTART;TZID=America/Winnipeg:20230808T090000
DTEND;TZID=America/Winnipeg:20230808T120000
DTSTAMP:20260425T111405
CREATED:20221213T195902Z
LAST-MODIFIED:20260105T202810Z
UID:10001610-1691485200-1691496000@ninecircles.ca
SUMMARY:All Staff Meeting - Closed Until 12:00pm
DESCRIPTION:Nine Circles Community Health Staff meet every second Tuesday of the month for an all staff meeting\, this means that in-person appointments\, Pit Stop harm reduction services\, phone\, and e-mail services are closed to the public. \nIf you need assistance\, please call 204-940-6000 or visit us at 705 Broadway after 12:00pm. \nIf you need immediate assistance or this is an emergency\, please contact Health Links at 204-788-8200 or call 9-11. Have a question about sexually transmitted and blood-borne infections (STBBIs)? Visit our Q&A website https://sexfriendlymb.ca/
URL:https://ninecircles.ca/event/all-staff-meeting-closed-until-1200pm/2023-08-08/
LOCATION:Nine Circles Community Centre\, 705 Broadway Winnipeg\, Winnipeg\, Manitoba\, R3G 0X2\, Canada
CATEGORIES:Announcements,Closure Announcement
ORGANIZER;CN="Nine Circles Community Health":MAILTO:ninecircles@ninecircles.ca
END:VEVENT
BEGIN:VEVENT
DTSTART;TZID=America/Winnipeg:20230711T090000
DTEND;TZID=America/Winnipeg:20230711T120000
DTSTAMP:20260425T111405
CREATED:20221213T195902Z
LAST-MODIFIED:20260105T202810Z
UID:10001609-1689066000-1689076800@ninecircles.ca
SUMMARY:All Staff Meeting - Closed Until 12:00pm
DESCRIPTION:Nine Circles Community Health Staff meet every second Tuesday of the month for an all staff meeting\, this means that in-person appointments\, Pit Stop harm reduction services\, phone\, and e-mail services are closed to the public. \nIf you need assistance\, please call 204-940-6000 or visit us at 705 Broadway after 12:00pm. \nIf you need immediate assistance or this is an emergency\, please contact Health Links at 204-788-8200 or call 9-11. Have a question about sexually transmitted and blood-borne infections (STBBIs)? Visit our Q&A website https://sexfriendlymb.ca/
URL:https://ninecircles.ca/event/all-staff-meeting-closed-until-1200pm/2023-07-11/
LOCATION:Nine Circles Community Centre\, 705 Broadway Winnipeg\, Winnipeg\, Manitoba\, R3G 0X2\, Canada
CATEGORIES:Announcements,Closure Announcement
ORGANIZER;CN="Nine Circles Community Health":MAILTO:ninecircles@ninecircles.ca
END:VEVENT
BEGIN:VEVENT
DTSTART;VALUE=DATE:20230703
DTEND;VALUE=DATE:20230704
DTSTAMP:20260425T111405
CREATED:20230628T153911Z
LAST-MODIFIED:20230628T153911Z
UID:10002527-1688371200-1688403600@ninecircles.ca
SUMMARY:Closed for Long Weekend
DESCRIPTION:Nine Circles Community Health Centre will be closed Monday July 3rd. We will re-open on Tuesday\, July 4thth at 9:00am. Our social media\, Pit Stop\, phone lines\, and e-mail will not be monitored while we are closed. \nWe hope you have a safe and enjoyable long weekend!
URL:https://ninecircles.ca/event/closed-for-long-weekend/2023-07-03/2/
LOCATION:Nine Circles Community Centre\, 705 Broadway Winnipeg\, Winnipeg\, Manitoba\, R3G 0X2\, Canada
CATEGORIES:Announcements,Closure Announcement
END:VEVENT
BEGIN:VEVENT
DTSTART;VALUE=DATE:20230703
DTEND;VALUE=DATE:20230704
DTSTAMP:20260425T111405
CREATED:20230628T153911Z
LAST-MODIFIED:20230628T153911Z
UID:10002526-1688342400-1688428799@ninecircles.ca
SUMMARY:Closed for Long Weekend
DESCRIPTION:Nine Circles Community Health Centre will be closed Monday July 3rd. We will re-open on Tuesday\, July 4thth at 9:00am. Our social media\, Pit Stop\, phone lines\, and e-mail will not be monitored while we are closed. \nWe hope you have a safe and enjoyable long weekend!
URL:https://ninecircles.ca/event/closed-for-long-weekend/2023-07-03/1/
LOCATION:Nine Circles Community Centre\, 705 Broadway Winnipeg\, Winnipeg\, Manitoba\, R3G 0X2\, Canada
CATEGORIES:Announcements,Closure Announcement
END:VEVENT
BEGIN:VEVENT
DTSTART;TZID=America/Winnipeg:20230613T090000
DTEND;TZID=America/Winnipeg:20230613T120000
DTSTAMP:20260425T111405
CREATED:20221213T195902Z
LAST-MODIFIED:20260105T202810Z
UID:10001608-1686646800-1686657600@ninecircles.ca
SUMMARY:All Staff Meeting - Closed Until 12:00pm
DESCRIPTION:Nine Circles Community Health Staff meet every second Tuesday of the month for an all staff meeting\, this means that in-person appointments\, Pit Stop harm reduction services\, phone\, and e-mail services are closed to the public. \nIf you need assistance\, please call 204-940-6000 or visit us at 705 Broadway after 12:00pm. \nIf you need immediate assistance or this is an emergency\, please contact Health Links at 204-788-8200 or call 9-11. Have a question about sexually transmitted and blood-borne infections (STBBIs)? Visit our Q&A website https://sexfriendlymb.ca/
URL:https://ninecircles.ca/event/all-staff-meeting-closed-until-1200pm/2023-06-13/
LOCATION:Nine Circles Community Centre\, 705 Broadway Winnipeg\, Winnipeg\, Manitoba\, R3G 0X2\, Canada
CATEGORIES:Announcements,Closure Announcement
ORGANIZER;CN="Nine Circles Community Health":MAILTO:ninecircles@ninecircles.ca
END:VEVENT
BEGIN:VEVENT
DTSTART;TZID=America/Winnipeg:20230509T090000
DTEND;TZID=America/Winnipeg:20230509T120000
DTSTAMP:20260425T111405
CREATED:20221213T195902Z
LAST-MODIFIED:20260105T202810Z
UID:10001607-1683622800-1683633600@ninecircles.ca
SUMMARY:All Staff Meeting - Closed Until 12:00pm
DESCRIPTION:Nine Circles Community Health Staff meet every second Tuesday of the month for an all staff meeting\, this means that in-person appointments\, Pit Stop harm reduction services\, phone\, and e-mail services are closed to the public. \nIf you need assistance\, please call 204-940-6000 or visit us at 705 Broadway after 12:00pm. \nIf you need immediate assistance or this is an emergency\, please contact Health Links at 204-788-8200 or call 9-11. Have a question about sexually transmitted and blood-borne infections (STBBIs)? Visit our Q&A website https://sexfriendlymb.ca/
URL:https://ninecircles.ca/event/all-staff-meeting-closed-until-1200pm/2023-05-09/
LOCATION:Nine Circles Community Centre\, 705 Broadway Winnipeg\, Winnipeg\, Manitoba\, R3G 0X2\, Canada
CATEGORIES:Announcements,Closure Announcement
ORGANIZER;CN="Nine Circles Community Health":MAILTO:ninecircles@ninecircles.ca
END:VEVENT
BEGIN:VEVENT
DTSTART;TZID=America/Winnipeg:20230411T090000
DTEND;TZID=America/Winnipeg:20230411T120000
DTSTAMP:20260425T111405
CREATED:20221213T195902Z
LAST-MODIFIED:20260105T202810Z
UID:10001606-1681203600-1681214400@ninecircles.ca
SUMMARY:All Staff Meeting - Closed Until 12:00pm
DESCRIPTION:Nine Circles Community Health Staff meet every second Tuesday of the month for an all staff meeting\, this means that in-person appointments\, Pit Stop harm reduction services\, phone\, and e-mail services are closed to the public. \nIf you need assistance\, please call 204-940-6000 or visit us at 705 Broadway after 12:00pm. \nIf you need immediate assistance or this is an emergency\, please contact Health Links at 204-788-8200 or call 9-11. Have a question about sexually transmitted and blood-borne infections (STBBIs)? Visit our Q&A website https://sexfriendlymb.ca/
URL:https://ninecircles.ca/event/all-staff-meeting-closed-until-1200pm/2023-04-11/
LOCATION:Nine Circles Community Centre\, 705 Broadway Winnipeg\, Winnipeg\, Manitoba\, R3G 0X2\, Canada
CATEGORIES:Announcements,Closure Announcement
ORGANIZER;CN="Nine Circles Community Health":MAILTO:ninecircles@ninecircles.ca
END:VEVENT
BEGIN:VEVENT
DTSTART;VALUE=DATE:20230410
DTEND;VALUE=DATE:20230411
DTSTAMP:20260425T111405
CREATED:20230403T145303Z
LAST-MODIFIED:20230403T145303Z
UID:10002521-1681084800-1681171199@ninecircles.ca
SUMMARY:Closed for Easter Monday
DESCRIPTION:Nine Circles Community Health Centre will be closed Friday April 7th to Monday April 10th. We will re-open on Tuesday\, April 11th at 9:00am. Our social media\, Pit Stop\, phone lines\, and e-mail will not be monitored while we are closed. \nWe hope you have a safe and enjoyable long weekend!
URL:https://ninecircles.ca/event/closed-for-easter-monday/
LOCATION:Nine Circles Community Centre\, 705 Broadway Winnipeg\, Winnipeg\, Manitoba\, R3G 0X2\, Canada
CATEGORIES:Announcements,Closure Announcement
END:VEVENT
BEGIN:VEVENT
DTSTART;VALUE=DATE:20230407
DTEND;VALUE=DATE:20230408
DTSTAMP:20260425T111405
CREATED:20230403T145226Z
LAST-MODIFIED:20230403T145409Z
UID:10002520-1680825600-1680911999@ninecircles.ca
SUMMARY:Closed for Good Friday
DESCRIPTION:Nine Circles Community Health Centre will be closed Friday April 7th to Monday April 10th. We will re-open on Tuesday\, April 11th at 9:00am. Our social media\, Pit Stop\, phone lines\, and e-mail will not be monitored while we are closed. \nWe hope you have a safe and enjoyable long weekend!
URL:https://ninecircles.ca/event/closed-for-good-friday/
LOCATION:Nine Circles Community Centre\, 705 Broadway Winnipeg\, Winnipeg\, Manitoba\, R3G 0X2\, Canada
CATEGORIES:Closure Announcement
END:VEVENT
BEGIN:VEVENT
DTSTART;TZID=America/Winnipeg:20230314T090000
DTEND;TZID=America/Winnipeg:20230314T120000
DTSTAMP:20260425T111405
CREATED:20221213T195902Z
LAST-MODIFIED:20260105T202810Z
UID:10001605-1678784400-1678795200@ninecircles.ca
SUMMARY:All Staff Meeting - Closed Until 12:00pm
DESCRIPTION:Nine Circles Community Health Staff meet every second Tuesday of the month for an all staff meeting\, this means that in-person appointments\, Pit Stop harm reduction services\, phone\, and e-mail services are closed to the public. \nIf you need assistance\, please call 204-940-6000 or visit us at 705 Broadway after 12:00pm. \nIf you need immediate assistance or this is an emergency\, please contact Health Links at 204-788-8200 or call 9-11. Have a question about sexually transmitted and blood-borne infections (STBBIs)? Visit our Q&A website https://sexfriendlymb.ca/
URL:https://ninecircles.ca/event/all-staff-meeting-closed-until-1200pm/2023-03-14/
LOCATION:Nine Circles Community Centre\, 705 Broadway Winnipeg\, Winnipeg\, Manitoba\, R3G 0X2\, Canada
CATEGORIES:Announcements,Closure Announcement
ORGANIZER;CN="Nine Circles Community Health":MAILTO:ninecircles@ninecircles.ca
END:VEVENT
BEGIN:VEVENT
DTSTART;VALUE=DATE:20230220
DTEND;VALUE=DATE:20230221
DTSTAMP:20260425T111405
CREATED:20230207T160704Z
LAST-MODIFIED:20230207T160820Z
UID:10001956-1676851200-1676937599@ninecircles.ca
SUMMARY:Closed for Louis Riel Day
DESCRIPTION:Monday marks Louis Riel Day in Manitoba\n  \nPlease note that Nine Circles Community Health Centre’s clinic\, phone lines\, drop-in services\, and social media will not be active as we are closed in recognition of Louis Riel Day on Monday February 20th. We will re-open on Tuesday February 21st at 9:00am. \n 
URL:https://ninecircles.ca/event/closed-for-louis-riel-day/2023-02-20/
LOCATION:Nine Circles Community Centre\, 705 Broadway Winnipeg\, Winnipeg\, Manitoba\, R3G 0X2\, Canada
CATEGORIES:Announcements,Closure Announcement
END:VEVENT
BEGIN:VEVENT
DTSTART;TZID=America/Winnipeg:20230214T090000
DTEND;TZID=America/Winnipeg:20230214T120000
DTSTAMP:20260425T111405
CREATED:20221213T195902Z
LAST-MODIFIED:20260105T202810Z
UID:10001604-1676365200-1676376000@ninecircles.ca
SUMMARY:All Staff Meeting - Closed Until 12:00pm
DESCRIPTION:Nine Circles Community Health Staff meet every second Tuesday of the month for an all staff meeting\, this means that in-person appointments\, Pit Stop harm reduction services\, phone\, and e-mail services are closed to the public. \nIf you need assistance\, please call 204-940-6000 or visit us at 705 Broadway after 12:00pm. \nIf you need immediate assistance or this is an emergency\, please contact Health Links at 204-788-8200 or call 9-11. Have a question about sexually transmitted and blood-borne infections (STBBIs)? Visit our Q&A website https://sexfriendlymb.ca/
URL:https://ninecircles.ca/event/all-staff-meeting-closed-until-1200pm/2023-02-14/
LOCATION:Nine Circles Community Centre\, 705 Broadway Winnipeg\, Winnipeg\, Manitoba\, R3G 0X2\, Canada
CATEGORIES:Announcements,Closure Announcement
ORGANIZER;CN="Nine Circles Community Health":MAILTO:ninecircles@ninecircles.ca
END:VEVENT
BEGIN:VEVENT
DTSTART;TZID=America/Winnipeg:20230110T090000
DTEND;TZID=America/Winnipeg:20230110T120000
DTSTAMP:20260425T111405
CREATED:20221213T195902Z
LAST-MODIFIED:20260105T202810Z
UID:10001603-1673341200-1673352000@ninecircles.ca
SUMMARY:All Staff Meeting - Closed Until 12:00pm
DESCRIPTION:Nine Circles Community Health Staff meet every second Tuesday of the month for an all staff meeting\, this means that in-person appointments\, Pit Stop harm reduction services\, phone\, and e-mail services are closed to the public. \nIf you need assistance\, please call 204-940-6000 or visit us at 705 Broadway after 12:00pm. \nIf you need immediate assistance or this is an emergency\, please contact Health Links at 204-788-8200 or call 9-11. Have a question about sexually transmitted and blood-borne infections (STBBIs)? Visit our Q&A website https://sexfriendlymb.ca/
URL:https://ninecircles.ca/event/all-staff-meeting-closed-until-1200pm/2023-01-10/
LOCATION:Nine Circles Community Centre\, 705 Broadway Winnipeg\, Winnipeg\, Manitoba\, R3G 0X2\, Canada
CATEGORIES:Announcements,Closure Announcement
ORGANIZER;CN="Nine Circles Community Health":MAILTO:ninecircles@ninecircles.ca
END:VEVENT
BEGIN:VEVENT
DTSTART;TZID=America/Winnipeg:20221213T090000
DTEND;TZID=America/Winnipeg:20221213T120000
DTSTAMP:20260425T111405
CREATED:20221213T195902Z
LAST-MODIFIED:20260105T202810Z
UID:10001602-1670922000-1670932800@ninecircles.ca
SUMMARY:All Staff Meeting - Closed Until 12:00pm
DESCRIPTION:Nine Circles Community Health Staff meet every second Tuesday of the month for an all staff meeting\, this means that in-person appointments\, Pit Stop harm reduction services\, phone\, and e-mail services are closed to the public. \nIf you need assistance\, please call 204-940-6000 or visit us at 705 Broadway after 12:00pm. \nIf you need immediate assistance or this is an emergency\, please contact Health Links at 204-788-8200 or call 9-11. Have a question about sexually transmitted and blood-borne infections (STBBIs)? Visit our Q&A website https://sexfriendlymb.ca/
URL:https://ninecircles.ca/event/all-staff-meeting-closed-until-1200pm/2022-12-13/
LOCATION:Nine Circles Community Centre\, 705 Broadway Winnipeg\, Winnipeg\, Manitoba\, R3G 0X2\, Canada
CATEGORIES:Announcements,Closure Announcement
ORGANIZER;CN="Nine Circles Community Health":MAILTO:ninecircles@ninecircles.ca
END:VEVENT
END:VCALENDAR