BEGIN:VCALENDAR
VERSION:2.0
PRODID:-//Nine Circles Community Health Centre - ECPv6.15.18//NONSGML v1.0//EN
CALSCALE:GREGORIAN
METHOD:PUBLISH
X-WR-CALNAME:Nine Circles Community Health Centre
X-ORIGINAL-URL:https://ninecircles.ca
X-WR-CALDESC:Events for Nine Circles Community Health Centre
REFRESH-INTERVAL;VALUE=DURATION:PT1H
X-Robots-Tag:noindex
X-PUBLISHED-TTL:PT1H
BEGIN:VTIMEZONE
TZID:America/Winnipeg
BEGIN:DAYLIGHT
TZOFFSETFROM:-0600
TZOFFSETTO:-0500
TZNAME:CDT
DTSTART:20250309T080000
END:DAYLIGHT
BEGIN:STANDARD
TZOFFSETFROM:-0500
TZOFFSETTO:-0600
TZNAME:CST
DTSTART:20251102T070000
END:STANDARD
BEGIN:DAYLIGHT
TZOFFSETFROM:-0600
TZOFFSETTO:-0500
TZNAME:CDT
DTSTART:20260308T080000
END:DAYLIGHT
BEGIN:STANDARD
TZOFFSETFROM:-0500
TZOFFSETTO:-0600
TZNAME:CST
DTSTART:20261101T070000
END:STANDARD
BEGIN:DAYLIGHT
TZOFFSETFROM:-0600
TZOFFSETTO:-0500
TZNAME:CDT
DTSTART:20270314T080000
END:DAYLIGHT
BEGIN:STANDARD
TZOFFSETFROM:-0500
TZOFFSETTO:-0600
TZNAME:CST
DTSTART:20271107T070000
END:STANDARD
END:VTIMEZONE
BEGIN:VEVENT
DTSTART;TZID=America/Winnipeg:20260106T140000
DTEND;TZID=America/Winnipeg:20260106T153000
DTSTAMP:20260420T212239
CREATED:20250623T201013Z
LAST-MODIFIED:20250623T201134Z
UID:10005213-1767708000-1767713400@ninecircles.ca
SUMMARY:Social Circle Drop-In
DESCRIPTION:Drop-in\, Hang Out\, Make Friends!\nNine Circles is proud to announce that it will resume drop-in programming with “Social Circle\,” happening on the first Tuesday of every month! Drop-in\, hang out\, make friends! Light refreshments provided. No registration needed\, just come between 2:00 p.m. – 3:30 p.m. to 705 Broadway and join us in the Gathering Place! \n 
URL:https://ninecircles.ca/event/social-circle-drop-in-2-2/2026-01-06/
LOCATION:Nine Circles Community Centre\, 705 Broadway Winnipeg\, Winnipeg\, Manitoba\, R3G 0X2\, Canada
CATEGORIES:Announcements,Community / Public Events
ATTACH;FMTTYPE=image/png:https://ninecircles.ca/wp-content/uploads/2023/11/Social-Circle-Drop-In.png
END:VEVENT
BEGIN:VEVENT
DTSTART;TZID=America/Winnipeg:20260120T140000
DTEND;TZID=America/Winnipeg:20260120T153000
DTSTAMP:20260420T212239
CREATED:20251211T192815Z
LAST-MODIFIED:20251211T192815Z
UID:10007720-1768917600-1768923000@ninecircles.ca
SUMMARY:Sharing Point Group
DESCRIPTION:Have something you want to get off your chest? Join us the third Tuesday of the month from 2:00 – 3:30 p.m. for Sharing Point. \nOpen to women and gender diverse folks that want a safe and casual space for connection\, sharing experiences\, and receive encouragement and support related to life struggles or circumstances.
URL:https://ninecircles.ca/event/sharing-point-group/2026-01-20/
LOCATION:Nine Circles Community Centre\, 705 Broadway Winnipeg\, Winnipeg\, Manitoba\, R3G 0X2\, Canada
CATEGORIES:Community / Public Events
END:VEVENT
BEGIN:VEVENT
DTSTART;TZID=America/Winnipeg:20260129T100000
DTEND;TZID=America/Winnipeg:20260129T120000
DTSTAMP:20260420T212239
CREATED:20260114T160515Z
LAST-MODIFIED:20260114T161108Z
UID:10007782-1769680800-1769688000@ninecircles.ca
SUMMARY:Vision Board Making with Art Beat Studio
DESCRIPTION:Thursday January 29th\, 2026\n10 AM-12 PM\n\nAll are welcome to join Artbeat Studio in a crafty morning of collaging! Make your own vision board for 2026 and connect with others over coffee!
URL:https://ninecircles.ca/event/vision-board-making-with-art-beat-studio/
LOCATION:Nine Circles Community Centre\, 705 Broadway Winnipeg\, Winnipeg\, Manitoba\, R3G 0X2\, Canada
CATEGORIES:Community / Public Events
ATTACH;FMTTYPE=image/jpeg:https://ninecircles.ca/wp-content/uploads/2026/01/Connection-Point-Vision-Board-Making-January-29-2025-1.jpg
ORGANIZER;CN="Nine Circles Community Health":MAILTO:ninecircles@ninecircles.ca
END:VEVENT
END:VCALENDAR