BEGIN:VCALENDAR
VERSION:2.0
PRODID:-//Nine Circles Community Health Centre - ECPv6.15.18//NONSGML v1.0//EN
CALSCALE:GREGORIAN
METHOD:PUBLISH
X-ORIGINAL-URL:https://ninecircles.ca
X-WR-CALDESC:Events for Nine Circles Community Health Centre
REFRESH-INTERVAL;VALUE=DURATION:PT1H
X-Robots-Tag:noindex
X-PUBLISHED-TTL:PT1H
BEGIN:VTIMEZONE
TZID:America/Winnipeg
BEGIN:DAYLIGHT
TZOFFSETFROM:-0600
TZOFFSETTO:-0500
TZNAME:CDT
DTSTART:20250309T080000
END:DAYLIGHT
BEGIN:STANDARD
TZOFFSETFROM:-0500
TZOFFSETTO:-0600
TZNAME:CST
DTSTART:20251102T070000
END:STANDARD
BEGIN:DAYLIGHT
TZOFFSETFROM:-0600
TZOFFSETTO:-0500
TZNAME:CDT
DTSTART:20260308T080000
END:DAYLIGHT
BEGIN:STANDARD
TZOFFSETFROM:-0500
TZOFFSETTO:-0600
TZNAME:CST
DTSTART:20261101T070000
END:STANDARD
BEGIN:DAYLIGHT
TZOFFSETFROM:-0600
TZOFFSETTO:-0500
TZNAME:CDT
DTSTART:20270314T080000
END:DAYLIGHT
BEGIN:STANDARD
TZOFFSETFROM:-0500
TZOFFSETTO:-0600
TZNAME:CST
DTSTART:20271107T070000
END:STANDARD
END:VTIMEZONE
BEGIN:VEVENT
DTSTART;TZID=America/Winnipeg:20260324T120000
DTEND;TZID=America/Winnipeg:20260324T160000
DTSTAMP:20260419T164258
CREATED:20260305T144657Z
LAST-MODIFIED:20260305T144657Z
UID:10008183-1774353600-1774368000@ninecircles.ca
SUMMARY:Canadian Museum for Human Rights Trip with Connection Point
DESCRIPTION:Join us for a Community Connections Outing to the Canadian Museum for Human Rights! \nTake in the current exhibitions such as: Reclaiming Power and Place\, Love in a Dangerous Time: Canada’s LGBT Purge\, Broken Promises\, and more. \nSchedule: \n\n12:00 PM Meet at Nine Circles if you wish to ride the bus together\n12:30 PM Meet at the Canadian Museum for Human Rights\n\nFolks who would like to bus back to Nine Circles together will depart the Museum at 4:00 PM. \nSpace is limited! Admission will be free for registrants in attendance. Bus tickets provided. Registration is required\, please contact: Kristen Wiltshire (204) 204-940-6043 or visit on site. 
URL:https://ninecircles.ca/event/canadian-museum-for-human-rights-trip-with-connection-point/
LOCATION:Nine Circles Community Centre\, 705 Broadway Winnipeg\, Winnipeg\, Manitoba\, R3G 0X2\, Canada
CATEGORIES:Community / Public Events
END:VEVENT
END:VCALENDAR