BEGIN:VCALENDAR
VERSION:2.0
PRODID:-//Nine Circles Community Health Centre - ECPv6.15.18//NONSGML v1.0//EN
CALSCALE:GREGORIAN
METHOD:PUBLISH
X-ORIGINAL-URL:https://ninecircles.ca
X-WR-CALDESC:Events for Nine Circles Community Health Centre
REFRESH-INTERVAL;VALUE=DURATION:PT1H
X-Robots-Tag:noindex
X-PUBLISHED-TTL:PT1H
BEGIN:VTIMEZONE
TZID:America/Winnipeg
BEGIN:DAYLIGHT
TZOFFSETFROM:-0600
TZOFFSETTO:-0500
TZNAME:CDT
DTSTART:20250309T080000
END:DAYLIGHT
BEGIN:STANDARD
TZOFFSETFROM:-0500
TZOFFSETTO:-0600
TZNAME:CST
DTSTART:20251102T070000
END:STANDARD
BEGIN:DAYLIGHT
TZOFFSETFROM:-0600
TZOFFSETTO:-0500
TZNAME:CDT
DTSTART:20260308T080000
END:DAYLIGHT
BEGIN:STANDARD
TZOFFSETFROM:-0500
TZOFFSETTO:-0600
TZNAME:CST
DTSTART:20261101T070000
END:STANDARD
BEGIN:DAYLIGHT
TZOFFSETFROM:-0600
TZOFFSETTO:-0500
TZNAME:CDT
DTSTART:20270314T080000
END:DAYLIGHT
BEGIN:STANDARD
TZOFFSETFROM:-0500
TZOFFSETTO:-0600
TZNAME:CST
DTSTART:20271107T070000
END:STANDARD
END:VTIMEZONE
BEGIN:VEVENT
DTSTART;TZID=America/Winnipeg:20260210T133000
DTEND;TZID=America/Winnipeg:20260210T153000
DTSTAMP:20260420T031046
CREATED:20260120T212353Z
LAST-MODIFIED:20260122T163101Z
UID:10007785-1770730200-1770737400@ninecircles.ca
SUMMARY:Connection Point Kick Off Celebration
DESCRIPTION:Come and celebrate the launch of the Connection Point program at Nine Circles! \nFebruary 10th\, 2026 in the Gathering Place at Nine Circles from 1:30 p.m. – 3:30 p.m.
URL:https://ninecircles.ca/event/community-connection-kick-off-celebration/
LOCATION:Nine Circles Community Centre\, 705 Broadway Winnipeg\, Winnipeg\, Manitoba\, R3G 0X2\, Canada
CATEGORIES:Community / Public Events
ATTACH;FMTTYPE=image/png:https://ninecircles.ca/wp-content/uploads/2026/01/Connection-Point-Kick-Off-Party-V1.png
END:VEVENT
BEGIN:VEVENT
DTSTART;TZID=America/Winnipeg:20260217T130000
DTEND;TZID=America/Winnipeg:20260217T140000
DTSTAMP:20260420T031046
CREATED:20260120T212006Z
LAST-MODIFIED:20260120T212006Z
UID:10007784-1771333200-1771336800@ninecircles.ca
SUMMARY:Family Law 101 Workshop with Lou Lamari
DESCRIPTION:Join Perrie Law Nunavut at Nine Circles Community Health Centre on Tuesday\, February 17th from 1-2pm for a free workshop on “Family Law 101” with Lou Lamari!\n\n\n\nDebunking legal myths and answering your questions about legal rights\, divorce\, child and spousal support\, end-of-life and medical planning\, substance use\, parenting and more!\n\n\n\nFree to attend and open to all in our community. It is by drop-in (no registration) but if you have questions\, please contact: communityengagement@ninecircles.ca
URL:https://ninecircles.ca/event/family-law-101-workshop-with-lou-lamari/
LOCATION:Nine Circles Community Centre\, 705 Broadway Winnipeg\, Winnipeg\, Manitoba\, R3G 0X2\, Canada
CATEGORIES:Community / Public Events
ATTACH;FMTTYPE=image/png:https://ninecircles.ca/wp-content/uploads/2026/01/Family-Law-101-Workshop-PDF-Instagram-Post-45.png
ORGANIZER;CN="Nine Circles Community Health":MAILTO:ninecircles@ninecircles.ca
END:VEVENT
BEGIN:VEVENT
DTSTART;TZID=America/Winnipeg:20260217T140000
DTEND;TZID=America/Winnipeg:20260217T153000
DTSTAMP:20260420T031046
CREATED:20251211T192815Z
LAST-MODIFIED:20251211T192815Z
UID:10007721-1771336800-1771342200@ninecircles.ca
SUMMARY:Sharing Point Group
DESCRIPTION:Have something you want to get off your chest? Join us the third Tuesday of the month from 2:00 – 3:30 p.m. for Sharing Point. \nOpen to women and gender diverse folks that want a safe and casual space for connection\, sharing experiences\, and receive encouragement and support related to life struggles or circumstances.
URL:https://ninecircles.ca/event/sharing-point-group/2026-02-17/
LOCATION:Nine Circles Community Centre\, 705 Broadway Winnipeg\, Winnipeg\, Manitoba\, R3G 0X2\, Canada
CATEGORIES:Community / Public Events
END:VEVENT
BEGIN:VEVENT
DTSTART;TZID=America/Winnipeg:20260226T100000
DTEND;TZID=America/Winnipeg:20260226T120000
DTSTAMP:20260420T031046
CREATED:20260120T212627Z
LAST-MODIFIED:20260120T212627Z
UID:10007786-1772100000-1772107200@ninecircles.ca
SUMMARY:Connection Point Artbeat Studio Workshop
DESCRIPTION:Thursday February 26\, 10 am-12 pm join us for a workshop with Artbeat Studio! All materials provided\, no registration needed.
URL:https://ninecircles.ca/event/connection-point-artbeat-studio-workshop/
LOCATION:Nine Circles Community Centre\, 705 Broadway Winnipeg\, Winnipeg\, Manitoba\, R3G 0X2\, Canada
CATEGORIES:Community / Public Events
ATTACH;FMTTYPE=image/png:https://ninecircles.ca/wp-content/uploads/2026/01/abs-c2.png
END:VEVENT
BEGIN:VEVENT
DTSTART;TZID=America/Winnipeg:20260303T140000
DTEND;TZID=America/Winnipeg:20260303T153000
DTSTAMP:20260420T031046
CREATED:20250623T201013Z
LAST-MODIFIED:20250623T201134Z
UID:10005215-1772546400-1772551800@ninecircles.ca
SUMMARY:Social Circle Drop-In
DESCRIPTION:Drop-in\, Hang Out\, Make Friends!\nNine Circles is proud to announce that it will resume drop-in programming with “Social Circle\,” happening on the first Tuesday of every month! Drop-in\, hang out\, make friends! Light refreshments provided. No registration needed\, just come between 2:00 p.m. – 3:30 p.m. to 705 Broadway and join us in the Gathering Place! \n 
URL:https://ninecircles.ca/event/social-circle-drop-in-2-2/2026-03-03/
LOCATION:Nine Circles Community Centre\, 705 Broadway Winnipeg\, Winnipeg\, Manitoba\, R3G 0X2\, Canada
CATEGORIES:Announcements,Community / Public Events
ATTACH;FMTTYPE=image/png:https://ninecircles.ca/wp-content/uploads/2023/11/Social-Circle-Drop-In.png
END:VEVENT
BEGIN:VEVENT
DTSTART;TZID=America/Winnipeg:20260306T130000
DTEND;TZID=America/Winnipeg:20260306T160000
DTSTAMP:20260420T031046
CREATED:20260305T144144Z
LAST-MODIFIED:20260327T145136Z
UID:10007862-1772802000-1772812800@ninecircles.ca
SUMMARY:Movies & Munchies
DESCRIPTION:Dive into arts and culture through film every first Friday of the month!\nAll are welcome to join us for snacks\, movies\, and great company.
URL:https://ninecircles.ca/event/movies-munchies/2026-03-06/
LOCATION:Nine Circles Community Centre\, 705 Broadway Winnipeg\, Winnipeg\, Manitoba\, R3G 0X2\, Canada
CATEGORIES:Community / Public Events
END:VEVENT
BEGIN:VEVENT
DTSTART;TZID=America/Winnipeg:20260317T140000
DTEND;TZID=America/Winnipeg:20260317T153000
DTSTAMP:20260420T031046
CREATED:20251211T192815Z
LAST-MODIFIED:20251211T192815Z
UID:10007722-1773756000-1773761400@ninecircles.ca
SUMMARY:Sharing Point Group
DESCRIPTION:Have something you want to get off your chest? Join us the third Tuesday of the month from 2:00 – 3:30 p.m. for Sharing Point. \nOpen to women and gender diverse folks that want a safe and casual space for connection\, sharing experiences\, and receive encouragement and support related to life struggles or circumstances.
URL:https://ninecircles.ca/event/sharing-point-group/2026-03-17/
LOCATION:Nine Circles Community Centre\, 705 Broadway Winnipeg\, Winnipeg\, Manitoba\, R3G 0X2\, Canada
CATEGORIES:Community / Public Events
END:VEVENT
BEGIN:VEVENT
DTSTART;TZID=America/Winnipeg:20260318T100000
DTEND;TZID=America/Winnipeg:20260318T120000
DTSTAMP:20260420T031046
CREATED:20260305T144328Z
LAST-MODIFIED:20260327T133248Z
UID:10007923-1773828000-1773835200@ninecircles.ca
SUMMARY:Coffee Talks
DESCRIPTION:It’s Back!\nAll are welcome to join us for a cozy meet up with coffee\, treats\, and connection. \nThis is a community-led space. Come as you are\, and share as much or as little as you would like! \nHave a topic\, skill\, or interest you want to share with others? Contact Kristen at: kwiltshire@ninecircles.ca or 204-940-6043
URL:https://ninecircles.ca/event/coffee-talks/2026-03-18/
LOCATION:Nine Circles Community Centre\, 705 Broadway Winnipeg\, Winnipeg\, Manitoba\, R3G 0X2\, Canada
CATEGORIES:Community / Public Events
END:VEVENT
BEGIN:VEVENT
DTSTART;TZID=America/Winnipeg:20260324T120000
DTEND;TZID=America/Winnipeg:20260324T160000
DTSTAMP:20260420T031046
CREATED:20260305T144657Z
LAST-MODIFIED:20260305T144657Z
UID:10008183-1774353600-1774368000@ninecircles.ca
SUMMARY:Canadian Museum for Human Rights Trip with Connection Point
DESCRIPTION:Join us for a Community Connections Outing to the Canadian Museum for Human Rights! \nTake in the current exhibitions such as: Reclaiming Power and Place\, Love in a Dangerous Time: Canada’s LGBT Purge\, Broken Promises\, and more. \nSchedule: \n\n12:00 PM Meet at Nine Circles if you wish to ride the bus together\n12:30 PM Meet at the Canadian Museum for Human Rights\n\nFolks who would like to bus back to Nine Circles together will depart the Museum at 4:00 PM. \nSpace is limited! Admission will be free for registrants in attendance. Bus tickets provided. Registration is required\, please contact: Kristen Wiltshire (204) 204-940-6043 or visit on site. 
URL:https://ninecircles.ca/event/canadian-museum-for-human-rights-trip-with-connection-point/
LOCATION:Nine Circles Community Centre\, 705 Broadway Winnipeg\, Winnipeg\, Manitoba\, R3G 0X2\, Canada
CATEGORIES:Community / Public Events
END:VEVENT
BEGIN:VEVENT
DTSTART;TZID=America/Winnipeg:20260325T100000
DTEND;TZID=America/Winnipeg:20260325T120000
DTSTAMP:20260420T031046
CREATED:20260305T144328Z
LAST-MODIFIED:20260327T133248Z
UID:10007924-1774432800-1774440000@ninecircles.ca
SUMMARY:Coffee Talks
DESCRIPTION:It’s Back!\nAll are welcome to join us for a cozy meet up with coffee\, treats\, and connection. \nThis is a community-led space. Come as you are\, and share as much or as little as you would like! \nHave a topic\, skill\, or interest you want to share with others? Contact Kristen at: kwiltshire@ninecircles.ca or 204-940-6043
URL:https://ninecircles.ca/event/coffee-talks/2026-03-25/
LOCATION:Nine Circles Community Centre\, 705 Broadway Winnipeg\, Winnipeg\, Manitoba\, R3G 0X2\, Canada
CATEGORIES:Community / Public Events
END:VEVENT
BEGIN:VEVENT
DTSTART;TZID=America/Winnipeg:20260401T100000
DTEND;TZID=America/Winnipeg:20260401T120000
DTSTAMP:20260420T031046
CREATED:20260305T144328Z
LAST-MODIFIED:20260327T133248Z
UID:10007925-1775037600-1775044800@ninecircles.ca
SUMMARY:Coffee Talks
DESCRIPTION:It’s Back!\nAll are welcome to join us for a cozy meet up with coffee\, treats\, and connection. \nThis is a community-led space. Come as you are\, and share as much or as little as you would like! \nHave a topic\, skill\, or interest you want to share with others? Contact Kristen at: kwiltshire@ninecircles.ca or 204-940-6043
URL:https://ninecircles.ca/event/coffee-talks/2026-04-01/
LOCATION:Nine Circles Community Centre\, 705 Broadway Winnipeg\, Winnipeg\, Manitoba\, R3G 0X2\, Canada
CATEGORIES:Community / Public Events
END:VEVENT
BEGIN:VEVENT
DTSTART;TZID=America/Winnipeg:20260407T140000
DTEND;TZID=America/Winnipeg:20260407T153000
DTSTAMP:20260420T031046
CREATED:20250623T201013Z
LAST-MODIFIED:20250623T201134Z
UID:10005216-1775570400-1775575800@ninecircles.ca
SUMMARY:Social Circle Drop-In
DESCRIPTION:Drop-in\, Hang Out\, Make Friends!\nNine Circles is proud to announce that it will resume drop-in programming with “Social Circle\,” happening on the first Tuesday of every month! Drop-in\, hang out\, make friends! Light refreshments provided. No registration needed\, just come between 2:00 p.m. – 3:30 p.m. to 705 Broadway and join us in the Gathering Place! \n 
URL:https://ninecircles.ca/event/social-circle-drop-in-2-2/2026-04-07/
LOCATION:Nine Circles Community Centre\, 705 Broadway Winnipeg\, Winnipeg\, Manitoba\, R3G 0X2\, Canada
CATEGORIES:Announcements,Community / Public Events
ATTACH;FMTTYPE=image/png:https://ninecircles.ca/wp-content/uploads/2023/11/Social-Circle-Drop-In.png
END:VEVENT
BEGIN:VEVENT
DTSTART;TZID=America/Winnipeg:20260408T100000
DTEND;TZID=America/Winnipeg:20260408T120000
DTSTAMP:20260420T031046
CREATED:20260305T144328Z
LAST-MODIFIED:20260327T133248Z
UID:10007926-1775642400-1775649600@ninecircles.ca
SUMMARY:Coffee Talks
DESCRIPTION:It’s Back!\nAll are welcome to join us for a cozy meet up with coffee\, treats\, and connection. \nThis is a community-led space. Come as you are\, and share as much or as little as you would like! \nHave a topic\, skill\, or interest you want to share with others? Contact Kristen at: kwiltshire@ninecircles.ca or 204-940-6043
URL:https://ninecircles.ca/event/coffee-talks/2026-04-08/
LOCATION:Nine Circles Community Centre\, 705 Broadway Winnipeg\, Winnipeg\, Manitoba\, R3G 0X2\, Canada
CATEGORIES:Community / Public Events
END:VEVENT
BEGIN:VEVENT
DTSTART;TZID=America/Winnipeg:20260410T133000
DTEND;TZID=America/Winnipeg:20260410T153000
DTSTAMP:20260420T031046
CREATED:20260305T144144Z
LAST-MODIFIED:20260327T145136Z
UID:10008196-1775827800-1775835000@ninecircles.ca
SUMMARY:Movies & Munchies
DESCRIPTION:Dive into arts and culture through film every first Friday of the month!\nAll are welcome to join us for snacks\, movies\, and great company.
URL:https://ninecircles.ca/event/movies-munchies/2026-04-10/
LOCATION:Nine Circles Community Centre\, 705 Broadway Winnipeg\, Winnipeg\, Manitoba\, R3G 0X2\, Canada
CATEGORIES:Community / Public Events
END:VEVENT
BEGIN:VEVENT
DTSTART;TZID=America/Winnipeg:20260415T100000
DTEND;TZID=America/Winnipeg:20260415T120000
DTSTAMP:20260420T031046
CREATED:20260305T144328Z
LAST-MODIFIED:20260327T133248Z
UID:10007927-1776247200-1776254400@ninecircles.ca
SUMMARY:Coffee Talks
DESCRIPTION:It’s Back!\nAll are welcome to join us for a cozy meet up with coffee\, treats\, and connection. \nThis is a community-led space. Come as you are\, and share as much or as little as you would like! \nHave a topic\, skill\, or interest you want to share with others? Contact Kristen at: kwiltshire@ninecircles.ca or 204-940-6043
URL:https://ninecircles.ca/event/coffee-talks/2026-04-15/
LOCATION:Nine Circles Community Centre\, 705 Broadway Winnipeg\, Winnipeg\, Manitoba\, R3G 0X2\, Canada
CATEGORIES:Community / Public Events
END:VEVENT
BEGIN:VEVENT
DTSTART;TZID=America/Winnipeg:20260415T120000
DTEND;TZID=America/Winnipeg:20260415T170000
DTSTAMP:20260420T031046
CREATED:20260327T145646Z
LAST-MODIFIED:20260327T145646Z
UID:10008198-1776254400-1776272400@ninecircles.ca
SUMMARY:Closed for Nine Circles Open House
DESCRIPTION:We will be closed on Wednesday\, April 15th for our Nine Circles Open House in Celebration of A Taste for Life Winnipeg starting at 12:00 p.m. for the remainder of the day. This includes our programming and services and may impact our phonelines and e-mail. Open House is by pre-registration only\, please contact communityengagement@ninecircles.ca for more information. \n 
URL:https://ninecircles.ca/event/closed-for-nine-circles-open-house/
LOCATION:Nine Circles Community Centre\, 705 Broadway Winnipeg\, Winnipeg\, Manitoba\, R3G 0X2\, Canada
CATEGORIES:Closure Announcement,Registered Event
ORGANIZER;CN="Nine Circles Community Health":MAILTO:ninecircles@ninecircles.ca
END:VEVENT
BEGIN:VEVENT
DTSTART;TZID=America/Winnipeg:20260417T123000
DTEND;TZID=America/Winnipeg:20260417T153000
DTSTAMP:20260420T031046
CREATED:20260330T140016Z
LAST-MODIFIED:20260330T140109Z
UID:10008209-1776429000-1776439800@ninecircles.ca
SUMMARY:Connection Point Outing to WAG-Q
DESCRIPTION:Please meet at 12:30 P.M. at Nine Circles so we can make our way together as a group to the Winnipeg Art Gallery-Qaumajuq (300 Memorial Blvd.) \nIf active transportation is a barrier\, please let us know and we will provide you with additional bus tickets ahead of time. \nRegistration is required\, space is limited! \nPlease contact Kristen to sign up at: \nE: kwiltshire@ninecircles.ca \nPh: 204-940-6043 \nOR ask to sign up at the Pit Stop or Clinic desk at Nine Circles
URL:https://ninecircles.ca/event/connection-point-outing-to-wag-q/
LOCATION:Nine Circles Community Centre\, 705 Broadway Winnipeg\, Winnipeg\, Manitoba\, R3G 0X2\, Canada
CATEGORIES:Community / Public Events,Connection Point
ATTACH;FMTTYPE=image/png:https://ninecircles.ca/wp-content/uploads/2026/03/Art-in-Bloom-Connection-Point-April-Outing-Instagram-Post-45-1.png
END:VEVENT
BEGIN:VEVENT
DTSTART;TZID=America/Winnipeg:20260421T110000
DTEND;TZID=America/Winnipeg:20260421T140000
DTSTAMP:20260420T031046
CREATED:20260330T144929Z
LAST-MODIFIED:20260330T145010Z
UID:10008210-1776769200-1776780000@ninecircles.ca
SUMMARY:Bloom into Spring: Self-Care Event with MC College
DESCRIPTION:Come celebrate the new season with a free fresh haircut or manicure and a little springtime self-care \nSpots are limited\, register by April 15th by contacting Kristen at: 204-940-6043\, email kwiltshire@ninecircles.ca\, or ask for Kristen at the Pit stop or Clinic desks! \n 
URL:https://ninecircles.ca/event/bloom-into-spring-self-care-event-with-mc-college/
LOCATION:Nine Circles Community Centre\, 705 Broadway Winnipeg\, Winnipeg\, Manitoba\, R3G 0X2\, Canada
CATEGORIES:Connection Point
END:VEVENT
BEGIN:VEVENT
DTSTART;TZID=America/Winnipeg:20260421T140000
DTEND;TZID=America/Winnipeg:20260421T153000
DTSTAMP:20260420T031046
CREATED:20251211T192815Z
LAST-MODIFIED:20251211T192815Z
UID:10007723-1776780000-1776785400@ninecircles.ca
SUMMARY:Sharing Point Group
DESCRIPTION:Have something you want to get off your chest? Join us the third Tuesday of the month from 2:00 – 3:30 p.m. for Sharing Point. \nOpen to women and gender diverse folks that want a safe and casual space for connection\, sharing experiences\, and receive encouragement and support related to life struggles or circumstances.
URL:https://ninecircles.ca/event/sharing-point-group/2026-04-21/
LOCATION:Nine Circles Community Centre\, 705 Broadway Winnipeg\, Winnipeg\, Manitoba\, R3G 0X2\, Canada
CATEGORIES:Community / Public Events
END:VEVENT
BEGIN:VEVENT
DTSTART;TZID=America/Winnipeg:20260422T100000
DTEND;TZID=America/Winnipeg:20260422T120000
DTSTAMP:20260420T031046
CREATED:20260305T144328Z
LAST-MODIFIED:20260327T133248Z
UID:10007928-1776852000-1776859200@ninecircles.ca
SUMMARY:Coffee Talks
DESCRIPTION:It’s Back!\nAll are welcome to join us for a cozy meet up with coffee\, treats\, and connection. \nThis is a community-led space. Come as you are\, and share as much or as little as you would like! \nHave a topic\, skill\, or interest you want to share with others? Contact Kristen at: kwiltshire@ninecircles.ca or 204-940-6043
URL:https://ninecircles.ca/event/coffee-talks/2026-04-22/
LOCATION:Nine Circles Community Centre\, 705 Broadway Winnipeg\, Winnipeg\, Manitoba\, R3G 0X2\, Canada
CATEGORIES:Community / Public Events
END:VEVENT
BEGIN:VEVENT
DTSTART;TZID=America/Winnipeg:20260429T100000
DTEND;TZID=America/Winnipeg:20260429T120000
DTSTAMP:20260420T031046
CREATED:20260305T144328Z
LAST-MODIFIED:20260327T133248Z
UID:10007929-1777456800-1777464000@ninecircles.ca
SUMMARY:Coffee Talks
DESCRIPTION:It’s Back!\nAll are welcome to join us for a cozy meet up with coffee\, treats\, and connection. \nThis is a community-led space. Come as you are\, and share as much or as little as you would like! \nHave a topic\, skill\, or interest you want to share with others? Contact Kristen at: kwiltshire@ninecircles.ca or 204-940-6043
URL:https://ninecircles.ca/event/coffee-talks/2026-04-29/
LOCATION:Nine Circles Community Centre\, 705 Broadway Winnipeg\, Winnipeg\, Manitoba\, R3G 0X2\, Canada
CATEGORIES:Community / Public Events
END:VEVENT
BEGIN:VEVENT
DTSTART;TZID=America/Winnipeg:20260501T130000
DTEND;TZID=America/Winnipeg:20260501T160000
DTSTAMP:20260420T031046
CREATED:20260305T144144Z
LAST-MODIFIED:20260327T145136Z
UID:10007864-1777640400-1777651200@ninecircles.ca
SUMMARY:Movies & Munchies
DESCRIPTION:Dive into arts and culture through film every first Friday of the month!\nAll are welcome to join us for snacks\, movies\, and great company.
URL:https://ninecircles.ca/event/movies-munchies/2026-05-01/
LOCATION:Nine Circles Community Centre\, 705 Broadway Winnipeg\, Winnipeg\, Manitoba\, R3G 0X2\, Canada
CATEGORIES:Community / Public Events
END:VEVENT
BEGIN:VEVENT
DTSTART;TZID=America/Winnipeg:20260505T140000
DTEND;TZID=America/Winnipeg:20260505T153000
DTSTAMP:20260420T031046
CREATED:20250623T201013Z
LAST-MODIFIED:20250623T201134Z
UID:10005217-1777989600-1777995000@ninecircles.ca
SUMMARY:Social Circle Drop-In
DESCRIPTION:Drop-in\, Hang Out\, Make Friends!\nNine Circles is proud to announce that it will resume drop-in programming with “Social Circle\,” happening on the first Tuesday of every month! Drop-in\, hang out\, make friends! Light refreshments provided. No registration needed\, just come between 2:00 p.m. – 3:30 p.m. to 705 Broadway and join us in the Gathering Place! \n 
URL:https://ninecircles.ca/event/social-circle-drop-in-2-2/2026-05-05/
LOCATION:Nine Circles Community Centre\, 705 Broadway Winnipeg\, Winnipeg\, Manitoba\, R3G 0X2\, Canada
CATEGORIES:Announcements,Community / Public Events
ATTACH;FMTTYPE=image/png:https://ninecircles.ca/wp-content/uploads/2023/11/Social-Circle-Drop-In.png
END:VEVENT
BEGIN:VEVENT
DTSTART;TZID=America/Winnipeg:20260506T100000
DTEND;TZID=America/Winnipeg:20260506T120000
DTSTAMP:20260420T031046
CREATED:20260305T144328Z
LAST-MODIFIED:20260327T133248Z
UID:10007930-1778061600-1778068800@ninecircles.ca
SUMMARY:Coffee Talks
DESCRIPTION:It’s Back!\nAll are welcome to join us for a cozy meet up with coffee\, treats\, and connection. \nThis is a community-led space. Come as you are\, and share as much or as little as you would like! \nHave a topic\, skill\, or interest you want to share with others? Contact Kristen at: kwiltshire@ninecircles.ca or 204-940-6043
URL:https://ninecircles.ca/event/coffee-talks/2026-05-06/
LOCATION:Nine Circles Community Centre\, 705 Broadway Winnipeg\, Winnipeg\, Manitoba\, R3G 0X2\, Canada
CATEGORIES:Community / Public Events
END:VEVENT
BEGIN:VEVENT
DTSTART;TZID=America/Winnipeg:20260513T100000
DTEND;TZID=America/Winnipeg:20260513T120000
DTSTAMP:20260420T031046
CREATED:20260305T144328Z
LAST-MODIFIED:20260327T133248Z
UID:10007931-1778666400-1778673600@ninecircles.ca
SUMMARY:Coffee Talks
DESCRIPTION:It’s Back!\nAll are welcome to join us for a cozy meet up with coffee\, treats\, and connection. \nThis is a community-led space. Come as you are\, and share as much or as little as you would like! \nHave a topic\, skill\, or interest you want to share with others? Contact Kristen at: kwiltshire@ninecircles.ca or 204-940-6043
URL:https://ninecircles.ca/event/coffee-talks/2026-05-13/
LOCATION:Nine Circles Community Centre\, 705 Broadway Winnipeg\, Winnipeg\, Manitoba\, R3G 0X2\, Canada
CATEGORIES:Community / Public Events
END:VEVENT
BEGIN:VEVENT
DTSTART;TZID=America/Winnipeg:20260519T140000
DTEND;TZID=America/Winnipeg:20260519T153000
DTSTAMP:20260420T031046
CREATED:20251211T192815Z
LAST-MODIFIED:20251211T192815Z
UID:10007724-1779199200-1779204600@ninecircles.ca
SUMMARY:Sharing Point Group
DESCRIPTION:Have something you want to get off your chest? Join us the third Tuesday of the month from 2:00 – 3:30 p.m. for Sharing Point. \nOpen to women and gender diverse folks that want a safe and casual space for connection\, sharing experiences\, and receive encouragement and support related to life struggles or circumstances.
URL:https://ninecircles.ca/event/sharing-point-group/2026-05-19/
LOCATION:Nine Circles Community Centre\, 705 Broadway Winnipeg\, Winnipeg\, Manitoba\, R3G 0X2\, Canada
CATEGORIES:Community / Public Events
END:VEVENT
BEGIN:VEVENT
DTSTART;TZID=America/Winnipeg:20260520T100000
DTEND;TZID=America/Winnipeg:20260520T120000
DTSTAMP:20260420T031046
CREATED:20260305T144328Z
LAST-MODIFIED:20260327T133248Z
UID:10007932-1779271200-1779278400@ninecircles.ca
SUMMARY:Coffee Talks
DESCRIPTION:It’s Back!\nAll are welcome to join us for a cozy meet up with coffee\, treats\, and connection. \nThis is a community-led space. Come as you are\, and share as much or as little as you would like! \nHave a topic\, skill\, or interest you want to share with others? Contact Kristen at: kwiltshire@ninecircles.ca or 204-940-6043
URL:https://ninecircles.ca/event/coffee-talks/2026-05-20/
LOCATION:Nine Circles Community Centre\, 705 Broadway Winnipeg\, Winnipeg\, Manitoba\, R3G 0X2\, Canada
CATEGORIES:Community / Public Events
END:VEVENT
BEGIN:VEVENT
DTSTART;TZID=America/Winnipeg:20260527T100000
DTEND;TZID=America/Winnipeg:20260527T120000
DTSTAMP:20260420T031046
CREATED:20260305T144328Z
LAST-MODIFIED:20260327T133248Z
UID:10007933-1779876000-1779883200@ninecircles.ca
SUMMARY:Coffee Talks
DESCRIPTION:It’s Back!\nAll are welcome to join us for a cozy meet up with coffee\, treats\, and connection. \nThis is a community-led space. Come as you are\, and share as much or as little as you would like! \nHave a topic\, skill\, or interest you want to share with others? Contact Kristen at: kwiltshire@ninecircles.ca or 204-940-6043
URL:https://ninecircles.ca/event/coffee-talks/2026-05-27/
LOCATION:Nine Circles Community Centre\, 705 Broadway Winnipeg\, Winnipeg\, Manitoba\, R3G 0X2\, Canada
CATEGORIES:Community / Public Events
END:VEVENT
BEGIN:VEVENT
DTSTART;TZID=America/Winnipeg:20260602T140000
DTEND;TZID=America/Winnipeg:20260602T153000
DTSTAMP:20260420T031046
CREATED:20250623T201013Z
LAST-MODIFIED:20250623T201134Z
UID:10005218-1780408800-1780414200@ninecircles.ca
SUMMARY:Social Circle Drop-In
DESCRIPTION:Drop-in\, Hang Out\, Make Friends!\nNine Circles is proud to announce that it will resume drop-in programming with “Social Circle\,” happening on the first Tuesday of every month! Drop-in\, hang out\, make friends! Light refreshments provided. No registration needed\, just come between 2:00 p.m. – 3:30 p.m. to 705 Broadway and join us in the Gathering Place! \n 
URL:https://ninecircles.ca/event/social-circle-drop-in-2-2/2026-06-02/
LOCATION:Nine Circles Community Centre\, 705 Broadway Winnipeg\, Winnipeg\, Manitoba\, R3G 0X2\, Canada
CATEGORIES:Announcements,Community / Public Events
ATTACH;FMTTYPE=image/png:https://ninecircles.ca/wp-content/uploads/2023/11/Social-Circle-Drop-In.png
END:VEVENT
BEGIN:VEVENT
DTSTART;TZID=America/Winnipeg:20260603T100000
DTEND;TZID=America/Winnipeg:20260603T120000
DTSTAMP:20260420T031046
CREATED:20260305T144328Z
LAST-MODIFIED:20260327T133248Z
UID:10007934-1780480800-1780488000@ninecircles.ca
SUMMARY:Coffee Talks
DESCRIPTION:It’s Back!\nAll are welcome to join us for a cozy meet up with coffee\, treats\, and connection. \nThis is a community-led space. Come as you are\, and share as much or as little as you would like! \nHave a topic\, skill\, or interest you want to share with others? Contact Kristen at: kwiltshire@ninecircles.ca or 204-940-6043
URL:https://ninecircles.ca/event/coffee-talks/2026-06-03/
LOCATION:Nine Circles Community Centre\, 705 Broadway Winnipeg\, Winnipeg\, Manitoba\, R3G 0X2\, Canada
CATEGORIES:Community / Public Events
END:VEVENT
END:VCALENDAR