BEGIN:VCALENDAR
VERSION:2.0
PRODID:-//Nine Circles Community Health Centre - ECPv6.15.18//NONSGML v1.0//EN
CALSCALE:GREGORIAN
METHOD:PUBLISH
X-ORIGINAL-URL:https://ninecircles.ca
X-WR-CALDESC:Events for Nine Circles Community Health Centre
REFRESH-INTERVAL;VALUE=DURATION:PT1H
X-Robots-Tag:noindex
X-PUBLISHED-TTL:PT1H
BEGIN:VTIMEZONE
TZID:America/Winnipeg
BEGIN:DAYLIGHT
TZOFFSETFROM:-0600
TZOFFSETTO:-0500
TZNAME:CDT
DTSTART:20260308T080000
END:DAYLIGHT
BEGIN:STANDARD
TZOFFSETFROM:-0500
TZOFFSETTO:-0600
TZNAME:CST
DTSTART:20261101T070000
END:STANDARD
BEGIN:DAYLIGHT
TZOFFSETFROM:-0600
TZOFFSETTO:-0500
TZNAME:CDT
DTSTART:20270314T080000
END:DAYLIGHT
BEGIN:STANDARD
TZOFFSETFROM:-0500
TZOFFSETTO:-0600
TZNAME:CST
DTSTART:20271107T070000
END:STANDARD
BEGIN:DAYLIGHT
TZOFFSETFROM:-0600
TZOFFSETTO:-0500
TZNAME:CDT
DTSTART:20280312T080000
END:DAYLIGHT
BEGIN:STANDARD
TZOFFSETFROM:-0500
TZOFFSETTO:-0600
TZNAME:CST
DTSTART:20281105T070000
END:STANDARD
END:VTIMEZONE
BEGIN:VEVENT
DTSTART;TZID=America/Winnipeg:20270714T100000
DTEND;TZID=America/Winnipeg:20270714T120000
DTSTAMP:20260423T054831
CREATED:20260305T144328Z
LAST-MODIFIED:20260327T133248Z
UID:10007992-1815559200-1815566400@ninecircles.ca
SUMMARY:Coffee Talks
DESCRIPTION:It’s Back!\nAll are welcome to join us for a cozy meet up with coffee\, treats\, and connection. \nThis is a community-led space. Come as you are\, and share as much or as little as you would like! \nHave a topic\, skill\, or interest you want to share with others? Contact Kristen at: kwiltshire@ninecircles.ca or 204-940-6043
URL:https://ninecircles.ca/event/coffee-talks/2027-07-14/
LOCATION:Nine Circles Community Centre\, 705 Broadway Winnipeg\, Winnipeg\, Manitoba\, R3G 0X2\, Canada
CATEGORIES:Community / Public Events
END:VEVENT
BEGIN:VEVENT
DTSTART;TZID=America/Winnipeg:20270720T140000
DTEND;TZID=America/Winnipeg:20270720T153000
DTSTAMP:20260423T054831
CREATED:20251211T192815Z
LAST-MODIFIED:20251211T192815Z
UID:10007738-1816092000-1816097400@ninecircles.ca
SUMMARY:Sharing Point Group
DESCRIPTION:Have something you want to get off your chest? Join us the third Tuesday of the month from 2:00 – 3:30 p.m. for Sharing Point. \nOpen to women and gender diverse folks that want a safe and casual space for connection\, sharing experiences\, and receive encouragement and support related to life struggles or circumstances.
URL:https://ninecircles.ca/event/sharing-point-group/2027-07-20/
LOCATION:Nine Circles Community Centre\, 705 Broadway Winnipeg\, Winnipeg\, Manitoba\, R3G 0X2\, Canada
CATEGORIES:Community / Public Events
END:VEVENT
BEGIN:VEVENT
DTSTART;TZID=America/Winnipeg:20270721T100000
DTEND;TZID=America/Winnipeg:20270721T120000
DTSTAMP:20260423T054831
CREATED:20260305T144328Z
LAST-MODIFIED:20260327T133248Z
UID:10007993-1816164000-1816171200@ninecircles.ca
SUMMARY:Coffee Talks
DESCRIPTION:It’s Back!\nAll are welcome to join us for a cozy meet up with coffee\, treats\, and connection. \nThis is a community-led space. Come as you are\, and share as much or as little as you would like! \nHave a topic\, skill\, or interest you want to share with others? Contact Kristen at: kwiltshire@ninecircles.ca or 204-940-6043
URL:https://ninecircles.ca/event/coffee-talks/2027-07-21/
LOCATION:Nine Circles Community Centre\, 705 Broadway Winnipeg\, Winnipeg\, Manitoba\, R3G 0X2\, Canada
CATEGORIES:Community / Public Events
END:VEVENT
BEGIN:VEVENT
DTSTART;TZID=America/Winnipeg:20270728T100000
DTEND;TZID=America/Winnipeg:20270728T120000
DTSTAMP:20260423T054831
CREATED:20260305T144328Z
LAST-MODIFIED:20260327T133248Z
UID:10007994-1816768800-1816776000@ninecircles.ca
SUMMARY:Coffee Talks
DESCRIPTION:It’s Back!\nAll are welcome to join us for a cozy meet up with coffee\, treats\, and connection. \nThis is a community-led space. Come as you are\, and share as much or as little as you would like! \nHave a topic\, skill\, or interest you want to share with others? Contact Kristen at: kwiltshire@ninecircles.ca or 204-940-6043
URL:https://ninecircles.ca/event/coffee-talks/2027-07-28/
LOCATION:Nine Circles Community Centre\, 705 Broadway Winnipeg\, Winnipeg\, Manitoba\, R3G 0X2\, Canada
CATEGORIES:Community / Public Events
END:VEVENT
BEGIN:VEVENT
DTSTART;TZID=America/Winnipeg:20270803T140000
DTEND;TZID=America/Winnipeg:20270803T153000
DTSTAMP:20260423T054831
CREATED:20250623T201013Z
LAST-MODIFIED:20250623T201134Z
UID:10005232-1817301600-1817307000@ninecircles.ca
SUMMARY:Social Circle Drop-In
DESCRIPTION:Drop-in\, Hang Out\, Make Friends!\nNine Circles is proud to announce that it will resume drop-in programming with “Social Circle\,” happening on the first Tuesday of every month! Drop-in\, hang out\, make friends! Light refreshments provided. No registration needed\, just come between 2:00 p.m. – 3:30 p.m. to 705 Broadway and join us in the Gathering Place! \n 
URL:https://ninecircles.ca/event/social-circle-drop-in-2-2/2027-08-03/
LOCATION:Nine Circles Community Centre\, 705 Broadway Winnipeg\, Winnipeg\, Manitoba\, R3G 0X2\, Canada
CATEGORIES:Announcements,Community / Public Events
ATTACH;FMTTYPE=image/png:https://ninecircles.ca/wp-content/uploads/2023/11/Social-Circle-Drop-In.png
END:VEVENT
BEGIN:VEVENT
DTSTART;TZID=America/Winnipeg:20270804T100000
DTEND;TZID=America/Winnipeg:20270804T120000
DTSTAMP:20260423T054831
CREATED:20260305T144328Z
LAST-MODIFIED:20260327T133248Z
UID:10007995-1817373600-1817380800@ninecircles.ca
SUMMARY:Coffee Talks
DESCRIPTION:It’s Back!\nAll are welcome to join us for a cozy meet up with coffee\, treats\, and connection. \nThis is a community-led space. Come as you are\, and share as much or as little as you would like! \nHave a topic\, skill\, or interest you want to share with others? Contact Kristen at: kwiltshire@ninecircles.ca or 204-940-6043
URL:https://ninecircles.ca/event/coffee-talks/2027-08-04/
LOCATION:Nine Circles Community Centre\, 705 Broadway Winnipeg\, Winnipeg\, Manitoba\, R3G 0X2\, Canada
CATEGORIES:Community / Public Events
END:VEVENT
BEGIN:VEVENT
DTSTART;TZID=America/Winnipeg:20270806T130000
DTEND;TZID=America/Winnipeg:20270806T160000
DTSTAMP:20260423T054832
CREATED:20260305T144144Z
LAST-MODIFIED:20260327T145136Z
UID:10007879-1817557200-1817568000@ninecircles.ca
SUMMARY:Movies & Munchies
DESCRIPTION:Dive into arts and culture through film every first Friday of the month!\nAll are welcome to join us for snacks\, movies\, and great company.
URL:https://ninecircles.ca/event/movies-munchies/2027-08-06/
LOCATION:Nine Circles Community Centre\, 705 Broadway Winnipeg\, Winnipeg\, Manitoba\, R3G 0X2\, Canada
CATEGORIES:Community / Public Events
END:VEVENT
BEGIN:VEVENT
DTSTART;TZID=America/Winnipeg:20270811T100000
DTEND;TZID=America/Winnipeg:20270811T120000
DTSTAMP:20260423T054832
CREATED:20260305T144328Z
LAST-MODIFIED:20260327T133248Z
UID:10007996-1817978400-1817985600@ninecircles.ca
SUMMARY:Coffee Talks
DESCRIPTION:It’s Back!\nAll are welcome to join us for a cozy meet up with coffee\, treats\, and connection. \nThis is a community-led space. Come as you are\, and share as much or as little as you would like! \nHave a topic\, skill\, or interest you want to share with others? Contact Kristen at: kwiltshire@ninecircles.ca or 204-940-6043
URL:https://ninecircles.ca/event/coffee-talks/2027-08-11/
LOCATION:Nine Circles Community Centre\, 705 Broadway Winnipeg\, Winnipeg\, Manitoba\, R3G 0X2\, Canada
CATEGORIES:Community / Public Events
END:VEVENT
BEGIN:VEVENT
DTSTART;TZID=America/Winnipeg:20270817T140000
DTEND;TZID=America/Winnipeg:20270817T153000
DTSTAMP:20260423T054832
CREATED:20251211T192815Z
LAST-MODIFIED:20251211T192815Z
UID:10007739-1818511200-1818516600@ninecircles.ca
SUMMARY:Sharing Point Group
DESCRIPTION:Have something you want to get off your chest? Join us the third Tuesday of the month from 2:00 – 3:30 p.m. for Sharing Point. \nOpen to women and gender diverse folks that want a safe and casual space for connection\, sharing experiences\, and receive encouragement and support related to life struggles or circumstances.
URL:https://ninecircles.ca/event/sharing-point-group/2027-08-17/
LOCATION:Nine Circles Community Centre\, 705 Broadway Winnipeg\, Winnipeg\, Manitoba\, R3G 0X2\, Canada
CATEGORIES:Community / Public Events
END:VEVENT
BEGIN:VEVENT
DTSTART;TZID=America/Winnipeg:20270818T100000
DTEND;TZID=America/Winnipeg:20270818T120000
DTSTAMP:20260423T054832
CREATED:20260305T144328Z
LAST-MODIFIED:20260327T133248Z
UID:10007997-1818583200-1818590400@ninecircles.ca
SUMMARY:Coffee Talks
DESCRIPTION:It’s Back!\nAll are welcome to join us for a cozy meet up with coffee\, treats\, and connection. \nThis is a community-led space. Come as you are\, and share as much or as little as you would like! \nHave a topic\, skill\, or interest you want to share with others? Contact Kristen at: kwiltshire@ninecircles.ca or 204-940-6043
URL:https://ninecircles.ca/event/coffee-talks/2027-08-18/
LOCATION:Nine Circles Community Centre\, 705 Broadway Winnipeg\, Winnipeg\, Manitoba\, R3G 0X2\, Canada
CATEGORIES:Community / Public Events
END:VEVENT
BEGIN:VEVENT
DTSTART;TZID=America/Winnipeg:20270825T100000
DTEND;TZID=America/Winnipeg:20270825T120000
DTSTAMP:20260423T054832
CREATED:20260305T144328Z
LAST-MODIFIED:20260327T133248Z
UID:10007998-1819188000-1819195200@ninecircles.ca
SUMMARY:Coffee Talks
DESCRIPTION:It’s Back!\nAll are welcome to join us for a cozy meet up with coffee\, treats\, and connection. \nThis is a community-led space. Come as you are\, and share as much or as little as you would like! \nHave a topic\, skill\, or interest you want to share with others? Contact Kristen at: kwiltshire@ninecircles.ca or 204-940-6043
URL:https://ninecircles.ca/event/coffee-talks/2027-08-25/
LOCATION:Nine Circles Community Centre\, 705 Broadway Winnipeg\, Winnipeg\, Manitoba\, R3G 0X2\, Canada
CATEGORIES:Community / Public Events
END:VEVENT
BEGIN:VEVENT
DTSTART;TZID=America/Winnipeg:20270901T100000
DTEND;TZID=America/Winnipeg:20270901T120000
DTSTAMP:20260423T054832
CREATED:20260305T144328Z
LAST-MODIFIED:20260327T133248Z
UID:10007999-1819792800-1819800000@ninecircles.ca
SUMMARY:Coffee Talks
DESCRIPTION:It’s Back!\nAll are welcome to join us for a cozy meet up with coffee\, treats\, and connection. \nThis is a community-led space. Come as you are\, and share as much or as little as you would like! \nHave a topic\, skill\, or interest you want to share with others? Contact Kristen at: kwiltshire@ninecircles.ca or 204-940-6043
URL:https://ninecircles.ca/event/coffee-talks/2027-09-01/
LOCATION:Nine Circles Community Centre\, 705 Broadway Winnipeg\, Winnipeg\, Manitoba\, R3G 0X2\, Canada
CATEGORIES:Community / Public Events
END:VEVENT
BEGIN:VEVENT
DTSTART;TZID=America/Winnipeg:20270903T130000
DTEND;TZID=America/Winnipeg:20270903T160000
DTSTAMP:20260423T054832
CREATED:20260305T144144Z
LAST-MODIFIED:20260327T145136Z
UID:10007880-1819976400-1819987200@ninecircles.ca
SUMMARY:Movies & Munchies
DESCRIPTION:Dive into arts and culture through film every first Friday of the month!\nAll are welcome to join us for snacks\, movies\, and great company.
URL:https://ninecircles.ca/event/movies-munchies/2027-09-03/
LOCATION:Nine Circles Community Centre\, 705 Broadway Winnipeg\, Winnipeg\, Manitoba\, R3G 0X2\, Canada
CATEGORIES:Community / Public Events
END:VEVENT
BEGIN:VEVENT
DTSTART;TZID=America/Winnipeg:20270907T140000
DTEND;TZID=America/Winnipeg:20270907T153000
DTSTAMP:20260423T054832
CREATED:20250623T201013Z
LAST-MODIFIED:20250623T201134Z
UID:10005233-1820325600-1820331000@ninecircles.ca
SUMMARY:Social Circle Drop-In
DESCRIPTION:Drop-in\, Hang Out\, Make Friends!\nNine Circles is proud to announce that it will resume drop-in programming with “Social Circle\,” happening on the first Tuesday of every month! Drop-in\, hang out\, make friends! Light refreshments provided. No registration needed\, just come between 2:00 p.m. – 3:30 p.m. to 705 Broadway and join us in the Gathering Place! \n 
URL:https://ninecircles.ca/event/social-circle-drop-in-2-2/2027-09-07/
LOCATION:Nine Circles Community Centre\, 705 Broadway Winnipeg\, Winnipeg\, Manitoba\, R3G 0X2\, Canada
CATEGORIES:Announcements,Community / Public Events
ATTACH;FMTTYPE=image/png:https://ninecircles.ca/wp-content/uploads/2023/11/Social-Circle-Drop-In.png
END:VEVENT
BEGIN:VEVENT
DTSTART;TZID=America/Winnipeg:20270908T100000
DTEND;TZID=America/Winnipeg:20270908T120000
DTSTAMP:20260423T054832
CREATED:20260305T144328Z
LAST-MODIFIED:20260327T133248Z
UID:10008000-1820397600-1820404800@ninecircles.ca
SUMMARY:Coffee Talks
DESCRIPTION:It’s Back!\nAll are welcome to join us for a cozy meet up with coffee\, treats\, and connection. \nThis is a community-led space. Come as you are\, and share as much or as little as you would like! \nHave a topic\, skill\, or interest you want to share with others? Contact Kristen at: kwiltshire@ninecircles.ca or 204-940-6043
URL:https://ninecircles.ca/event/coffee-talks/2027-09-08/
LOCATION:Nine Circles Community Centre\, 705 Broadway Winnipeg\, Winnipeg\, Manitoba\, R3G 0X2\, Canada
CATEGORIES:Community / Public Events
END:VEVENT
BEGIN:VEVENT
DTSTART;TZID=America/Winnipeg:20270915T100000
DTEND;TZID=America/Winnipeg:20270915T120000
DTSTAMP:20260423T054832
CREATED:20260305T144328Z
LAST-MODIFIED:20260327T133248Z
UID:10008001-1821002400-1821009600@ninecircles.ca
SUMMARY:Coffee Talks
DESCRIPTION:It’s Back!\nAll are welcome to join us for a cozy meet up with coffee\, treats\, and connection. \nThis is a community-led space. Come as you are\, and share as much or as little as you would like! \nHave a topic\, skill\, or interest you want to share with others? Contact Kristen at: kwiltshire@ninecircles.ca or 204-940-6043
URL:https://ninecircles.ca/event/coffee-talks/2027-09-15/
LOCATION:Nine Circles Community Centre\, 705 Broadway Winnipeg\, Winnipeg\, Manitoba\, R3G 0X2\, Canada
CATEGORIES:Community / Public Events
END:VEVENT
BEGIN:VEVENT
DTSTART;TZID=America/Winnipeg:20270921T140000
DTEND;TZID=America/Winnipeg:20270921T153000
DTSTAMP:20260423T054832
CREATED:20251211T192815Z
LAST-MODIFIED:20251211T192815Z
UID:10007740-1821535200-1821540600@ninecircles.ca
SUMMARY:Sharing Point Group
DESCRIPTION:Have something you want to get off your chest? Join us the third Tuesday of the month from 2:00 – 3:30 p.m. for Sharing Point. \nOpen to women and gender diverse folks that want a safe and casual space for connection\, sharing experiences\, and receive encouragement and support related to life struggles or circumstances.
URL:https://ninecircles.ca/event/sharing-point-group/2027-09-21/
LOCATION:Nine Circles Community Centre\, 705 Broadway Winnipeg\, Winnipeg\, Manitoba\, R3G 0X2\, Canada
CATEGORIES:Community / Public Events
END:VEVENT
BEGIN:VEVENT
DTSTART;TZID=America/Winnipeg:20270922T100000
DTEND;TZID=America/Winnipeg:20270922T120000
DTSTAMP:20260423T054832
CREATED:20260305T144328Z
LAST-MODIFIED:20260327T133248Z
UID:10008002-1821607200-1821614400@ninecircles.ca
SUMMARY:Coffee Talks
DESCRIPTION:It’s Back!\nAll are welcome to join us for a cozy meet up with coffee\, treats\, and connection. \nThis is a community-led space. Come as you are\, and share as much or as little as you would like! \nHave a topic\, skill\, or interest you want to share with others? Contact Kristen at: kwiltshire@ninecircles.ca or 204-940-6043
URL:https://ninecircles.ca/event/coffee-talks/2027-09-22/
LOCATION:Nine Circles Community Centre\, 705 Broadway Winnipeg\, Winnipeg\, Manitoba\, R3G 0X2\, Canada
CATEGORIES:Community / Public Events
END:VEVENT
BEGIN:VEVENT
DTSTART;TZID=America/Winnipeg:20270929T100000
DTEND;TZID=America/Winnipeg:20270929T120000
DTSTAMP:20260423T054832
CREATED:20260305T144328Z
LAST-MODIFIED:20260327T133248Z
UID:10008003-1822212000-1822219200@ninecircles.ca
SUMMARY:Coffee Talks
DESCRIPTION:It’s Back!\nAll are welcome to join us for a cozy meet up with coffee\, treats\, and connection. \nThis is a community-led space. Come as you are\, and share as much or as little as you would like! \nHave a topic\, skill\, or interest you want to share with others? Contact Kristen at: kwiltshire@ninecircles.ca or 204-940-6043
URL:https://ninecircles.ca/event/coffee-talks/2027-09-29/
LOCATION:Nine Circles Community Centre\, 705 Broadway Winnipeg\, Winnipeg\, Manitoba\, R3G 0X2\, Canada
CATEGORIES:Community / Public Events
END:VEVENT
BEGIN:VEVENT
DTSTART;TZID=America/Winnipeg:20271001T130000
DTEND;TZID=America/Winnipeg:20271001T160000
DTSTAMP:20260423T054832
CREATED:20260305T144144Z
LAST-MODIFIED:20260327T145136Z
UID:10007881-1822395600-1822406400@ninecircles.ca
SUMMARY:Movies & Munchies
DESCRIPTION:Dive into arts and culture through film every first Friday of the month!\nAll are welcome to join us for snacks\, movies\, and great company.
URL:https://ninecircles.ca/event/movies-munchies/2027-10-01/
LOCATION:Nine Circles Community Centre\, 705 Broadway Winnipeg\, Winnipeg\, Manitoba\, R3G 0X2\, Canada
CATEGORIES:Community / Public Events
END:VEVENT
BEGIN:VEVENT
DTSTART;TZID=America/Winnipeg:20271005T140000
DTEND;TZID=America/Winnipeg:20271005T153000
DTSTAMP:20260423T054832
CREATED:20250623T201013Z
LAST-MODIFIED:20250623T201134Z
UID:10005234-1822744800-1822750200@ninecircles.ca
SUMMARY:Social Circle Drop-In
DESCRIPTION:Drop-in\, Hang Out\, Make Friends!\nNine Circles is proud to announce that it will resume drop-in programming with “Social Circle\,” happening on the first Tuesday of every month! Drop-in\, hang out\, make friends! Light refreshments provided. No registration needed\, just come between 2:00 p.m. – 3:30 p.m. to 705 Broadway and join us in the Gathering Place! \n 
URL:https://ninecircles.ca/event/social-circle-drop-in-2-2/2027-10-05/
LOCATION:Nine Circles Community Centre\, 705 Broadway Winnipeg\, Winnipeg\, Manitoba\, R3G 0X2\, Canada
CATEGORIES:Announcements,Community / Public Events
ATTACH;FMTTYPE=image/png:https://ninecircles.ca/wp-content/uploads/2023/11/Social-Circle-Drop-In.png
END:VEVENT
BEGIN:VEVENT
DTSTART;TZID=America/Winnipeg:20271006T100000
DTEND;TZID=America/Winnipeg:20271006T120000
DTSTAMP:20260423T054832
CREATED:20260305T144328Z
LAST-MODIFIED:20260327T133248Z
UID:10008004-1822816800-1822824000@ninecircles.ca
SUMMARY:Coffee Talks
DESCRIPTION:It’s Back!\nAll are welcome to join us for a cozy meet up with coffee\, treats\, and connection. \nThis is a community-led space. Come as you are\, and share as much or as little as you would like! \nHave a topic\, skill\, or interest you want to share with others? Contact Kristen at: kwiltshire@ninecircles.ca or 204-940-6043
URL:https://ninecircles.ca/event/coffee-talks/2027-10-06/
LOCATION:Nine Circles Community Centre\, 705 Broadway Winnipeg\, Winnipeg\, Manitoba\, R3G 0X2\, Canada
CATEGORIES:Community / Public Events
END:VEVENT
BEGIN:VEVENT
DTSTART;TZID=America/Winnipeg:20271013T100000
DTEND;TZID=America/Winnipeg:20271013T120000
DTSTAMP:20260423T054832
CREATED:20260305T144328Z
LAST-MODIFIED:20260327T133248Z
UID:10008005-1823421600-1823428800@ninecircles.ca
SUMMARY:Coffee Talks
DESCRIPTION:It’s Back!\nAll are welcome to join us for a cozy meet up with coffee\, treats\, and connection. \nThis is a community-led space. Come as you are\, and share as much or as little as you would like! \nHave a topic\, skill\, or interest you want to share with others? Contact Kristen at: kwiltshire@ninecircles.ca or 204-940-6043
URL:https://ninecircles.ca/event/coffee-talks/2027-10-13/
LOCATION:Nine Circles Community Centre\, 705 Broadway Winnipeg\, Winnipeg\, Manitoba\, R3G 0X2\, Canada
CATEGORIES:Community / Public Events
END:VEVENT
BEGIN:VEVENT
DTSTART;TZID=America/Winnipeg:20271019T140000
DTEND;TZID=America/Winnipeg:20271019T153000
DTSTAMP:20260423T054832
CREATED:20251211T192815Z
LAST-MODIFIED:20251211T192815Z
UID:10007741-1823954400-1823959800@ninecircles.ca
SUMMARY:Sharing Point Group
DESCRIPTION:Have something you want to get off your chest? Join us the third Tuesday of the month from 2:00 – 3:30 p.m. for Sharing Point. \nOpen to women and gender diverse folks that want a safe and casual space for connection\, sharing experiences\, and receive encouragement and support related to life struggles or circumstances.
URL:https://ninecircles.ca/event/sharing-point-group/2027-10-19/
LOCATION:Nine Circles Community Centre\, 705 Broadway Winnipeg\, Winnipeg\, Manitoba\, R3G 0X2\, Canada
CATEGORIES:Community / Public Events
END:VEVENT
BEGIN:VEVENT
DTSTART;TZID=America/Winnipeg:20271020T100000
DTEND;TZID=America/Winnipeg:20271020T120000
DTSTAMP:20260423T054832
CREATED:20260305T144328Z
LAST-MODIFIED:20260327T133248Z
UID:10008006-1824026400-1824033600@ninecircles.ca
SUMMARY:Coffee Talks
DESCRIPTION:It’s Back!\nAll are welcome to join us for a cozy meet up with coffee\, treats\, and connection. \nThis is a community-led space. Come as you are\, and share as much or as little as you would like! \nHave a topic\, skill\, or interest you want to share with others? Contact Kristen at: kwiltshire@ninecircles.ca or 204-940-6043
URL:https://ninecircles.ca/event/coffee-talks/2027-10-20/
LOCATION:Nine Circles Community Centre\, 705 Broadway Winnipeg\, Winnipeg\, Manitoba\, R3G 0X2\, Canada
CATEGORIES:Community / Public Events
END:VEVENT
BEGIN:VEVENT
DTSTART;TZID=America/Winnipeg:20271027T100000
DTEND;TZID=America/Winnipeg:20271027T120000
DTSTAMP:20260423T054832
CREATED:20260305T144328Z
LAST-MODIFIED:20260327T133248Z
UID:10008007-1824631200-1824638400@ninecircles.ca
SUMMARY:Coffee Talks
DESCRIPTION:It’s Back!\nAll are welcome to join us for a cozy meet up with coffee\, treats\, and connection. \nThis is a community-led space. Come as you are\, and share as much or as little as you would like! \nHave a topic\, skill\, or interest you want to share with others? Contact Kristen at: kwiltshire@ninecircles.ca or 204-940-6043
URL:https://ninecircles.ca/event/coffee-talks/2027-10-27/
LOCATION:Nine Circles Community Centre\, 705 Broadway Winnipeg\, Winnipeg\, Manitoba\, R3G 0X2\, Canada
CATEGORIES:Community / Public Events
END:VEVENT
BEGIN:VEVENT
DTSTART;TZID=America/Winnipeg:20271102T140000
DTEND;TZID=America/Winnipeg:20271102T153000
DTSTAMP:20260423T054832
CREATED:20250623T201013Z
LAST-MODIFIED:20250623T201134Z
UID:10005235-1825164000-1825169400@ninecircles.ca
SUMMARY:Social Circle Drop-In
DESCRIPTION:Drop-in\, Hang Out\, Make Friends!\nNine Circles is proud to announce that it will resume drop-in programming with “Social Circle\,” happening on the first Tuesday of every month! Drop-in\, hang out\, make friends! Light refreshments provided. No registration needed\, just come between 2:00 p.m. – 3:30 p.m. to 705 Broadway and join us in the Gathering Place! \n 
URL:https://ninecircles.ca/event/social-circle-drop-in-2-2/2027-11-02/
LOCATION:Nine Circles Community Centre\, 705 Broadway Winnipeg\, Winnipeg\, Manitoba\, R3G 0X2\, Canada
CATEGORIES:Announcements,Community / Public Events
ATTACH;FMTTYPE=image/png:https://ninecircles.ca/wp-content/uploads/2023/11/Social-Circle-Drop-In.png
END:VEVENT
BEGIN:VEVENT
DTSTART;TZID=America/Winnipeg:20271103T100000
DTEND;TZID=America/Winnipeg:20271103T120000
DTSTAMP:20260423T054832
CREATED:20260305T144328Z
LAST-MODIFIED:20260327T133248Z
UID:10008008-1825236000-1825243200@ninecircles.ca
SUMMARY:Coffee Talks
DESCRIPTION:It’s Back!\nAll are welcome to join us for a cozy meet up with coffee\, treats\, and connection. \nThis is a community-led space. Come as you are\, and share as much or as little as you would like! \nHave a topic\, skill\, or interest you want to share with others? Contact Kristen at: kwiltshire@ninecircles.ca or 204-940-6043
URL:https://ninecircles.ca/event/coffee-talks/2027-11-03/
LOCATION:Nine Circles Community Centre\, 705 Broadway Winnipeg\, Winnipeg\, Manitoba\, R3G 0X2\, Canada
CATEGORIES:Community / Public Events
END:VEVENT
BEGIN:VEVENT
DTSTART;TZID=America/Winnipeg:20271105T130000
DTEND;TZID=America/Winnipeg:20271105T160000
DTSTAMP:20260423T054832
CREATED:20260305T144144Z
LAST-MODIFIED:20260327T145136Z
UID:10007882-1825419600-1825430400@ninecircles.ca
SUMMARY:Movies & Munchies
DESCRIPTION:Dive into arts and culture through film every first Friday of the month!\nAll are welcome to join us for snacks\, movies\, and great company.
URL:https://ninecircles.ca/event/movies-munchies/2027-11-05/
LOCATION:Nine Circles Community Centre\, 705 Broadway Winnipeg\, Winnipeg\, Manitoba\, R3G 0X2\, Canada
CATEGORIES:Community / Public Events
END:VEVENT
BEGIN:VEVENT
DTSTART;TZID=America/Winnipeg:20271110T100000
DTEND;TZID=America/Winnipeg:20271110T120000
DTSTAMP:20260423T054832
CREATED:20260305T144328Z
LAST-MODIFIED:20260327T133248Z
UID:10008009-1825840800-1825848000@ninecircles.ca
SUMMARY:Coffee Talks
DESCRIPTION:It’s Back!\nAll are welcome to join us for a cozy meet up with coffee\, treats\, and connection. \nThis is a community-led space. Come as you are\, and share as much or as little as you would like! \nHave a topic\, skill\, or interest you want to share with others? Contact Kristen at: kwiltshire@ninecircles.ca or 204-940-6043
URL:https://ninecircles.ca/event/coffee-talks/2027-11-10/
LOCATION:Nine Circles Community Centre\, 705 Broadway Winnipeg\, Winnipeg\, Manitoba\, R3G 0X2\, Canada
CATEGORIES:Community / Public Events
END:VEVENT
END:VCALENDAR