BEGIN:VCALENDAR
VERSION:2.0
PRODID:-//Nine Circles Community Health Centre - ECPv6.15.18//NONSGML v1.0//EN
CALSCALE:GREGORIAN
METHOD:PUBLISH
X-ORIGINAL-URL:https://ninecircles.ca
X-WR-CALDESC:Events for Nine Circles Community Health Centre
REFRESH-INTERVAL;VALUE=DURATION:PT1H
X-Robots-Tag:noindex
X-PUBLISHED-TTL:PT1H
BEGIN:VTIMEZONE
TZID:America/Winnipeg
BEGIN:DAYLIGHT
TZOFFSETFROM:-0600
TZOFFSETTO:-0500
TZNAME:CDT
DTSTART:20270314T080000
END:DAYLIGHT
BEGIN:STANDARD
TZOFFSETFROM:-0500
TZOFFSETTO:-0600
TZNAME:CST
DTSTART:20271107T070000
END:STANDARD
BEGIN:DAYLIGHT
TZOFFSETFROM:-0600
TZOFFSETTO:-0500
TZNAME:CDT
DTSTART:20280312T080000
END:DAYLIGHT
BEGIN:STANDARD
TZOFFSETFROM:-0500
TZOFFSETTO:-0600
TZNAME:CST
DTSTART:20281105T070000
END:STANDARD
BEGIN:DAYLIGHT
TZOFFSETFROM:-0600
TZOFFSETTO:-0500
TZNAME:CDT
DTSTART:20290311T080000
END:DAYLIGHT
BEGIN:STANDARD
TZOFFSETFROM:-0500
TZOFFSETTO:-0600
TZNAME:CST
DTSTART:20291104T070000
END:STANDARD
BEGIN:DAYLIGHT
TZOFFSETFROM:-0600
TZOFFSETTO:-0500
TZNAME:CDT
DTSTART:20300310T080000
END:DAYLIGHT
BEGIN:STANDARD
TZOFFSETFROM:-0500
TZOFFSETTO:-0600
TZNAME:CST
DTSTART:20301103T070000
END:STANDARD
END:VTIMEZONE
BEGIN:VEVENT
DTSTART;TZID=America/Winnipeg:20281213T100000
DTEND;TZID=America/Winnipeg:20281213T120000
DTSTAMP:20260425T103321
CREATED:20260305T144328Z
LAST-MODIFIED:20260327T133248Z
UID:10008066-1860314400-1860321600@ninecircles.ca
SUMMARY:Coffee Talks
DESCRIPTION:It’s Back!\nAll are welcome to join us for a cozy meet up with coffee\, treats\, and connection. \nThis is a community-led space. Come as you are\, and share as much or as little as you would like! \nHave a topic\, skill\, or interest you want to share with others? Contact Kristen at: kwiltshire@ninecircles.ca or 204-940-6043
URL:https://ninecircles.ca/event/coffee-talks/2028-12-13/
LOCATION:Nine Circles Community Centre\, 705 Broadway Winnipeg\, Winnipeg\, Manitoba\, R3G 0X2\, Canada
CATEGORIES:Community / Public Events
END:VEVENT
BEGIN:VEVENT
DTSTART;TZID=America/Winnipeg:20281219T140000
DTEND;TZID=America/Winnipeg:20281219T153000
DTSTAMP:20260425T103321
CREATED:20251211T192815Z
LAST-MODIFIED:20251211T192815Z
UID:10007755-1860847200-1860852600@ninecircles.ca
SUMMARY:Sharing Point Group
DESCRIPTION:Have something you want to get off your chest? Join us the third Tuesday of the month from 2:00 – 3:30 p.m. for Sharing Point. \nOpen to women and gender diverse folks that want a safe and casual space for connection\, sharing experiences\, and receive encouragement and support related to life struggles or circumstances.
URL:https://ninecircles.ca/event/sharing-point-group/2028-12-19/
LOCATION:Nine Circles Community Centre\, 705 Broadway Winnipeg\, Winnipeg\, Manitoba\, R3G 0X2\, Canada
CATEGORIES:Community / Public Events
END:VEVENT
BEGIN:VEVENT
DTSTART;TZID=America/Winnipeg:20281220T100000
DTEND;TZID=America/Winnipeg:20281220T120000
DTSTAMP:20260425T103321
CREATED:20260305T144328Z
LAST-MODIFIED:20260327T133248Z
UID:10008067-1860919200-1860926400@ninecircles.ca
SUMMARY:Coffee Talks
DESCRIPTION:It’s Back!\nAll are welcome to join us for a cozy meet up with coffee\, treats\, and connection. \nThis is a community-led space. Come as you are\, and share as much or as little as you would like! \nHave a topic\, skill\, or interest you want to share with others? Contact Kristen at: kwiltshire@ninecircles.ca or 204-940-6043
URL:https://ninecircles.ca/event/coffee-talks/2028-12-20/
LOCATION:Nine Circles Community Centre\, 705 Broadway Winnipeg\, Winnipeg\, Manitoba\, R3G 0X2\, Canada
CATEGORIES:Community / Public Events
END:VEVENT
BEGIN:VEVENT
DTSTART;TZID=America/Winnipeg:20281227T100000
DTEND;TZID=America/Winnipeg:20281227T120000
DTSTAMP:20260425T103321
CREATED:20260305T144328Z
LAST-MODIFIED:20260327T133248Z
UID:10008068-1861524000-1861531200@ninecircles.ca
SUMMARY:Coffee Talks
DESCRIPTION:It’s Back!\nAll are welcome to join us for a cozy meet up with coffee\, treats\, and connection. \nThis is a community-led space. Come as you are\, and share as much or as little as you would like! \nHave a topic\, skill\, or interest you want to share with others? Contact Kristen at: kwiltshire@ninecircles.ca or 204-940-6043
URL:https://ninecircles.ca/event/coffee-talks/2028-12-27/
LOCATION:Nine Circles Community Centre\, 705 Broadway Winnipeg\, Winnipeg\, Manitoba\, R3G 0X2\, Canada
CATEGORIES:Community / Public Events
END:VEVENT
BEGIN:VEVENT
DTSTART;TZID=America/Winnipeg:20290102T140000
DTEND;TZID=America/Winnipeg:20290102T153000
DTSTAMP:20260425T103321
CREATED:20250623T201013Z
LAST-MODIFIED:20250623T201134Z
UID:10005987-1862056800-1862062200@ninecircles.ca
SUMMARY:Social Circle Drop-In
DESCRIPTION:Drop-in\, Hang Out\, Make Friends!\nNine Circles is proud to announce that it will resume drop-in programming with “Social Circle\,” happening on the first Tuesday of every month! Drop-in\, hang out\, make friends! Light refreshments provided. No registration needed\, just come between 2:00 p.m. – 3:30 p.m. to 705 Broadway and join us in the Gathering Place! \n 
URL:https://ninecircles.ca/event/social-circle-drop-in-2-2/2029-01-02/
LOCATION:Nine Circles Community Centre\, 705 Broadway Winnipeg\, Winnipeg\, Manitoba\, R3G 0X2\, Canada
CATEGORIES:Announcements,Community / Public Events
ATTACH;FMTTYPE=image/png:https://ninecircles.ca/wp-content/uploads/2023/11/Social-Circle-Drop-In.png
END:VEVENT
BEGIN:VEVENT
DTSTART;TZID=America/Winnipeg:20290103T100000
DTEND;TZID=America/Winnipeg:20290103T120000
DTSTAMP:20260425T103321
CREATED:20260305T144328Z
LAST-MODIFIED:20260327T133248Z
UID:10008069-1862128800-1862136000@ninecircles.ca
SUMMARY:Coffee Talks
DESCRIPTION:It’s Back!\nAll are welcome to join us for a cozy meet up with coffee\, treats\, and connection. \nThis is a community-led space. Come as you are\, and share as much or as little as you would like! \nHave a topic\, skill\, or interest you want to share with others? Contact Kristen at: kwiltshire@ninecircles.ca or 204-940-6043
URL:https://ninecircles.ca/event/coffee-talks/2029-01-03/
LOCATION:Nine Circles Community Centre\, 705 Broadway Winnipeg\, Winnipeg\, Manitoba\, R3G 0X2\, Canada
CATEGORIES:Community / Public Events
END:VEVENT
BEGIN:VEVENT
DTSTART;TZID=America/Winnipeg:20290105T130000
DTEND;TZID=America/Winnipeg:20290105T160000
DTSTAMP:20260425T103321
CREATED:20260305T144144Z
LAST-MODIFIED:20260327T145136Z
UID:10007896-1862312400-1862323200@ninecircles.ca
SUMMARY:Movies & Munchies
DESCRIPTION:Dive into arts and culture through film every first Friday of the month!\nAll are welcome to join us for snacks\, movies\, and great company.
URL:https://ninecircles.ca/event/movies-munchies/2029-01-05/
LOCATION:Nine Circles Community Centre\, 705 Broadway Winnipeg\, Winnipeg\, Manitoba\, R3G 0X2\, Canada
CATEGORIES:Community / Public Events
END:VEVENT
BEGIN:VEVENT
DTSTART;TZID=America/Winnipeg:20290110T100000
DTEND;TZID=America/Winnipeg:20290110T120000
DTSTAMP:20260425T103321
CREATED:20260305T144328Z
LAST-MODIFIED:20260327T133248Z
UID:10008070-1862733600-1862740800@ninecircles.ca
SUMMARY:Coffee Talks
DESCRIPTION:It’s Back!\nAll are welcome to join us for a cozy meet up with coffee\, treats\, and connection. \nThis is a community-led space. Come as you are\, and share as much or as little as you would like! \nHave a topic\, skill\, or interest you want to share with others? Contact Kristen at: kwiltshire@ninecircles.ca or 204-940-6043
URL:https://ninecircles.ca/event/coffee-talks/2029-01-10/
LOCATION:Nine Circles Community Centre\, 705 Broadway Winnipeg\, Winnipeg\, Manitoba\, R3G 0X2\, Canada
CATEGORIES:Community / Public Events
END:VEVENT
BEGIN:VEVENT
DTSTART;TZID=America/Winnipeg:20290116T140000
DTEND;TZID=America/Winnipeg:20290116T153000
DTSTAMP:20260425T103321
CREATED:20251211T192815Z
LAST-MODIFIED:20251211T192815Z
UID:10007756-1863266400-1863271800@ninecircles.ca
SUMMARY:Sharing Point Group
DESCRIPTION:Have something you want to get off your chest? Join us the third Tuesday of the month from 2:00 – 3:30 p.m. for Sharing Point. \nOpen to women and gender diverse folks that want a safe and casual space for connection\, sharing experiences\, and receive encouragement and support related to life struggles or circumstances.
URL:https://ninecircles.ca/event/sharing-point-group/2029-01-16/
LOCATION:Nine Circles Community Centre\, 705 Broadway Winnipeg\, Winnipeg\, Manitoba\, R3G 0X2\, Canada
CATEGORIES:Community / Public Events
END:VEVENT
BEGIN:VEVENT
DTSTART;TZID=America/Winnipeg:20290117T100000
DTEND;TZID=America/Winnipeg:20290117T120000
DTSTAMP:20260425T103321
CREATED:20260305T144328Z
LAST-MODIFIED:20260327T133248Z
UID:10008071-1863338400-1863345600@ninecircles.ca
SUMMARY:Coffee Talks
DESCRIPTION:It’s Back!\nAll are welcome to join us for a cozy meet up with coffee\, treats\, and connection. \nThis is a community-led space. Come as you are\, and share as much or as little as you would like! \nHave a topic\, skill\, or interest you want to share with others? Contact Kristen at: kwiltshire@ninecircles.ca or 204-940-6043
URL:https://ninecircles.ca/event/coffee-talks/2029-01-17/
LOCATION:Nine Circles Community Centre\, 705 Broadway Winnipeg\, Winnipeg\, Manitoba\, R3G 0X2\, Canada
CATEGORIES:Community / Public Events
END:VEVENT
BEGIN:VEVENT
DTSTART;TZID=America/Winnipeg:20290124T100000
DTEND;TZID=America/Winnipeg:20290124T120000
DTSTAMP:20260425T103321
CREATED:20260305T144328Z
LAST-MODIFIED:20260327T133248Z
UID:10008072-1863943200-1863950400@ninecircles.ca
SUMMARY:Coffee Talks
DESCRIPTION:It’s Back!\nAll are welcome to join us for a cozy meet up with coffee\, treats\, and connection. \nThis is a community-led space. Come as you are\, and share as much or as little as you would like! \nHave a topic\, skill\, or interest you want to share with others? Contact Kristen at: kwiltshire@ninecircles.ca or 204-940-6043
URL:https://ninecircles.ca/event/coffee-talks/2029-01-24/
LOCATION:Nine Circles Community Centre\, 705 Broadway Winnipeg\, Winnipeg\, Manitoba\, R3G 0X2\, Canada
CATEGORIES:Community / Public Events
END:VEVENT
BEGIN:VEVENT
DTSTART;TZID=America/Winnipeg:20290131T100000
DTEND;TZID=America/Winnipeg:20290131T120000
DTSTAMP:20260425T103321
CREATED:20260305T144328Z
LAST-MODIFIED:20260327T133248Z
UID:10008073-1864548000-1864555200@ninecircles.ca
SUMMARY:Coffee Talks
DESCRIPTION:It’s Back!\nAll are welcome to join us for a cozy meet up with coffee\, treats\, and connection. \nThis is a community-led space. Come as you are\, and share as much or as little as you would like! \nHave a topic\, skill\, or interest you want to share with others? Contact Kristen at: kwiltshire@ninecircles.ca or 204-940-6043
URL:https://ninecircles.ca/event/coffee-talks/2029-01-31/
LOCATION:Nine Circles Community Centre\, 705 Broadway Winnipeg\, Winnipeg\, Manitoba\, R3G 0X2\, Canada
CATEGORIES:Community / Public Events
END:VEVENT
BEGIN:VEVENT
DTSTART;TZID=America/Winnipeg:20290202T130000
DTEND;TZID=America/Winnipeg:20290202T160000
DTSTAMP:20260425T103321
CREATED:20260305T144144Z
LAST-MODIFIED:20260327T145136Z
UID:10007897-1864731600-1864742400@ninecircles.ca
SUMMARY:Movies & Munchies
DESCRIPTION:Dive into arts and culture through film every first Friday of the month!\nAll are welcome to join us for snacks\, movies\, and great company.
URL:https://ninecircles.ca/event/movies-munchies/2029-02-02/
LOCATION:Nine Circles Community Centre\, 705 Broadway Winnipeg\, Winnipeg\, Manitoba\, R3G 0X2\, Canada
CATEGORIES:Community / Public Events
END:VEVENT
BEGIN:VEVENT
DTSTART;TZID=America/Winnipeg:20290206T140000
DTEND;TZID=America/Winnipeg:20290206T153000
DTSTAMP:20260425T103321
CREATED:20250623T201013Z
LAST-MODIFIED:20250623T201134Z
UID:10005988-1865080800-1865086200@ninecircles.ca
SUMMARY:Social Circle Drop-In
DESCRIPTION:Drop-in\, Hang Out\, Make Friends!\nNine Circles is proud to announce that it will resume drop-in programming with “Social Circle\,” happening on the first Tuesday of every month! Drop-in\, hang out\, make friends! Light refreshments provided. No registration needed\, just come between 2:00 p.m. – 3:30 p.m. to 705 Broadway and join us in the Gathering Place! \n 
URL:https://ninecircles.ca/event/social-circle-drop-in-2-2/2029-02-06/
LOCATION:Nine Circles Community Centre\, 705 Broadway Winnipeg\, Winnipeg\, Manitoba\, R3G 0X2\, Canada
CATEGORIES:Announcements,Community / Public Events
ATTACH;FMTTYPE=image/png:https://ninecircles.ca/wp-content/uploads/2023/11/Social-Circle-Drop-In.png
END:VEVENT
BEGIN:VEVENT
DTSTART;TZID=America/Winnipeg:20290207T100000
DTEND;TZID=America/Winnipeg:20290207T120000
DTSTAMP:20260425T103321
CREATED:20260305T144328Z
LAST-MODIFIED:20260327T133248Z
UID:10008074-1865152800-1865160000@ninecircles.ca
SUMMARY:Coffee Talks
DESCRIPTION:It’s Back!\nAll are welcome to join us for a cozy meet up with coffee\, treats\, and connection. \nThis is a community-led space. Come as you are\, and share as much or as little as you would like! \nHave a topic\, skill\, or interest you want to share with others? Contact Kristen at: kwiltshire@ninecircles.ca or 204-940-6043
URL:https://ninecircles.ca/event/coffee-talks/2029-02-07/
LOCATION:Nine Circles Community Centre\, 705 Broadway Winnipeg\, Winnipeg\, Manitoba\, R3G 0X2\, Canada
CATEGORIES:Community / Public Events
END:VEVENT
BEGIN:VEVENT
DTSTART;TZID=America/Winnipeg:20290214T100000
DTEND;TZID=America/Winnipeg:20290214T120000
DTSTAMP:20260425T103321
CREATED:20260305T144328Z
LAST-MODIFIED:20260327T133248Z
UID:10008075-1865757600-1865764800@ninecircles.ca
SUMMARY:Coffee Talks
DESCRIPTION:It’s Back!\nAll are welcome to join us for a cozy meet up with coffee\, treats\, and connection. \nThis is a community-led space. Come as you are\, and share as much or as little as you would like! \nHave a topic\, skill\, or interest you want to share with others? Contact Kristen at: kwiltshire@ninecircles.ca or 204-940-6043
URL:https://ninecircles.ca/event/coffee-talks/2029-02-14/
LOCATION:Nine Circles Community Centre\, 705 Broadway Winnipeg\, Winnipeg\, Manitoba\, R3G 0X2\, Canada
CATEGORIES:Community / Public Events
END:VEVENT
BEGIN:VEVENT
DTSTART;TZID=America/Winnipeg:20290220T140000
DTEND;TZID=America/Winnipeg:20290220T153000
DTSTAMP:20260425T103321
CREATED:20251211T192815Z
LAST-MODIFIED:20251211T192815Z
UID:10007757-1866290400-1866295800@ninecircles.ca
SUMMARY:Sharing Point Group
DESCRIPTION:Have something you want to get off your chest? Join us the third Tuesday of the month from 2:00 – 3:30 p.m. for Sharing Point. \nOpen to women and gender diverse folks that want a safe and casual space for connection\, sharing experiences\, and receive encouragement and support related to life struggles or circumstances.
URL:https://ninecircles.ca/event/sharing-point-group/2029-02-20/
LOCATION:Nine Circles Community Centre\, 705 Broadway Winnipeg\, Winnipeg\, Manitoba\, R3G 0X2\, Canada
CATEGORIES:Community / Public Events
END:VEVENT
BEGIN:VEVENT
DTSTART;TZID=America/Winnipeg:20290221T100000
DTEND;TZID=America/Winnipeg:20290221T120000
DTSTAMP:20260425T103321
CREATED:20260305T144328Z
LAST-MODIFIED:20260327T133248Z
UID:10008076-1866362400-1866369600@ninecircles.ca
SUMMARY:Coffee Talks
DESCRIPTION:It’s Back!\nAll are welcome to join us for a cozy meet up with coffee\, treats\, and connection. \nThis is a community-led space. Come as you are\, and share as much or as little as you would like! \nHave a topic\, skill\, or interest you want to share with others? Contact Kristen at: kwiltshire@ninecircles.ca or 204-940-6043
URL:https://ninecircles.ca/event/coffee-talks/2029-02-21/
LOCATION:Nine Circles Community Centre\, 705 Broadway Winnipeg\, Winnipeg\, Manitoba\, R3G 0X2\, Canada
CATEGORIES:Community / Public Events
END:VEVENT
BEGIN:VEVENT
DTSTART;TZID=America/Winnipeg:20290228T100000
DTEND;TZID=America/Winnipeg:20290228T120000
DTSTAMP:20260425T103321
CREATED:20260305T144328Z
LAST-MODIFIED:20260327T133248Z
UID:10008077-1866967200-1866974400@ninecircles.ca
SUMMARY:Coffee Talks
DESCRIPTION:It’s Back!\nAll are welcome to join us for a cozy meet up with coffee\, treats\, and connection. \nThis is a community-led space. Come as you are\, and share as much or as little as you would like! \nHave a topic\, skill\, or interest you want to share with others? Contact Kristen at: kwiltshire@ninecircles.ca or 204-940-6043
URL:https://ninecircles.ca/event/coffee-talks/2029-02-28/
LOCATION:Nine Circles Community Centre\, 705 Broadway Winnipeg\, Winnipeg\, Manitoba\, R3G 0X2\, Canada
CATEGORIES:Community / Public Events
END:VEVENT
BEGIN:VEVENT
DTSTART;TZID=America/Winnipeg:20290302T130000
DTEND;TZID=America/Winnipeg:20290302T160000
DTSTAMP:20260425T103321
CREATED:20260305T144144Z
LAST-MODIFIED:20260327T145136Z
UID:10007898-1867150800-1867161600@ninecircles.ca
SUMMARY:Movies & Munchies
DESCRIPTION:Dive into arts and culture through film every first Friday of the month!\nAll are welcome to join us for snacks\, movies\, and great company.
URL:https://ninecircles.ca/event/movies-munchies/2029-03-02/
LOCATION:Nine Circles Community Centre\, 705 Broadway Winnipeg\, Winnipeg\, Manitoba\, R3G 0X2\, Canada
CATEGORIES:Community / Public Events
END:VEVENT
BEGIN:VEVENT
DTSTART;TZID=America/Winnipeg:20290306T140000
DTEND;TZID=America/Winnipeg:20290306T153000
DTSTAMP:20260425T103321
CREATED:20250623T201013Z
LAST-MODIFIED:20250623T201134Z
UID:10005989-1867500000-1867505400@ninecircles.ca
SUMMARY:Social Circle Drop-In
DESCRIPTION:Drop-in\, Hang Out\, Make Friends!\nNine Circles is proud to announce that it will resume drop-in programming with “Social Circle\,” happening on the first Tuesday of every month! Drop-in\, hang out\, make friends! Light refreshments provided. No registration needed\, just come between 2:00 p.m. – 3:30 p.m. to 705 Broadway and join us in the Gathering Place! \n 
URL:https://ninecircles.ca/event/social-circle-drop-in-2-2/2029-03-06/
LOCATION:Nine Circles Community Centre\, 705 Broadway Winnipeg\, Winnipeg\, Manitoba\, R3G 0X2\, Canada
CATEGORIES:Announcements,Community / Public Events
ATTACH;FMTTYPE=image/png:https://ninecircles.ca/wp-content/uploads/2023/11/Social-Circle-Drop-In.png
END:VEVENT
BEGIN:VEVENT
DTSTART;TZID=America/Winnipeg:20290307T100000
DTEND;TZID=America/Winnipeg:20290307T120000
DTSTAMP:20260425T103321
CREATED:20260305T144328Z
LAST-MODIFIED:20260327T133248Z
UID:10008078-1867572000-1867579200@ninecircles.ca
SUMMARY:Coffee Talks
DESCRIPTION:It’s Back!\nAll are welcome to join us for a cozy meet up with coffee\, treats\, and connection. \nThis is a community-led space. Come as you are\, and share as much or as little as you would like! \nHave a topic\, skill\, or interest you want to share with others? Contact Kristen at: kwiltshire@ninecircles.ca or 204-940-6043
URL:https://ninecircles.ca/event/coffee-talks/2029-03-07/
LOCATION:Nine Circles Community Centre\, 705 Broadway Winnipeg\, Winnipeg\, Manitoba\, R3G 0X2\, Canada
CATEGORIES:Community / Public Events
END:VEVENT
BEGIN:VEVENT
DTSTART;TZID=America/Winnipeg:20290314T100000
DTEND;TZID=America/Winnipeg:20290314T120000
DTSTAMP:20260425T103321
CREATED:20260305T144328Z
LAST-MODIFIED:20260327T133248Z
UID:10008079-1868176800-1868184000@ninecircles.ca
SUMMARY:Coffee Talks
DESCRIPTION:It’s Back!\nAll are welcome to join us for a cozy meet up with coffee\, treats\, and connection. \nThis is a community-led space. Come as you are\, and share as much or as little as you would like! \nHave a topic\, skill\, or interest you want to share with others? Contact Kristen at: kwiltshire@ninecircles.ca or 204-940-6043
URL:https://ninecircles.ca/event/coffee-talks/2029-03-14/
LOCATION:Nine Circles Community Centre\, 705 Broadway Winnipeg\, Winnipeg\, Manitoba\, R3G 0X2\, Canada
CATEGORIES:Community / Public Events
END:VEVENT
BEGIN:VEVENT
DTSTART;TZID=America/Winnipeg:20290320T140000
DTEND;TZID=America/Winnipeg:20290320T153000
DTSTAMP:20260425T103321
CREATED:20251211T192815Z
LAST-MODIFIED:20251211T192815Z
UID:10007758-1868709600-1868715000@ninecircles.ca
SUMMARY:Sharing Point Group
DESCRIPTION:Have something you want to get off your chest? Join us the third Tuesday of the month from 2:00 – 3:30 p.m. for Sharing Point. \nOpen to women and gender diverse folks that want a safe and casual space for connection\, sharing experiences\, and receive encouragement and support related to life struggles or circumstances.
URL:https://ninecircles.ca/event/sharing-point-group/2029-03-20/
LOCATION:Nine Circles Community Centre\, 705 Broadway Winnipeg\, Winnipeg\, Manitoba\, R3G 0X2\, Canada
CATEGORIES:Community / Public Events
END:VEVENT
BEGIN:VEVENT
DTSTART;TZID=America/Winnipeg:20290321T100000
DTEND;TZID=America/Winnipeg:20290321T120000
DTSTAMP:20260425T103321
CREATED:20260305T144328Z
LAST-MODIFIED:20260327T133248Z
UID:10008080-1868781600-1868788800@ninecircles.ca
SUMMARY:Coffee Talks
DESCRIPTION:It’s Back!\nAll are welcome to join us for a cozy meet up with coffee\, treats\, and connection. \nThis is a community-led space. Come as you are\, and share as much or as little as you would like! \nHave a topic\, skill\, or interest you want to share with others? Contact Kristen at: kwiltshire@ninecircles.ca or 204-940-6043
URL:https://ninecircles.ca/event/coffee-talks/2029-03-21/
LOCATION:Nine Circles Community Centre\, 705 Broadway Winnipeg\, Winnipeg\, Manitoba\, R3G 0X2\, Canada
CATEGORIES:Community / Public Events
END:VEVENT
BEGIN:VEVENT
DTSTART;TZID=America/Winnipeg:20290328T100000
DTEND;TZID=America/Winnipeg:20290328T120000
DTSTAMP:20260425T103321
CREATED:20260305T144328Z
LAST-MODIFIED:20260327T133248Z
UID:10008081-1869386400-1869393600@ninecircles.ca
SUMMARY:Coffee Talks
DESCRIPTION:It’s Back!\nAll are welcome to join us for a cozy meet up with coffee\, treats\, and connection. \nThis is a community-led space. Come as you are\, and share as much or as little as you would like! \nHave a topic\, skill\, or interest you want to share with others? Contact Kristen at: kwiltshire@ninecircles.ca or 204-940-6043
URL:https://ninecircles.ca/event/coffee-talks/2029-03-28/
LOCATION:Nine Circles Community Centre\, 705 Broadway Winnipeg\, Winnipeg\, Manitoba\, R3G 0X2\, Canada
CATEGORIES:Community / Public Events
END:VEVENT
BEGIN:VEVENT
DTSTART;TZID=America/Winnipeg:20290403T140000
DTEND;TZID=America/Winnipeg:20290403T153000
DTSTAMP:20260425T103321
CREATED:20250623T201013Z
LAST-MODIFIED:20250623T201134Z
UID:10005990-1869919200-1869924600@ninecircles.ca
SUMMARY:Social Circle Drop-In
DESCRIPTION:Drop-in\, Hang Out\, Make Friends!\nNine Circles is proud to announce that it will resume drop-in programming with “Social Circle\,” happening on the first Tuesday of every month! Drop-in\, hang out\, make friends! Light refreshments provided. No registration needed\, just come between 2:00 p.m. – 3:30 p.m. to 705 Broadway and join us in the Gathering Place! \n 
URL:https://ninecircles.ca/event/social-circle-drop-in-2-2/2029-04-03/
LOCATION:Nine Circles Community Centre\, 705 Broadway Winnipeg\, Winnipeg\, Manitoba\, R3G 0X2\, Canada
CATEGORIES:Announcements,Community / Public Events
ATTACH;FMTTYPE=image/png:https://ninecircles.ca/wp-content/uploads/2023/11/Social-Circle-Drop-In.png
END:VEVENT
BEGIN:VEVENT
DTSTART;TZID=America/Winnipeg:20290404T100000
DTEND;TZID=America/Winnipeg:20290404T120000
DTSTAMP:20260425T103321
CREATED:20260305T144328Z
LAST-MODIFIED:20260327T133248Z
UID:10008082-1869991200-1869998400@ninecircles.ca
SUMMARY:Coffee Talks
DESCRIPTION:It’s Back!\nAll are welcome to join us for a cozy meet up with coffee\, treats\, and connection. \nThis is a community-led space. Come as you are\, and share as much or as little as you would like! \nHave a topic\, skill\, or interest you want to share with others? Contact Kristen at: kwiltshire@ninecircles.ca or 204-940-6043
URL:https://ninecircles.ca/event/coffee-talks/2029-04-04/
LOCATION:Nine Circles Community Centre\, 705 Broadway Winnipeg\, Winnipeg\, Manitoba\, R3G 0X2\, Canada
CATEGORIES:Community / Public Events
END:VEVENT
BEGIN:VEVENT
DTSTART;TZID=America/Winnipeg:20290406T130000
DTEND;TZID=America/Winnipeg:20290406T160000
DTSTAMP:20260425T103321
CREATED:20260305T144144Z
LAST-MODIFIED:20260327T145136Z
UID:10007899-1870174800-1870185600@ninecircles.ca
SUMMARY:Movies & Munchies
DESCRIPTION:Dive into arts and culture through film every first Friday of the month!\nAll are welcome to join us for snacks\, movies\, and great company.
URL:https://ninecircles.ca/event/movies-munchies/2029-04-06/
LOCATION:Nine Circles Community Centre\, 705 Broadway Winnipeg\, Winnipeg\, Manitoba\, R3G 0X2\, Canada
CATEGORIES:Community / Public Events
END:VEVENT
BEGIN:VEVENT
DTSTART;TZID=America/Winnipeg:20290411T100000
DTEND;TZID=America/Winnipeg:20290411T120000
DTSTAMP:20260425T103321
CREATED:20260305T144328Z
LAST-MODIFIED:20260327T133248Z
UID:10008083-1870596000-1870603200@ninecircles.ca
SUMMARY:Coffee Talks
DESCRIPTION:It’s Back!\nAll are welcome to join us for a cozy meet up with coffee\, treats\, and connection. \nThis is a community-led space. Come as you are\, and share as much or as little as you would like! \nHave a topic\, skill\, or interest you want to share with others? Contact Kristen at: kwiltshire@ninecircles.ca or 204-940-6043
URL:https://ninecircles.ca/event/coffee-talks/2029-04-11/
LOCATION:Nine Circles Community Centre\, 705 Broadway Winnipeg\, Winnipeg\, Manitoba\, R3G 0X2\, Canada
CATEGORIES:Community / Public Events
END:VEVENT
END:VCALENDAR