BEGIN:VCALENDAR
VERSION:2.0
PRODID:-//Nine Circles Community Health Centre - ECPv6.15.18//NONSGML v1.0//EN
CALSCALE:GREGORIAN
METHOD:PUBLISH
X-ORIGINAL-URL:https://ninecircles.ca
X-WR-CALDESC:Events for Nine Circles Community Health Centre
REFRESH-INTERVAL;VALUE=DURATION:PT1H
X-Robots-Tag:noindex
X-PUBLISHED-TTL:PT1H
BEGIN:VTIMEZONE
TZID:America/Winnipeg
BEGIN:DAYLIGHT
TZOFFSETFROM:-0600
TZOFFSETTO:-0500
TZNAME:CDT
DTSTART:20250309T080000
END:DAYLIGHT
BEGIN:STANDARD
TZOFFSETFROM:-0500
TZOFFSETTO:-0600
TZNAME:CST
DTSTART:20251102T070000
END:STANDARD
BEGIN:DAYLIGHT
TZOFFSETFROM:-0600
TZOFFSETTO:-0500
TZNAME:CDT
DTSTART:20260308T080000
END:DAYLIGHT
BEGIN:STANDARD
TZOFFSETFROM:-0500
TZOFFSETTO:-0600
TZNAME:CST
DTSTART:20261101T070000
END:STANDARD
BEGIN:DAYLIGHT
TZOFFSETFROM:-0600
TZOFFSETTO:-0500
TZNAME:CDT
DTSTART:20270314T080000
END:DAYLIGHT
BEGIN:STANDARD
TZOFFSETFROM:-0500
TZOFFSETTO:-0600
TZNAME:CST
DTSTART:20271107T070000
END:STANDARD
BEGIN:DAYLIGHT
TZOFFSETFROM:-0600
TZOFFSETTO:-0500
TZNAME:CDT
DTSTART:20280312T080000
END:DAYLIGHT
BEGIN:STANDARD
TZOFFSETFROM:-0500
TZOFFSETTO:-0600
TZNAME:CST
DTSTART:20281105T070000
END:STANDARD
END:VTIMEZONE
BEGIN:VEVENT
DTSTART;TZID=America/Winnipeg:20261216T100000
DTEND;TZID=America/Winnipeg:20261216T120000
DTSTAMP:20260421T182116
CREATED:20260305T144328Z
LAST-MODIFIED:20260327T133248Z
UID:10007962-1797415200-1797422400@ninecircles.ca
SUMMARY:Coffee Talks
DESCRIPTION:It’s Back!\nAll are welcome to join us for a cozy meet up with coffee\, treats\, and connection. \nThis is a community-led space. Come as you are\, and share as much or as little as you would like! \nHave a topic\, skill\, or interest you want to share with others? Contact Kristen at: kwiltshire@ninecircles.ca or 204-940-6043
URL:https://ninecircles.ca/event/coffee-talks/2026-12-16/
LOCATION:Nine Circles Community Centre\, 705 Broadway Winnipeg\, Winnipeg\, Manitoba\, R3G 0X2\, Canada
CATEGORIES:Community / Public Events
END:VEVENT
BEGIN:VEVENT
DTSTART;TZID=America/Winnipeg:20261223T100000
DTEND;TZID=America/Winnipeg:20261223T120000
DTSTAMP:20260421T182116
CREATED:20260305T144328Z
LAST-MODIFIED:20260327T133248Z
UID:10007963-1798020000-1798027200@ninecircles.ca
SUMMARY:Coffee Talks
DESCRIPTION:It’s Back!\nAll are welcome to join us for a cozy meet up with coffee\, treats\, and connection. \nThis is a community-led space. Come as you are\, and share as much or as little as you would like! \nHave a topic\, skill\, or interest you want to share with others? Contact Kristen at: kwiltshire@ninecircles.ca or 204-940-6043
URL:https://ninecircles.ca/event/coffee-talks/2026-12-23/
LOCATION:Nine Circles Community Centre\, 705 Broadway Winnipeg\, Winnipeg\, Manitoba\, R3G 0X2\, Canada
CATEGORIES:Community / Public Events
END:VEVENT
BEGIN:VEVENT
DTSTART;TZID=America/Winnipeg:20261230T100000
DTEND;TZID=America/Winnipeg:20261230T120000
DTSTAMP:20260421T182116
CREATED:20260305T144328Z
LAST-MODIFIED:20260327T133248Z
UID:10007964-1798624800-1798632000@ninecircles.ca
SUMMARY:Coffee Talks
DESCRIPTION:It’s Back!\nAll are welcome to join us for a cozy meet up with coffee\, treats\, and connection. \nThis is a community-led space. Come as you are\, and share as much or as little as you would like! \nHave a topic\, skill\, or interest you want to share with others? Contact Kristen at: kwiltshire@ninecircles.ca or 204-940-6043
URL:https://ninecircles.ca/event/coffee-talks/2026-12-30/
LOCATION:Nine Circles Community Centre\, 705 Broadway Winnipeg\, Winnipeg\, Manitoba\, R3G 0X2\, Canada
CATEGORIES:Community / Public Events
END:VEVENT
BEGIN:VEVENT
DTSTART;TZID=America/Winnipeg:20270101T130000
DTEND;TZID=America/Winnipeg:20270101T160000
DTSTAMP:20260421T182116
CREATED:20260305T144144Z
LAST-MODIFIED:20260327T145136Z
UID:10007872-1798808400-1798819200@ninecircles.ca
SUMMARY:Movies & Munchies
DESCRIPTION:Dive into arts and culture through film every first Friday of the month!\nAll are welcome to join us for snacks\, movies\, and great company.
URL:https://ninecircles.ca/event/movies-munchies/2027-01-01/
LOCATION:Nine Circles Community Centre\, 705 Broadway Winnipeg\, Winnipeg\, Manitoba\, R3G 0X2\, Canada
CATEGORIES:Community / Public Events
END:VEVENT
BEGIN:VEVENT
DTSTART;TZID=America/Winnipeg:20270105T140000
DTEND;TZID=America/Winnipeg:20270105T153000
DTSTAMP:20260421T182116
CREATED:20250623T201013Z
LAST-MODIFIED:20250623T201134Z
UID:10005225-1799157600-1799163000@ninecircles.ca
SUMMARY:Social Circle Drop-In
DESCRIPTION:Drop-in\, Hang Out\, Make Friends!\nNine Circles is proud to announce that it will resume drop-in programming with “Social Circle\,” happening on the first Tuesday of every month! Drop-in\, hang out\, make friends! Light refreshments provided. No registration needed\, just come between 2:00 p.m. – 3:30 p.m. to 705 Broadway and join us in the Gathering Place! \n 
URL:https://ninecircles.ca/event/social-circle-drop-in-2-2/2027-01-05/
LOCATION:Nine Circles Community Centre\, 705 Broadway Winnipeg\, Winnipeg\, Manitoba\, R3G 0X2\, Canada
CATEGORIES:Announcements,Community / Public Events
ATTACH;FMTTYPE=image/png:https://ninecircles.ca/wp-content/uploads/2023/11/Social-Circle-Drop-In.png
END:VEVENT
BEGIN:VEVENT
DTSTART;TZID=America/Winnipeg:20270106T100000
DTEND;TZID=America/Winnipeg:20270106T120000
DTSTAMP:20260421T182116
CREATED:20260305T144328Z
LAST-MODIFIED:20260327T133248Z
UID:10007965-1799229600-1799236800@ninecircles.ca
SUMMARY:Coffee Talks
DESCRIPTION:It’s Back!\nAll are welcome to join us for a cozy meet up with coffee\, treats\, and connection. \nThis is a community-led space. Come as you are\, and share as much or as little as you would like! \nHave a topic\, skill\, or interest you want to share with others? Contact Kristen at: kwiltshire@ninecircles.ca or 204-940-6043
URL:https://ninecircles.ca/event/coffee-talks/2027-01-06/
LOCATION:Nine Circles Community Centre\, 705 Broadway Winnipeg\, Winnipeg\, Manitoba\, R3G 0X2\, Canada
CATEGORIES:Community / Public Events
END:VEVENT
BEGIN:VEVENT
DTSTART;TZID=America/Winnipeg:20270113T100000
DTEND;TZID=America/Winnipeg:20270113T120000
DTSTAMP:20260421T182116
CREATED:20260305T144328Z
LAST-MODIFIED:20260327T133248Z
UID:10007966-1799834400-1799841600@ninecircles.ca
SUMMARY:Coffee Talks
DESCRIPTION:It’s Back!\nAll are welcome to join us for a cozy meet up with coffee\, treats\, and connection. \nThis is a community-led space. Come as you are\, and share as much or as little as you would like! \nHave a topic\, skill\, or interest you want to share with others? Contact Kristen at: kwiltshire@ninecircles.ca or 204-940-6043
URL:https://ninecircles.ca/event/coffee-talks/2027-01-13/
LOCATION:Nine Circles Community Centre\, 705 Broadway Winnipeg\, Winnipeg\, Manitoba\, R3G 0X2\, Canada
CATEGORIES:Community / Public Events
END:VEVENT
BEGIN:VEVENT
DTSTART;TZID=America/Winnipeg:20270119T140000
DTEND;TZID=America/Winnipeg:20270119T153000
DTSTAMP:20260421T182116
CREATED:20251211T192815Z
LAST-MODIFIED:20251211T192815Z
UID:10007732-1800367200-1800372600@ninecircles.ca
SUMMARY:Sharing Point Group
DESCRIPTION:Have something you want to get off your chest? Join us the third Tuesday of the month from 2:00 – 3:30 p.m. for Sharing Point. \nOpen to women and gender diverse folks that want a safe and casual space for connection\, sharing experiences\, and receive encouragement and support related to life struggles or circumstances.
URL:https://ninecircles.ca/event/sharing-point-group/2027-01-19/
LOCATION:Nine Circles Community Centre\, 705 Broadway Winnipeg\, Winnipeg\, Manitoba\, R3G 0X2\, Canada
CATEGORIES:Community / Public Events
END:VEVENT
BEGIN:VEVENT
DTSTART;TZID=America/Winnipeg:20270120T100000
DTEND;TZID=America/Winnipeg:20270120T120000
DTSTAMP:20260421T182116
CREATED:20260305T144328Z
LAST-MODIFIED:20260327T133248Z
UID:10007967-1800439200-1800446400@ninecircles.ca
SUMMARY:Coffee Talks
DESCRIPTION:It’s Back!\nAll are welcome to join us for a cozy meet up with coffee\, treats\, and connection. \nThis is a community-led space. Come as you are\, and share as much or as little as you would like! \nHave a topic\, skill\, or interest you want to share with others? Contact Kristen at: kwiltshire@ninecircles.ca or 204-940-6043
URL:https://ninecircles.ca/event/coffee-talks/2027-01-20/
LOCATION:Nine Circles Community Centre\, 705 Broadway Winnipeg\, Winnipeg\, Manitoba\, R3G 0X2\, Canada
CATEGORIES:Community / Public Events
END:VEVENT
BEGIN:VEVENT
DTSTART;TZID=America/Winnipeg:20270127T100000
DTEND;TZID=America/Winnipeg:20270127T120000
DTSTAMP:20260421T182116
CREATED:20260305T144328Z
LAST-MODIFIED:20260327T133248Z
UID:10007968-1801044000-1801051200@ninecircles.ca
SUMMARY:Coffee Talks
DESCRIPTION:It’s Back!\nAll are welcome to join us for a cozy meet up with coffee\, treats\, and connection. \nThis is a community-led space. Come as you are\, and share as much or as little as you would like! \nHave a topic\, skill\, or interest you want to share with others? Contact Kristen at: kwiltshire@ninecircles.ca or 204-940-6043
URL:https://ninecircles.ca/event/coffee-talks/2027-01-27/
LOCATION:Nine Circles Community Centre\, 705 Broadway Winnipeg\, Winnipeg\, Manitoba\, R3G 0X2\, Canada
CATEGORIES:Community / Public Events
END:VEVENT
BEGIN:VEVENT
DTSTART;TZID=America/Winnipeg:20270202T140000
DTEND;TZID=America/Winnipeg:20270202T153000
DTSTAMP:20260421T182116
CREATED:20250623T201013Z
LAST-MODIFIED:20250623T201134Z
UID:10005226-1801576800-1801582200@ninecircles.ca
SUMMARY:Social Circle Drop-In
DESCRIPTION:Drop-in\, Hang Out\, Make Friends!\nNine Circles is proud to announce that it will resume drop-in programming with “Social Circle\,” happening on the first Tuesday of every month! Drop-in\, hang out\, make friends! Light refreshments provided. No registration needed\, just come between 2:00 p.m. – 3:30 p.m. to 705 Broadway and join us in the Gathering Place! \n 
URL:https://ninecircles.ca/event/social-circle-drop-in-2-2/2027-02-02/
LOCATION:Nine Circles Community Centre\, 705 Broadway Winnipeg\, Winnipeg\, Manitoba\, R3G 0X2\, Canada
CATEGORIES:Announcements,Community / Public Events
ATTACH;FMTTYPE=image/png:https://ninecircles.ca/wp-content/uploads/2023/11/Social-Circle-Drop-In.png
END:VEVENT
BEGIN:VEVENT
DTSTART;TZID=America/Winnipeg:20270203T100000
DTEND;TZID=America/Winnipeg:20270203T120000
DTSTAMP:20260421T182117
CREATED:20260305T144328Z
LAST-MODIFIED:20260327T133248Z
UID:10007969-1801648800-1801656000@ninecircles.ca
SUMMARY:Coffee Talks
DESCRIPTION:It’s Back!\nAll are welcome to join us for a cozy meet up with coffee\, treats\, and connection. \nThis is a community-led space. Come as you are\, and share as much or as little as you would like! \nHave a topic\, skill\, or interest you want to share with others? Contact Kristen at: kwiltshire@ninecircles.ca or 204-940-6043
URL:https://ninecircles.ca/event/coffee-talks/2027-02-03/
LOCATION:Nine Circles Community Centre\, 705 Broadway Winnipeg\, Winnipeg\, Manitoba\, R3G 0X2\, Canada
CATEGORIES:Community / Public Events
END:VEVENT
BEGIN:VEVENT
DTSTART;TZID=America/Winnipeg:20270205T130000
DTEND;TZID=America/Winnipeg:20270205T160000
DTSTAMP:20260421T182117
CREATED:20260305T144144Z
LAST-MODIFIED:20260327T145136Z
UID:10007873-1801832400-1801843200@ninecircles.ca
SUMMARY:Movies & Munchies
DESCRIPTION:Dive into arts and culture through film every first Friday of the month!\nAll are welcome to join us for snacks\, movies\, and great company.
URL:https://ninecircles.ca/event/movies-munchies/2027-02-05/
LOCATION:Nine Circles Community Centre\, 705 Broadway Winnipeg\, Winnipeg\, Manitoba\, R3G 0X2\, Canada
CATEGORIES:Community / Public Events
END:VEVENT
BEGIN:VEVENT
DTSTART;TZID=America/Winnipeg:20270210T100000
DTEND;TZID=America/Winnipeg:20270210T120000
DTSTAMP:20260421T182117
CREATED:20260305T144328Z
LAST-MODIFIED:20260327T133248Z
UID:10007970-1802253600-1802260800@ninecircles.ca
SUMMARY:Coffee Talks
DESCRIPTION:It’s Back!\nAll are welcome to join us for a cozy meet up with coffee\, treats\, and connection. \nThis is a community-led space. Come as you are\, and share as much or as little as you would like! \nHave a topic\, skill\, or interest you want to share with others? Contact Kristen at: kwiltshire@ninecircles.ca or 204-940-6043
URL:https://ninecircles.ca/event/coffee-talks/2027-02-10/
LOCATION:Nine Circles Community Centre\, 705 Broadway Winnipeg\, Winnipeg\, Manitoba\, R3G 0X2\, Canada
CATEGORIES:Community / Public Events
END:VEVENT
BEGIN:VEVENT
DTSTART;TZID=America/Winnipeg:20270216T140000
DTEND;TZID=America/Winnipeg:20270216T153000
DTSTAMP:20260421T182117
CREATED:20251211T192815Z
LAST-MODIFIED:20251211T192815Z
UID:10007733-1802786400-1802791800@ninecircles.ca
SUMMARY:Sharing Point Group
DESCRIPTION:Have something you want to get off your chest? Join us the third Tuesday of the month from 2:00 – 3:30 p.m. for Sharing Point. \nOpen to women and gender diverse folks that want a safe and casual space for connection\, sharing experiences\, and receive encouragement and support related to life struggles or circumstances.
URL:https://ninecircles.ca/event/sharing-point-group/2027-02-16/
LOCATION:Nine Circles Community Centre\, 705 Broadway Winnipeg\, Winnipeg\, Manitoba\, R3G 0X2\, Canada
CATEGORIES:Community / Public Events
END:VEVENT
BEGIN:VEVENT
DTSTART;TZID=America/Winnipeg:20270217T100000
DTEND;TZID=America/Winnipeg:20270217T120000
DTSTAMP:20260421T182117
CREATED:20260305T144328Z
LAST-MODIFIED:20260327T133248Z
UID:10007971-1802858400-1802865600@ninecircles.ca
SUMMARY:Coffee Talks
DESCRIPTION:It’s Back!\nAll are welcome to join us for a cozy meet up with coffee\, treats\, and connection. \nThis is a community-led space. Come as you are\, and share as much or as little as you would like! \nHave a topic\, skill\, or interest you want to share with others? Contact Kristen at: kwiltshire@ninecircles.ca or 204-940-6043
URL:https://ninecircles.ca/event/coffee-talks/2027-02-17/
LOCATION:Nine Circles Community Centre\, 705 Broadway Winnipeg\, Winnipeg\, Manitoba\, R3G 0X2\, Canada
CATEGORIES:Community / Public Events
END:VEVENT
BEGIN:VEVENT
DTSTART;TZID=America/Winnipeg:20270224T100000
DTEND;TZID=America/Winnipeg:20270224T120000
DTSTAMP:20260421T182117
CREATED:20260305T144328Z
LAST-MODIFIED:20260327T133248Z
UID:10007972-1803463200-1803470400@ninecircles.ca
SUMMARY:Coffee Talks
DESCRIPTION:It’s Back!\nAll are welcome to join us for a cozy meet up with coffee\, treats\, and connection. \nThis is a community-led space. Come as you are\, and share as much or as little as you would like! \nHave a topic\, skill\, or interest you want to share with others? Contact Kristen at: kwiltshire@ninecircles.ca or 204-940-6043
URL:https://ninecircles.ca/event/coffee-talks/2027-02-24/
LOCATION:Nine Circles Community Centre\, 705 Broadway Winnipeg\, Winnipeg\, Manitoba\, R3G 0X2\, Canada
CATEGORIES:Community / Public Events
END:VEVENT
BEGIN:VEVENT
DTSTART;TZID=America/Winnipeg:20270302T140000
DTEND;TZID=America/Winnipeg:20270302T153000
DTSTAMP:20260421T182117
CREATED:20250623T201013Z
LAST-MODIFIED:20250623T201134Z
UID:10005227-1803996000-1804001400@ninecircles.ca
SUMMARY:Social Circle Drop-In
DESCRIPTION:Drop-in\, Hang Out\, Make Friends!\nNine Circles is proud to announce that it will resume drop-in programming with “Social Circle\,” happening on the first Tuesday of every month! Drop-in\, hang out\, make friends! Light refreshments provided. No registration needed\, just come between 2:00 p.m. – 3:30 p.m. to 705 Broadway and join us in the Gathering Place! \n 
URL:https://ninecircles.ca/event/social-circle-drop-in-2-2/2027-03-02/
LOCATION:Nine Circles Community Centre\, 705 Broadway Winnipeg\, Winnipeg\, Manitoba\, R3G 0X2\, Canada
CATEGORIES:Announcements,Community / Public Events
ATTACH;FMTTYPE=image/png:https://ninecircles.ca/wp-content/uploads/2023/11/Social-Circle-Drop-In.png
END:VEVENT
BEGIN:VEVENT
DTSTART;TZID=America/Winnipeg:20270303T100000
DTEND;TZID=America/Winnipeg:20270303T120000
DTSTAMP:20260421T182117
CREATED:20260305T144328Z
LAST-MODIFIED:20260327T133248Z
UID:10007973-1804068000-1804075200@ninecircles.ca
SUMMARY:Coffee Talks
DESCRIPTION:It’s Back!\nAll are welcome to join us for a cozy meet up with coffee\, treats\, and connection. \nThis is a community-led space. Come as you are\, and share as much or as little as you would like! \nHave a topic\, skill\, or interest you want to share with others? Contact Kristen at: kwiltshire@ninecircles.ca or 204-940-6043
URL:https://ninecircles.ca/event/coffee-talks/2027-03-03/
LOCATION:Nine Circles Community Centre\, 705 Broadway Winnipeg\, Winnipeg\, Manitoba\, R3G 0X2\, Canada
CATEGORIES:Community / Public Events
END:VEVENT
BEGIN:VEVENT
DTSTART;TZID=America/Winnipeg:20270305T130000
DTEND;TZID=America/Winnipeg:20270305T160000
DTSTAMP:20260421T182117
CREATED:20260305T144144Z
LAST-MODIFIED:20260327T145136Z
UID:10007874-1804251600-1804262400@ninecircles.ca
SUMMARY:Movies & Munchies
DESCRIPTION:Dive into arts and culture through film every first Friday of the month!\nAll are welcome to join us for snacks\, movies\, and great company.
URL:https://ninecircles.ca/event/movies-munchies/2027-03-05/
LOCATION:Nine Circles Community Centre\, 705 Broadway Winnipeg\, Winnipeg\, Manitoba\, R3G 0X2\, Canada
CATEGORIES:Community / Public Events
END:VEVENT
BEGIN:VEVENT
DTSTART;TZID=America/Winnipeg:20270310T100000
DTEND;TZID=America/Winnipeg:20270310T120000
DTSTAMP:20260421T182117
CREATED:20260305T144328Z
LAST-MODIFIED:20260327T133248Z
UID:10007974-1804672800-1804680000@ninecircles.ca
SUMMARY:Coffee Talks
DESCRIPTION:It’s Back!\nAll are welcome to join us for a cozy meet up with coffee\, treats\, and connection. \nThis is a community-led space. Come as you are\, and share as much or as little as you would like! \nHave a topic\, skill\, or interest you want to share with others? Contact Kristen at: kwiltshire@ninecircles.ca or 204-940-6043
URL:https://ninecircles.ca/event/coffee-talks/2027-03-10/
LOCATION:Nine Circles Community Centre\, 705 Broadway Winnipeg\, Winnipeg\, Manitoba\, R3G 0X2\, Canada
CATEGORIES:Community / Public Events
END:VEVENT
BEGIN:VEVENT
DTSTART;TZID=America/Winnipeg:20270316T140000
DTEND;TZID=America/Winnipeg:20270316T153000
DTSTAMP:20260421T182117
CREATED:20251211T192815Z
LAST-MODIFIED:20251211T192815Z
UID:10007734-1805205600-1805211000@ninecircles.ca
SUMMARY:Sharing Point Group
DESCRIPTION:Have something you want to get off your chest? Join us the third Tuesday of the month from 2:00 – 3:30 p.m. for Sharing Point. \nOpen to women and gender diverse folks that want a safe and casual space for connection\, sharing experiences\, and receive encouragement and support related to life struggles or circumstances.
URL:https://ninecircles.ca/event/sharing-point-group/2027-03-16/
LOCATION:Nine Circles Community Centre\, 705 Broadway Winnipeg\, Winnipeg\, Manitoba\, R3G 0X2\, Canada
CATEGORIES:Community / Public Events
END:VEVENT
BEGIN:VEVENT
DTSTART;TZID=America/Winnipeg:20270317T100000
DTEND;TZID=America/Winnipeg:20270317T120000
DTSTAMP:20260421T182117
CREATED:20260305T144328Z
LAST-MODIFIED:20260327T133248Z
UID:10007975-1805277600-1805284800@ninecircles.ca
SUMMARY:Coffee Talks
DESCRIPTION:It’s Back!\nAll are welcome to join us for a cozy meet up with coffee\, treats\, and connection. \nThis is a community-led space. Come as you are\, and share as much or as little as you would like! \nHave a topic\, skill\, or interest you want to share with others? Contact Kristen at: kwiltshire@ninecircles.ca or 204-940-6043
URL:https://ninecircles.ca/event/coffee-talks/2027-03-17/
LOCATION:Nine Circles Community Centre\, 705 Broadway Winnipeg\, Winnipeg\, Manitoba\, R3G 0X2\, Canada
CATEGORIES:Community / Public Events
END:VEVENT
BEGIN:VEVENT
DTSTART;TZID=America/Winnipeg:20270324T100000
DTEND;TZID=America/Winnipeg:20270324T120000
DTSTAMP:20260421T182117
CREATED:20260305T144328Z
LAST-MODIFIED:20260327T133248Z
UID:10007976-1805882400-1805889600@ninecircles.ca
SUMMARY:Coffee Talks
DESCRIPTION:It’s Back!\nAll are welcome to join us for a cozy meet up with coffee\, treats\, and connection. \nThis is a community-led space. Come as you are\, and share as much or as little as you would like! \nHave a topic\, skill\, or interest you want to share with others? Contact Kristen at: kwiltshire@ninecircles.ca or 204-940-6043
URL:https://ninecircles.ca/event/coffee-talks/2027-03-24/
LOCATION:Nine Circles Community Centre\, 705 Broadway Winnipeg\, Winnipeg\, Manitoba\, R3G 0X2\, Canada
CATEGORIES:Community / Public Events
END:VEVENT
BEGIN:VEVENT
DTSTART;TZID=America/Winnipeg:20270331T100000
DTEND;TZID=America/Winnipeg:20270331T120000
DTSTAMP:20260421T182117
CREATED:20260305T144328Z
LAST-MODIFIED:20260327T133248Z
UID:10007977-1806487200-1806494400@ninecircles.ca
SUMMARY:Coffee Talks
DESCRIPTION:It’s Back!\nAll are welcome to join us for a cozy meet up with coffee\, treats\, and connection. \nThis is a community-led space. Come as you are\, and share as much or as little as you would like! \nHave a topic\, skill\, or interest you want to share with others? Contact Kristen at: kwiltshire@ninecircles.ca or 204-940-6043
URL:https://ninecircles.ca/event/coffee-talks/2027-03-31/
LOCATION:Nine Circles Community Centre\, 705 Broadway Winnipeg\, Winnipeg\, Manitoba\, R3G 0X2\, Canada
CATEGORIES:Community / Public Events
END:VEVENT
BEGIN:VEVENT
DTSTART;TZID=America/Winnipeg:20270402T130000
DTEND;TZID=America/Winnipeg:20270402T160000
DTSTAMP:20260421T182117
CREATED:20260305T144144Z
LAST-MODIFIED:20260327T145136Z
UID:10007875-1806670800-1806681600@ninecircles.ca
SUMMARY:Movies & Munchies
DESCRIPTION:Dive into arts and culture through film every first Friday of the month!\nAll are welcome to join us for snacks\, movies\, and great company.
URL:https://ninecircles.ca/event/movies-munchies/2027-04-02/
LOCATION:Nine Circles Community Centre\, 705 Broadway Winnipeg\, Winnipeg\, Manitoba\, R3G 0X2\, Canada
CATEGORIES:Community / Public Events
END:VEVENT
BEGIN:VEVENT
DTSTART;TZID=America/Winnipeg:20270406T140000
DTEND;TZID=America/Winnipeg:20270406T153000
DTSTAMP:20260421T182117
CREATED:20250623T201013Z
LAST-MODIFIED:20250623T201134Z
UID:10005228-1807020000-1807025400@ninecircles.ca
SUMMARY:Social Circle Drop-In
DESCRIPTION:Drop-in\, Hang Out\, Make Friends!\nNine Circles is proud to announce that it will resume drop-in programming with “Social Circle\,” happening on the first Tuesday of every month! Drop-in\, hang out\, make friends! Light refreshments provided. No registration needed\, just come between 2:00 p.m. – 3:30 p.m. to 705 Broadway and join us in the Gathering Place! \n 
URL:https://ninecircles.ca/event/social-circle-drop-in-2-2/2027-04-06/
LOCATION:Nine Circles Community Centre\, 705 Broadway Winnipeg\, Winnipeg\, Manitoba\, R3G 0X2\, Canada
CATEGORIES:Announcements,Community / Public Events
ATTACH;FMTTYPE=image/png:https://ninecircles.ca/wp-content/uploads/2023/11/Social-Circle-Drop-In.png
END:VEVENT
BEGIN:VEVENT
DTSTART;TZID=America/Winnipeg:20270407T100000
DTEND;TZID=America/Winnipeg:20270407T120000
DTSTAMP:20260421T182117
CREATED:20260305T144328Z
LAST-MODIFIED:20260327T133248Z
UID:10007978-1807092000-1807099200@ninecircles.ca
SUMMARY:Coffee Talks
DESCRIPTION:It’s Back!\nAll are welcome to join us for a cozy meet up with coffee\, treats\, and connection. \nThis is a community-led space. Come as you are\, and share as much or as little as you would like! \nHave a topic\, skill\, or interest you want to share with others? Contact Kristen at: kwiltshire@ninecircles.ca or 204-940-6043
URL:https://ninecircles.ca/event/coffee-talks/2027-04-07/
LOCATION:Nine Circles Community Centre\, 705 Broadway Winnipeg\, Winnipeg\, Manitoba\, R3G 0X2\, Canada
CATEGORIES:Community / Public Events
END:VEVENT
BEGIN:VEVENT
DTSTART;TZID=America/Winnipeg:20270414T100000
DTEND;TZID=America/Winnipeg:20270414T120000
DTSTAMP:20260421T182117
CREATED:20260305T144328Z
LAST-MODIFIED:20260327T133248Z
UID:10007979-1807696800-1807704000@ninecircles.ca
SUMMARY:Coffee Talks
DESCRIPTION:It’s Back!\nAll are welcome to join us for a cozy meet up with coffee\, treats\, and connection. \nThis is a community-led space. Come as you are\, and share as much or as little as you would like! \nHave a topic\, skill\, or interest you want to share with others? Contact Kristen at: kwiltshire@ninecircles.ca or 204-940-6043
URL:https://ninecircles.ca/event/coffee-talks/2027-04-14/
LOCATION:Nine Circles Community Centre\, 705 Broadway Winnipeg\, Winnipeg\, Manitoba\, R3G 0X2\, Canada
CATEGORIES:Community / Public Events
END:VEVENT
BEGIN:VEVENT
DTSTART;TZID=America/Winnipeg:20270420T140000
DTEND;TZID=America/Winnipeg:20270420T153000
DTSTAMP:20260421T182117
CREATED:20251211T192815Z
LAST-MODIFIED:20251211T192815Z
UID:10007735-1808229600-1808235000@ninecircles.ca
SUMMARY:Sharing Point Group
DESCRIPTION:Have something you want to get off your chest? Join us the third Tuesday of the month from 2:00 – 3:30 p.m. for Sharing Point. \nOpen to women and gender diverse folks that want a safe and casual space for connection\, sharing experiences\, and receive encouragement and support related to life struggles or circumstances.
URL:https://ninecircles.ca/event/sharing-point-group/2027-04-20/
LOCATION:Nine Circles Community Centre\, 705 Broadway Winnipeg\, Winnipeg\, Manitoba\, R3G 0X2\, Canada
CATEGORIES:Community / Public Events
END:VEVENT
END:VCALENDAR