BEGIN:VCALENDAR
VERSION:2.0
PRODID:-//Nine Circles Community Health Centre - ECPv6.15.18//NONSGML v1.0//EN
CALSCALE:GREGORIAN
METHOD:PUBLISH
X-ORIGINAL-URL:https://ninecircles.ca
X-WR-CALDESC:Events for Nine Circles Community Health Centre
REFRESH-INTERVAL;VALUE=DURATION:PT1H
X-Robots-Tag:noindex
X-PUBLISHED-TTL:PT1H
BEGIN:VTIMEZONE
TZID:America/Winnipeg
BEGIN:DAYLIGHT
TZOFFSETFROM:-0600
TZOFFSETTO:-0500
TZNAME:CDT
DTSTART:20240310T080000
END:DAYLIGHT
BEGIN:STANDARD
TZOFFSETFROM:-0500
TZOFFSETTO:-0600
TZNAME:CST
DTSTART:20241103T070000
END:STANDARD
BEGIN:DAYLIGHT
TZOFFSETFROM:-0600
TZOFFSETTO:-0500
TZNAME:CDT
DTSTART:20250309T080000
END:DAYLIGHT
BEGIN:STANDARD
TZOFFSETFROM:-0500
TZOFFSETTO:-0600
TZNAME:CST
DTSTART:20251102T070000
END:STANDARD
BEGIN:DAYLIGHT
TZOFFSETFROM:-0600
TZOFFSETTO:-0500
TZNAME:CDT
DTSTART:20260308T080000
END:DAYLIGHT
BEGIN:STANDARD
TZOFFSETFROM:-0500
TZOFFSETTO:-0600
TZNAME:CST
DTSTART:20261101T070000
END:STANDARD
END:VTIMEZONE
BEGIN:VEVENT
DTSTART;TZID=America/Winnipeg:20250718T130000
DTEND;TZID=America/Winnipeg:20250718T153000
DTSTAMP:20260424T095021
CREATED:20250411T204258Z
LAST-MODIFIED:20250624T145814Z
UID:10007077-1752843600-1752852600@ninecircles.ca
SUMMARY:Drumming Circle
DESCRIPTION:
URL:https://ninecircles.ca/event/drumming-circle-6/2025-07-18/
LOCATION:Nine Circles Community Centre\, 705 Broadway Winnipeg\, Winnipeg\, Manitoba\, R3G 0X2\, Canada
CATEGORIES:Community / Public Events
END:VEVENT
BEGIN:VEVENT
DTSTART;TZID=America/Winnipeg:20250715T140000
DTEND;TZID=America/Winnipeg:20250715T153000
DTSTAMP:20260424T095021
CREATED:20250131T155747Z
LAST-MODIFIED:20250131T155747Z
UID:10007050-1752588000-1752593400@ninecircles.ca
SUMMARY:Sharing Point Drop-in Group
DESCRIPTION:New Join “Sharing Point”\, a new group for all women and gender diverse people the third Tuesday of the month starting March 18th from 2:00 p.m. – 3:30 p.m. \nThis is a drop in group offering snacks\, coffee\, tea\, and great company!
URL:https://ninecircles.ca/event/sharing-point-drop-in-group/2025-07-15/
LOCATION:Nine Circles Community Centre\, 705 Broadway Winnipeg\, Winnipeg\, Manitoba\, R3G 0X2\, Canada
CATEGORIES:Community / Public Events
ATTACH;FMTTYPE=image/png:https://ninecircles.ca/wp-content/uploads/2025/01/Sharing-Point-Group-1080-x-1350-px-e1738338939264.png
END:VEVENT
BEGIN:VEVENT
DTSTART;TZID=America/Winnipeg:20250711T130000
DTEND;TZID=America/Winnipeg:20250711T153000
DTSTAMP:20260424T095021
CREATED:20250411T204258Z
LAST-MODIFIED:20250624T145814Z
UID:10007076-1752238800-1752247800@ninecircles.ca
SUMMARY:Drumming Circle
DESCRIPTION:
URL:https://ninecircles.ca/event/drumming-circle-6/2025-07-11/
LOCATION:Nine Circles Community Centre\, 705 Broadway Winnipeg\, Winnipeg\, Manitoba\, R3G 0X2\, Canada
CATEGORIES:Community / Public Events
END:VEVENT
BEGIN:VEVENT
DTSTART;TZID=America/Winnipeg:20250708T153000
DTEND;TZID=America/Winnipeg:20250708T163000
DTSTAMP:20260424T095021
CREATED:20250423T163550Z
LAST-MODIFIED:20251027T165039Z
UID:10007181-1751988600-1751992200@ninecircles.ca
SUMMARY:Just Breathe Group
DESCRIPTION:Join us for “Just Breathe: Drop-in Group” with Breathwork Practitioner Asia starting Tuesday\, May 6th!\nHosted the first Tuesday of the month from 3:30 p.m. – 4:30 p.m. in the Gathering Place. Relax\, recenter and recharge! All materials provided.
URL:https://ninecircles.ca/event/just-breathe-group/2025-07-08/
LOCATION:Nine Circles Community Centre\, 705 Broadway Winnipeg\, Winnipeg\, Manitoba\, R3G 0X2\, Canada
CATEGORIES:Community / Public Events
END:VEVENT
BEGIN:VEVENT
DTSTART;TZID=America/Winnipeg:20250708T140000
DTEND;TZID=America/Winnipeg:20250708T153000
DTSTAMP:20260424T095021
CREATED:20250623T201013Z
LAST-MODIFIED:20250623T201134Z
UID:10007167-1751983200-1751988600@ninecircles.ca
SUMMARY:Social Circle Drop-In
DESCRIPTION:Drop-in\, Hang Out\, Make Friends!\nNine Circles is proud to announce that it will resume drop-in programming with “Social Circle\,” happening on the first Tuesday of every month! Drop-in\, hang out\, make friends! Light refreshments provided. No registration needed\, just come between 2:00 p.m. – 3:30 p.m. to 705 Broadway and join us in the Gathering Place! \n 
URL:https://ninecircles.ca/event/social-circle-drop-in-2-2/2025-07-08/
LOCATION:Nine Circles Community Centre\, 705 Broadway Winnipeg\, Winnipeg\, Manitoba\, R3G 0X2\, Canada
CATEGORIES:Announcements,Community / Public Events
ATTACH;FMTTYPE=image/png:https://ninecircles.ca/wp-content/uploads/2023/11/Social-Circle-Drop-In.png
END:VEVENT
BEGIN:VEVENT
DTSTART;TZID=America/Winnipeg:20250627T130000
DTEND;TZID=America/Winnipeg:20250627T153000
DTSTAMP:20260424T095021
CREATED:20250411T204258Z
LAST-MODIFIED:20250624T145814Z
UID:10007074-1751029200-1751038200@ninecircles.ca
SUMMARY:Drumming Circle
DESCRIPTION:
URL:https://ninecircles.ca/event/drumming-circle-6/2025-06-27/
LOCATION:Nine Circles Community Centre\, 705 Broadway Winnipeg\, Winnipeg\, Manitoba\, R3G 0X2\, Canada
CATEGORIES:Community / Public Events
END:VEVENT
BEGIN:VEVENT
DTSTART;TZID=America/Winnipeg:20250620T130000
DTEND;TZID=America/Winnipeg:20250620T153000
DTSTAMP:20260424T095021
CREATED:20250411T204258Z
LAST-MODIFIED:20250624T145814Z
UID:10007073-1750424400-1750433400@ninecircles.ca
SUMMARY:Drumming Circle
DESCRIPTION:
URL:https://ninecircles.ca/event/drumming-circle-6/2025-06-20/
LOCATION:Nine Circles Community Centre\, 705 Broadway Winnipeg\, Winnipeg\, Manitoba\, R3G 0X2\, Canada
CATEGORIES:Community / Public Events
END:VEVENT
BEGIN:VEVENT
DTSTART;TZID=America/Winnipeg:20250617T140000
DTEND;TZID=America/Winnipeg:20250617T153000
DTSTAMP:20260424T095021
CREATED:20250131T155747Z
LAST-MODIFIED:20250131T155747Z
UID:10007049-1750168800-1750174200@ninecircles.ca
SUMMARY:Sharing Point Drop-in Group
DESCRIPTION:New Join “Sharing Point”\, a new group for all women and gender diverse people the third Tuesday of the month starting March 18th from 2:00 p.m. – 3:30 p.m. \nThis is a drop in group offering snacks\, coffee\, tea\, and great company!
URL:https://ninecircles.ca/event/sharing-point-drop-in-group/2025-06-17/
LOCATION:Nine Circles Community Centre\, 705 Broadway Winnipeg\, Winnipeg\, Manitoba\, R3G 0X2\, Canada
CATEGORIES:Community / Public Events
ATTACH;FMTTYPE=image/png:https://ninecircles.ca/wp-content/uploads/2025/01/Sharing-Point-Group-1080-x-1350-px-e1738338939264.png
END:VEVENT
BEGIN:VEVENT
DTSTART;TZID=America/Winnipeg:20250616T173000
DTEND;TZID=America/Winnipeg:20250616T193000
DTSTAMP:20260424T095021
CREATED:20250515T163732Z
LAST-MODIFIED:20250515T163821Z
UID:10007164-1750095000-1750102200@ninecircles.ca
SUMMARY:Nine Circles Annual General Meeting 2024-2025
DESCRIPTION:You’re Invited to Our Annual General Meeting!\nWelcome to our Annual General Meeting! Join us at Nine Circles Community Health Centre for an evening filled with updates\, discussions\, and community connections. This in-person event is a fantastic opportunity to learn about our achievements\, future plans\, and how you can get involved. Whether you’re a long-time supporter or new to our community\, we can’t wait to see you there! Mark your calendars and be part of shaping the future of Nine Circles. \nFood and refreshments provided at 5:00 p.m.\, accessible gender neutral washrooms\, free parking available. \nRegister Now on Eventbrite\n  \nIf you or someone you know does not have access to register online and \nwould like to attend\, please contact : Jess at: jtait@ninecircles.ca or call 204-940-6000
URL:https://ninecircles.ca/event/nine-circles-annual-general-meeting-2024-2025/
LOCATION:Nine Circles Community Centre\, 705 Broadway Winnipeg\, Winnipeg\, Manitoba\, R3G 0X2\, Canada
CATEGORIES:Client Events,Community / Public Events,Registered Event
ATTACH;FMTTYPE=image/avif:https://ninecircles.ca/wp-content/uploads/2025/05/https___cdn.evbuc_.com_images_1031000413_49389934256_1_original.avif
END:VEVENT
BEGIN:VEVENT
DTSTART;TZID=America/Winnipeg:20250613T130000
DTEND;TZID=America/Winnipeg:20250613T153000
DTSTAMP:20260424T095021
CREATED:20250411T204258Z
LAST-MODIFIED:20250624T145814Z
UID:10007072-1749819600-1749828600@ninecircles.ca
SUMMARY:Drumming Circle
DESCRIPTION:
URL:https://ninecircles.ca/event/drumming-circle-6/2025-06-13/
LOCATION:Nine Circles Community Centre\, 705 Broadway Winnipeg\, Winnipeg\, Manitoba\, R3G 0X2\, Canada
CATEGORIES:Community / Public Events
END:VEVENT
BEGIN:VEVENT
DTSTART;TZID=America/Winnipeg:20250612T090000
DTEND;TZID=America/Winnipeg:20250612T170000
DTSTAMP:20260424T095021
CREATED:20250605T131457Z
LAST-MODIFIED:20250605T131457Z
UID:10007166-1749718800-1749747600@ninecircles.ca
SUMMARY:BreastCheck Mobile at Nine Circles
DESCRIPTION:The BreastCheck mobile will be at Nine Circles Community Health Centre [705 Broadway] on Thursday\, June 12th\nCall to make an appointment at 1-855-952-4325 [walk-in appointments are welcome] and learn more at: https://cancercare.mb.ca/breastcheck
URL:https://ninecircles.ca/event/breastcheck-mobile-at-nine-circles/
LOCATION:Nine Circles Community Centre\, 705 Broadway Winnipeg\, Winnipeg\, Manitoba\, R3G 0X2\, Canada
CATEGORIES:Announcements,Community / Public Events
ATTACH;FMTTYPE=image/png:https://ninecircles.ca/wp-content/uploads/2025/06/socials-ENG-1.png
END:VEVENT
BEGIN:VEVENT
DTSTART;TZID=America/Winnipeg:20250606T130000
DTEND;TZID=America/Winnipeg:20250606T153000
DTSTAMP:20260424T095021
CREATED:20250411T204258Z
LAST-MODIFIED:20250624T145814Z
UID:10007071-1749214800-1749223800@ninecircles.ca
SUMMARY:Drumming Circle
DESCRIPTION:
URL:https://ninecircles.ca/event/drumming-circle-6/2025-06-06/
LOCATION:Nine Circles Community Centre\, 705 Broadway Winnipeg\, Winnipeg\, Manitoba\, R3G 0X2\, Canada
CATEGORIES:Community / Public Events
END:VEVENT
BEGIN:VEVENT
DTSTART;TZID=America/Winnipeg:20250603T140000
DTEND;TZID=America/Winnipeg:20250603T153000
DTSTAMP:20260424T095021
CREATED:20240501T152144Z
LAST-MODIFIED:20240501T152144Z
UID:10005206-1748959200-1748964600@ninecircles.ca
SUMMARY:Social Circle Drop-In
DESCRIPTION:Drop-in\, Hang Out\, Make Friends!\nNine Circles is proud to announce that it will resume drop-in programming with “Social Circle\,” happening on the first Tuesday of every month! Drop-in\, hang out\, make friends! Light refreshments provided. No registration needed\, just come between 2:00 p.m. – 3:30 p.m. to 705 Broadway and join us in the Gathering Place! \n 
URL:https://ninecircles.ca/event/social-circle-drop-in-2/2025-06-03/
LOCATION:Nine Circles Community Centre\, 705 Broadway Winnipeg\, Winnipeg\, Manitoba\, R3G 0X2\, Canada
CATEGORIES:Announcements,Community / Public Events
ATTACH;FMTTYPE=image/png:https://ninecircles.ca/wp-content/uploads/2023/11/Social-Circle-Drop-In.png
END:VEVENT
BEGIN:VEVENT
DTSTART;TZID=America/Winnipeg:20250601T100000
DTEND;TZID=America/Winnipeg:20250601T130000
DTSTAMP:20260424T095021
CREATED:20250522T144740Z
LAST-MODIFIED:20250522T144934Z
UID:10007165-1748772000-1748782800@ninecircles.ca
SUMMARY:March with MACH for the Winnipeg Pride March 2025
DESCRIPTION:March with MACH for Pride!\n\n\nJoin the Manitoba Association of Community Health on Sunday\, June 1st to march in Winnipeg Pride! We are inviting co-workers\, friends\, and families to spend the afternoon in support of our 2SLGBTQIA+ community.\n\n\nFor details to join the walking group\, please RSVP by sending an e-mail to: communityengagement@ninecircles.ca\n\n\n\n \n\n\nThe Manitoba Association of Community Health (MACH) works with the province’s Community Health Centres to improve the health and wellbeing of Manitoba residents and its members include: Aboriginal Health & Wellness Centre\, Centre de santé Saint-Boniface\, Hope Centre Health\, Klinic Community Health\, MFL Occupational Health Centre\, Mount Carmel Clinic\, Nine Circles Community Health Centre\, NorWest Co-op Community Health\, Sexuality Education Resource Centre Manitoba\, SERC\, Women’s Health Clinic (WHC)\, Centre Youville Centre.
URL:https://ninecircles.ca/event/march-with-mach-for-the-winnipeg-pride-march-2025/
LOCATION:Memorial Park\, 219 memorial blvd\, winnipeg\, manitoba\, R3C 0V7
CATEGORIES:Community / Public Events
ATTACH;FMTTYPE=image/png:https://ninecircles.ca/wp-content/uploads/2025/05/Pride-March-Poster-for-MACH-Contact.png
END:VEVENT
BEGIN:VEVENT
DTSTART;TZID=America/Winnipeg:20250530T130000
DTEND;TZID=America/Winnipeg:20250530T153000
DTSTAMP:20260424T095021
CREATED:20250411T204258Z
LAST-MODIFIED:20250624T145814Z
UID:10007070-1748610000-1748619000@ninecircles.ca
SUMMARY:Drumming Circle
DESCRIPTION:
URL:https://ninecircles.ca/event/drumming-circle-6/2025-05-30/
LOCATION:Nine Circles Community Centre\, 705 Broadway Winnipeg\, Winnipeg\, Manitoba\, R3G 0X2\, Canada
CATEGORIES:Community / Public Events
END:VEVENT
BEGIN:VEVENT
DTSTART;TZID=America/Winnipeg:20250526T130000
DTEND;TZID=America/Winnipeg:20250526T160000
DTSTAMP:20260424T095021
CREATED:20250514T193159Z
LAST-MODIFIED:20250514T193159Z
UID:10007163-1748264400-1748275200@ninecircles.ca
SUMMARY:Paint the Rainbow: Pride Sign Making
DESCRIPTION:Join us for a Pride Winnipeg Art Jam!\nDrop-in on Monday\, May 26th to make a sign\, button\, or bring a shirt to D.I.Y for Winnipeg Pride 2025 (parade on Sunday\, June 1st!). Hosted in our Gathering Place (check in with our Community Host at arrival).\nAll materials provided and free to attend! (all welcome). No registration needed\, just drop in! Please note we will begin cleaning up at 3:45 p.m.
URL:https://ninecircles.ca/event/paint-the-rainbow-pride-sign-making/
LOCATION:Nine Circles Community Centre\, 705 Broadway Winnipeg\, Winnipeg\, Manitoba\, R3G 0X2\, Canada
CATEGORIES:Announcements,Community / Public Events
ATTACH;FMTTYPE=image/jpeg:https://ninecircles.ca/wp-content/uploads/2025/05/Drop-in-Pride-Sign-Making.jpg
ORGANIZER;CN="Nine Circles Community Health":MAILTO:ninecircles@ninecircles.ca
END:VEVENT
BEGIN:VEVENT
DTSTART;TZID=America/Winnipeg:20250523T130000
DTEND;TZID=America/Winnipeg:20250523T153000
DTSTAMP:20260424T095021
CREATED:20250411T204258Z
LAST-MODIFIED:20250624T145814Z
UID:10007069-1748005200-1748014200@ninecircles.ca
SUMMARY:Drumming Circle
DESCRIPTION:
URL:https://ninecircles.ca/event/drumming-circle-6/2025-05-23/
LOCATION:Nine Circles Community Centre\, 705 Broadway Winnipeg\, Winnipeg\, Manitoba\, R3G 0X2\, Canada
CATEGORIES:Community / Public Events
END:VEVENT
BEGIN:VEVENT
DTSTART;TZID=America/Winnipeg:20250520T140000
DTEND;TZID=America/Winnipeg:20250520T153000
DTSTAMP:20260424T095021
CREATED:20250131T155747Z
LAST-MODIFIED:20250131T155747Z
UID:10007048-1747749600-1747755000@ninecircles.ca
SUMMARY:Sharing Point Drop-in Group
DESCRIPTION:New Join “Sharing Point”\, a new group for all women and gender diverse people the third Tuesday of the month starting March 18th from 2:00 p.m. – 3:30 p.m. \nThis is a drop in group offering snacks\, coffee\, tea\, and great company!
URL:https://ninecircles.ca/event/sharing-point-drop-in-group/2025-05-20/
LOCATION:Nine Circles Community Centre\, 705 Broadway Winnipeg\, Winnipeg\, Manitoba\, R3G 0X2\, Canada
CATEGORIES:Community / Public Events
ATTACH;FMTTYPE=image/png:https://ninecircles.ca/wp-content/uploads/2025/01/Sharing-Point-Group-1080-x-1350-px-e1738338939264.png
END:VEVENT
BEGIN:VEVENT
DTSTART;TZID=America/Winnipeg:20250516T130000
DTEND;TZID=America/Winnipeg:20250516T153000
DTSTAMP:20260424T095021
CREATED:20250411T204258Z
LAST-MODIFIED:20250624T145814Z
UID:10007068-1747400400-1747409400@ninecircles.ca
SUMMARY:Drumming Circle
DESCRIPTION:
URL:https://ninecircles.ca/event/drumming-circle-6/2025-05-16/
LOCATION:Nine Circles Community Centre\, 705 Broadway Winnipeg\, Winnipeg\, Manitoba\, R3G 0X2\, Canada
CATEGORIES:Community / Public Events
END:VEVENT
BEGIN:VEVENT
DTSTART;TZID=America/Winnipeg:20250509T130000
DTEND;TZID=America/Winnipeg:20250509T153000
DTSTAMP:20260424T095021
CREATED:20250411T204258Z
LAST-MODIFIED:20250624T145814Z
UID:10007067-1746795600-1746804600@ninecircles.ca
SUMMARY:Drumming Circle
DESCRIPTION:
URL:https://ninecircles.ca/event/drumming-circle-6/2025-05-09/
LOCATION:Nine Circles Community Centre\, 705 Broadway Winnipeg\, Winnipeg\, Manitoba\, R3G 0X2\, Canada
CATEGORIES:Community / Public Events
END:VEVENT
BEGIN:VEVENT
DTSTART;TZID=America/Winnipeg:20250506T153000
DTEND;TZID=America/Winnipeg:20250506T163000
DTSTAMP:20260424T095021
CREATED:20250423T163550Z
LAST-MODIFIED:20251027T165039Z
UID:10007144-1746545400-1746549000@ninecircles.ca
SUMMARY:Just Breathe Group
DESCRIPTION:Join us for “Just Breathe: Drop-in Group” with Breathwork Practitioner Asia starting Tuesday\, May 6th!\nHosted the first Tuesday of the month from 3:30 p.m. – 4:30 p.m. in the Gathering Place. Relax\, recenter and recharge! All materials provided.
URL:https://ninecircles.ca/event/just-breathe-group/2025-05-06/
LOCATION:Nine Circles Community Centre\, 705 Broadway Winnipeg\, Winnipeg\, Manitoba\, R3G 0X2\, Canada
CATEGORIES:Community / Public Events
END:VEVENT
BEGIN:VEVENT
DTSTART;TZID=America/Winnipeg:20250506T140000
DTEND;TZID=America/Winnipeg:20250506T153000
DTSTAMP:20260424T095021
CREATED:20240501T152144Z
LAST-MODIFIED:20240501T152144Z
UID:10005205-1746540000-1746545400@ninecircles.ca
SUMMARY:Social Circle Drop-In
DESCRIPTION:Drop-in\, Hang Out\, Make Friends!\nNine Circles is proud to announce that it will resume drop-in programming with “Social Circle\,” happening on the first Tuesday of every month! Drop-in\, hang out\, make friends! Light refreshments provided. No registration needed\, just come between 2:00 p.m. – 3:30 p.m. to 705 Broadway and join us in the Gathering Place! \n 
URL:https://ninecircles.ca/event/social-circle-drop-in-2/2025-05-06/
LOCATION:Nine Circles Community Centre\, 705 Broadway Winnipeg\, Winnipeg\, Manitoba\, R3G 0X2\, Canada
CATEGORIES:Announcements,Community / Public Events
ATTACH;FMTTYPE=image/png:https://ninecircles.ca/wp-content/uploads/2023/11/Social-Circle-Drop-In.png
END:VEVENT
BEGIN:VEVENT
DTSTART;TZID=America/Winnipeg:20250502T130000
DTEND;TZID=America/Winnipeg:20250502T153000
DTSTAMP:20260424T095021
CREATED:20250411T204258Z
LAST-MODIFIED:20250624T145814Z
UID:10007066-1746190800-1746199800@ninecircles.ca
SUMMARY:Drumming Circle
DESCRIPTION:
URL:https://ninecircles.ca/event/drumming-circle-6/2025-05-02/
LOCATION:Nine Circles Community Centre\, 705 Broadway Winnipeg\, Winnipeg\, Manitoba\, R3G 0X2\, Canada
CATEGORIES:Community / Public Events
END:VEVENT
BEGIN:VEVENT
DTSTART;TZID=America/Winnipeg:20250425T130000
DTEND;TZID=America/Winnipeg:20250425T153000
DTSTAMP:20260424T095021
CREATED:20250411T204258Z
LAST-MODIFIED:20250624T145814Z
UID:10007065-1745586000-1745595000@ninecircles.ca
SUMMARY:Drumming Circle
DESCRIPTION:
URL:https://ninecircles.ca/event/drumming-circle-6/2025-04-25/
LOCATION:Nine Circles Community Centre\, 705 Broadway Winnipeg\, Winnipeg\, Manitoba\, R3G 0X2\, Canada
CATEGORIES:Community / Public Events
END:VEVENT
BEGIN:VEVENT
DTSTART;VALUE=DATE:20250416
DTEND;VALUE=DATE:20250417
DTSTAMP:20260424T095021
CREATED:20250303T224618Z
LAST-MODIFIED:20250303T224618Z
UID:10007062-1744761600-1744847999@ninecircles.ca
SUMMARY:A Taste for Life Winnipeg 2025
DESCRIPTION:  \nWinnipeg Raises It’s Glass to Support HIV-STBBI Care on April 16th!\nA Taste for Life returns to Winnipeg on Wednesday\, April 16th\, a unique initiative that brings together hospitality partners and the community to support a vibrant and healthy Manitoba. Brought to you by title sponsor: G is for Glasses \nWhat is A Taste for Life (ATFL)? ATFL started in Ottawa in 1999 as a joint effort of Bruce House and the Snowy Owl AIDS Foundation. The tradition now continues with Bruce House operating A Taste for Life\, which has been joined by communities from across the country\, with Winnipeg joining in 2022.  \nHow does it work?  Diners can head out on Wednesday\, April 16th to grab a delicious meal\, drink\, or snack from any 12 participating locations. Proceeds from their purchase will be donated to the life-saving programs and services that Nine Circles Community Health Centre offers such as: Indigenous cultural programming\, support groups & peer connection\, items for those who are unhoused at Pit Stop \, and anti-stigma projects and campaigns. Learn more about Nine Circles’ impact at www.ninecircles.ca/donate. \n\n\n\nFrom now until April 21st\, when you make a $10 or more donation on our website\, you will be automatically entered to win the ATFLWPG2025 grand prize “Serie Collectore (Collector Series) Classic with Charcuterie Board) from Calabria Market & Fine Wines.  Grand prize includes: Serie Collectore (Collector Series) Classic Wine Club membership of 1 bottle of high rated wines that can be enjoyed now or cellared for 10 to 20 years and high-end charcuterie spread for a year [valued at $1\,700!]. \n\nDonate Today!\n\nYour 2025 Participating Locations:\n\n\nAmsterdam Tea Room\n103-211 Bannatyne Ave\nPh: (204) 946-1777\nView Menu \nBlack Market Provisions\n550 Osborne St.\nPh: (204) 477-5500\nPre-order Dark Chocolate Sea Salt Cookie \nClementine Café\n123 Princess St.\nPh: (204) 942-9497\nView Menu\n*Does NOT take reservations \nClub 200\n190 Garry St.\nPh: (204) 943-6045\nView Website \n\n\nFionn MacCool’s Grant\n1180 Grant Ave.\nPh: (431) 317-8636\nView Menu\nMake A Reservation \nHildegard’s Bakery\n100-686 Portage Ave.\nPh: (204) 615-0889\nView Menu \nNonsuch Brewing Co.\n125 Pacific Ave.\nPh: (204) 666-7824\nView Menu \nParcel Pizza\n221-A Stradbrook Ave.\nPh: (204) 421-6711\nView Menu\n*Reservations are recommended \n\n\nPatent 5\n108 Alexander Ave.\nPh: (204) 808-8614\nView Menu \nSous Sol\n22-222 Osborne St.\nMake a Reservation\nView Menu\n*Reservations are recommended \nTabula Rasa\n725 Osborne St.\nPh: (204) 219-2276\nMake A Reservation\nView Menu\n*Reservations are recommended \nThe Roost on Corydon\n651-A Corydon Ave.\nPh: (204) 414-9313\nView Menu\n*Reservations are recommended \n\n\nMake 2025 your year of great eats by going out on April 16th and snapping a shot of you or your order\, tag Nine Circles Community Health Centre (Instagram and Facebook) with #ATFLWPG2025 for a chance to win 1 of 5 $100.00 gift cards!  Draw at noon April 21st\, conditions apply (1 winner per prize\, winners will be contacted via the social media they posted from\, winners have (7) days to claim prize or prize will be redrawn). \n\n\n\nContact\nChance Dupuis (he/him/his)\nCommunity Engagement Coordinator\nCommunityEngagement@NineCircles.ca \n\n\nNine Circles Community Health Centre\n705 Broadway Ave.\nWinnipeg\, MB R3G 0X2\nPhone 204-940-6029\nwww.ninecircles.ca
URL:https://ninecircles.ca/event/a-taste-for-life-winnipeg-2025/
LOCATION:Nine Circles Community Centre\, 705 Broadway Winnipeg\, Winnipeg\, Manitoba\, R3G 0X2\, Canada
CATEGORIES:Community / Public Events
END:VEVENT
BEGIN:VEVENT
DTSTART;TZID=America/Winnipeg:20250415T140000
DTEND;TZID=America/Winnipeg:20250415T153000
DTSTAMP:20260424T095021
CREATED:20250131T155747Z
LAST-MODIFIED:20250131T155747Z
UID:10007047-1744725600-1744731000@ninecircles.ca
SUMMARY:Sharing Point Drop-in Group
DESCRIPTION:New Join “Sharing Point”\, a new group for all women and gender diverse people the third Tuesday of the month starting March 18th from 2:00 p.m. – 3:30 p.m. \nThis is a drop in group offering snacks\, coffee\, tea\, and great company!
URL:https://ninecircles.ca/event/sharing-point-drop-in-group/2025-04-15/
LOCATION:Nine Circles Community Centre\, 705 Broadway Winnipeg\, Winnipeg\, Manitoba\, R3G 0X2\, Canada
CATEGORIES:Community / Public Events
ATTACH;FMTTYPE=image/png:https://ninecircles.ca/wp-content/uploads/2025/01/Sharing-Point-Group-1080-x-1350-px-e1738338939264.png
END:VEVENT
BEGIN:VEVENT
DTSTART;TZID=America/Winnipeg:20250411T130000
DTEND;TZID=America/Winnipeg:20250411T153000
DTSTAMP:20260424T095021
CREATED:20250411T204258Z
LAST-MODIFIED:20250624T145814Z
UID:10007064-1744376400-1744385400@ninecircles.ca
SUMMARY:Drumming Circle
DESCRIPTION:
URL:https://ninecircles.ca/event/drumming-circle-6/2025-04-11/
LOCATION:Nine Circles Community Centre\, 705 Broadway Winnipeg\, Winnipeg\, Manitoba\, R3G 0X2\, Canada
CATEGORIES:Community / Public Events
END:VEVENT
BEGIN:VEVENT
DTSTART;TZID=America/Winnipeg:20250409T130000
DTEND;TZID=America/Winnipeg:20250409T160000
DTSTAMP:20260424T095021
CREATED:20241030T191406Z
LAST-MODIFIED:20250121T202941Z
UID:10006661-1744203600-1744214400@ninecircles.ca
SUMMARY:Ribbon Skirt/Shirt Making (By Registration Only)
DESCRIPTION:Led by Cultural Support Worker Kayleen Kaduchuk\nEvery Wednesday from 1:00 p.m. – 4:00 p.m. in our Gathering Place \nSpots are limited\, register by: Drop-in\, call (204) 940-6000\, or e-mail kkaduchuk@ninecircles.ca
URL:https://ninecircles.ca/event/ribbon-skirt-shirt-making-by-registration-only/2025-04-09/
LOCATION:Nine Circles Community Centre\, 705 Broadway Winnipeg\, Winnipeg\, Manitoba\, R3G 0X2\, Canada
CATEGORIES:Community / Public Events,Registered Event
END:VEVENT
BEGIN:VEVENT
DTSTART;TZID=America/Winnipeg:20250402T130000
DTEND;TZID=America/Winnipeg:20250402T160000
DTSTAMP:20260424T095021
CREATED:20241030T191406Z
LAST-MODIFIED:20250121T202941Z
UID:10006660-1743598800-1743609600@ninecircles.ca
SUMMARY:Ribbon Skirt/Shirt Making (By Registration Only)
DESCRIPTION:Led by Cultural Support Worker Kayleen Kaduchuk\nEvery Wednesday from 1:00 p.m. – 4:00 p.m. in our Gathering Place \nSpots are limited\, register by: Drop-in\, call (204) 940-6000\, or e-mail kkaduchuk@ninecircles.ca
URL:https://ninecircles.ca/event/ribbon-skirt-shirt-making-by-registration-only/2025-04-02/
LOCATION:Nine Circles Community Centre\, 705 Broadway Winnipeg\, Winnipeg\, Manitoba\, R3G 0X2\, Canada
CATEGORIES:Community / Public Events,Registered Event
END:VEVENT
BEGIN:VEVENT
DTSTART;TZID=America/Winnipeg:20250401T140000
DTEND;TZID=America/Winnipeg:20250401T153000
DTSTAMP:20260424T095021
CREATED:20240501T152144Z
LAST-MODIFIED:20240501T152144Z
UID:10005204-1743516000-1743521400@ninecircles.ca
SUMMARY:Social Circle Drop-In
DESCRIPTION:Drop-in\, Hang Out\, Make Friends!\nNine Circles is proud to announce that it will resume drop-in programming with “Social Circle\,” happening on the first Tuesday of every month! Drop-in\, hang out\, make friends! Light refreshments provided. No registration needed\, just come between 2:00 p.m. – 3:30 p.m. to 705 Broadway and join us in the Gathering Place! \n 
URL:https://ninecircles.ca/event/social-circle-drop-in-2/2025-04-01/
LOCATION:Nine Circles Community Centre\, 705 Broadway Winnipeg\, Winnipeg\, Manitoba\, R3G 0X2\, Canada
CATEGORIES:Announcements,Community / Public Events
ATTACH;FMTTYPE=image/png:https://ninecircles.ca/wp-content/uploads/2023/11/Social-Circle-Drop-In.png
END:VEVENT
END:VCALENDAR