BEGIN:VCALENDAR
VERSION:2.0
PRODID:-//Nine Circles Community Health Centre - ECPv6.15.18//NONSGML v1.0//EN
CALSCALE:GREGORIAN
METHOD:PUBLISH
X-WR-CALNAME:Nine Circles Community Health Centre
X-ORIGINAL-URL:https://ninecircles.ca
X-WR-CALDESC:Events for Nine Circles Community Health Centre
REFRESH-INTERVAL;VALUE=DURATION:PT1H
X-Robots-Tag:noindex
X-PUBLISHED-TTL:PT1H
BEGIN:VTIMEZONE
TZID:America/Winnipeg
BEGIN:DAYLIGHT
TZOFFSETFROM:-0600
TZOFFSETTO:-0500
TZNAME:CDT
DTSTART:20260308T080000
END:DAYLIGHT
BEGIN:STANDARD
TZOFFSETFROM:-0500
TZOFFSETTO:-0600
TZNAME:CST
DTSTART:20261101T070000
END:STANDARD
BEGIN:DAYLIGHT
TZOFFSETFROM:-0600
TZOFFSETTO:-0500
TZNAME:CDT
DTSTART:20270314T080000
END:DAYLIGHT
BEGIN:STANDARD
TZOFFSETFROM:-0500
TZOFFSETTO:-0600
TZNAME:CST
DTSTART:20271107T070000
END:STANDARD
BEGIN:DAYLIGHT
TZOFFSETFROM:-0600
TZOFFSETTO:-0500
TZNAME:CDT
DTSTART:20280312T080000
END:DAYLIGHT
BEGIN:STANDARD
TZOFFSETFROM:-0500
TZOFFSETTO:-0600
TZNAME:CST
DTSTART:20281105T070000
END:STANDARD
END:VTIMEZONE
BEGIN:VEVENT
DTSTART;TZID=America/Winnipeg:20270402T130000
DTEND;TZID=America/Winnipeg:20270402T160000
DTSTAMP:20260423T005142
CREATED:20260305T144144Z
LAST-MODIFIED:20260327T145136Z
UID:10007875-1806670800-1806681600@ninecircles.ca
SUMMARY:Movies & Munchies
DESCRIPTION:Dive into arts and culture through film every first Friday of the month!\nAll are welcome to join us for snacks\, movies\, and great company.
URL:https://ninecircles.ca/event/movies-munchies/2027-04-02/
LOCATION:Nine Circles Community Centre\, 705 Broadway Winnipeg\, Winnipeg\, Manitoba\, R3G 0X2\, Canada
CATEGORIES:Community / Public Events
END:VEVENT
BEGIN:VEVENT
DTSTART;TZID=America/Winnipeg:20270406T140000
DTEND;TZID=America/Winnipeg:20270406T153000
DTSTAMP:20260423T005142
CREATED:20250623T201013Z
LAST-MODIFIED:20250623T201134Z
UID:10005228-1807020000-1807025400@ninecircles.ca
SUMMARY:Social Circle Drop-In
DESCRIPTION:Drop-in\, Hang Out\, Make Friends!\nNine Circles is proud to announce that it will resume drop-in programming with “Social Circle\,” happening on the first Tuesday of every month! Drop-in\, hang out\, make friends! Light refreshments provided. No registration needed\, just come between 2:00 p.m. – 3:30 p.m. to 705 Broadway and join us in the Gathering Place! \n 
URL:https://ninecircles.ca/event/social-circle-drop-in-2-2/2027-04-06/
LOCATION:Nine Circles Community Centre\, 705 Broadway Winnipeg\, Winnipeg\, Manitoba\, R3G 0X2\, Canada
CATEGORIES:Announcements,Community / Public Events
ATTACH;FMTTYPE=image/png:https://ninecircles.ca/wp-content/uploads/2023/11/Social-Circle-Drop-In.png
END:VEVENT
BEGIN:VEVENT
DTSTART;TZID=America/Winnipeg:20270407T100000
DTEND;TZID=America/Winnipeg:20270407T120000
DTSTAMP:20260423T005142
CREATED:20260305T144328Z
LAST-MODIFIED:20260327T133248Z
UID:10007978-1807092000-1807099200@ninecircles.ca
SUMMARY:Coffee Talks
DESCRIPTION:It’s Back!\nAll are welcome to join us for a cozy meet up with coffee\, treats\, and connection. \nThis is a community-led space. Come as you are\, and share as much or as little as you would like! \nHave a topic\, skill\, or interest you want to share with others? Contact Kristen at: kwiltshire@ninecircles.ca or 204-940-6043
URL:https://ninecircles.ca/event/coffee-talks/2027-04-07/
LOCATION:Nine Circles Community Centre\, 705 Broadway Winnipeg\, Winnipeg\, Manitoba\, R3G 0X2\, Canada
CATEGORIES:Community / Public Events
END:VEVENT
BEGIN:VEVENT
DTSTART;TZID=America/Winnipeg:20270414T100000
DTEND;TZID=America/Winnipeg:20270414T120000
DTSTAMP:20260423T005142
CREATED:20260305T144328Z
LAST-MODIFIED:20260327T133248Z
UID:10007979-1807696800-1807704000@ninecircles.ca
SUMMARY:Coffee Talks
DESCRIPTION:It’s Back!\nAll are welcome to join us for a cozy meet up with coffee\, treats\, and connection. \nThis is a community-led space. Come as you are\, and share as much or as little as you would like! \nHave a topic\, skill\, or interest you want to share with others? Contact Kristen at: kwiltshire@ninecircles.ca or 204-940-6043
URL:https://ninecircles.ca/event/coffee-talks/2027-04-14/
LOCATION:Nine Circles Community Centre\, 705 Broadway Winnipeg\, Winnipeg\, Manitoba\, R3G 0X2\, Canada
CATEGORIES:Community / Public Events
END:VEVENT
BEGIN:VEVENT
DTSTART;TZID=America/Winnipeg:20270420T140000
DTEND;TZID=America/Winnipeg:20270420T153000
DTSTAMP:20260423T005142
CREATED:20251211T192815Z
LAST-MODIFIED:20251211T192815Z
UID:10007735-1808229600-1808235000@ninecircles.ca
SUMMARY:Sharing Point Group
DESCRIPTION:Have something you want to get off your chest? Join us the third Tuesday of the month from 2:00 – 3:30 p.m. for Sharing Point. \nOpen to women and gender diverse folks that want a safe and casual space for connection\, sharing experiences\, and receive encouragement and support related to life struggles or circumstances.
URL:https://ninecircles.ca/event/sharing-point-group/2027-04-20/
LOCATION:Nine Circles Community Centre\, 705 Broadway Winnipeg\, Winnipeg\, Manitoba\, R3G 0X2\, Canada
CATEGORIES:Community / Public Events
END:VEVENT
BEGIN:VEVENT
DTSTART;TZID=America/Winnipeg:20270421T100000
DTEND;TZID=America/Winnipeg:20270421T120000
DTSTAMP:20260423T005143
CREATED:20260305T144328Z
LAST-MODIFIED:20260327T133248Z
UID:10007980-1808301600-1808308800@ninecircles.ca
SUMMARY:Coffee Talks
DESCRIPTION:It’s Back!\nAll are welcome to join us for a cozy meet up with coffee\, treats\, and connection. \nThis is a community-led space. Come as you are\, and share as much or as little as you would like! \nHave a topic\, skill\, or interest you want to share with others? Contact Kristen at: kwiltshire@ninecircles.ca or 204-940-6043
URL:https://ninecircles.ca/event/coffee-talks/2027-04-21/
LOCATION:Nine Circles Community Centre\, 705 Broadway Winnipeg\, Winnipeg\, Manitoba\, R3G 0X2\, Canada
CATEGORIES:Community / Public Events
END:VEVENT
BEGIN:VEVENT
DTSTART;TZID=America/Winnipeg:20270428T100000
DTEND;TZID=America/Winnipeg:20270428T120000
DTSTAMP:20260423T005143
CREATED:20260305T144328Z
LAST-MODIFIED:20260327T133248Z
UID:10007981-1808906400-1808913600@ninecircles.ca
SUMMARY:Coffee Talks
DESCRIPTION:It’s Back!\nAll are welcome to join us for a cozy meet up with coffee\, treats\, and connection. \nThis is a community-led space. Come as you are\, and share as much or as little as you would like! \nHave a topic\, skill\, or interest you want to share with others? Contact Kristen at: kwiltshire@ninecircles.ca or 204-940-6043
URL:https://ninecircles.ca/event/coffee-talks/2027-04-28/
LOCATION:Nine Circles Community Centre\, 705 Broadway Winnipeg\, Winnipeg\, Manitoba\, R3G 0X2\, Canada
CATEGORIES:Community / Public Events
END:VEVENT
BEGIN:VEVENT
DTSTART;TZID=America/Winnipeg:20270504T140000
DTEND;TZID=America/Winnipeg:20270504T153000
DTSTAMP:20260423T005143
CREATED:20250623T201013Z
LAST-MODIFIED:20250623T201134Z
UID:10005229-1809439200-1809444600@ninecircles.ca
SUMMARY:Social Circle Drop-In
DESCRIPTION:Drop-in\, Hang Out\, Make Friends!\nNine Circles is proud to announce that it will resume drop-in programming with “Social Circle\,” happening on the first Tuesday of every month! Drop-in\, hang out\, make friends! Light refreshments provided. No registration needed\, just come between 2:00 p.m. – 3:30 p.m. to 705 Broadway and join us in the Gathering Place! \n 
URL:https://ninecircles.ca/event/social-circle-drop-in-2-2/2027-05-04/
LOCATION:Nine Circles Community Centre\, 705 Broadway Winnipeg\, Winnipeg\, Manitoba\, R3G 0X2\, Canada
CATEGORIES:Announcements,Community / Public Events
ATTACH;FMTTYPE=image/png:https://ninecircles.ca/wp-content/uploads/2023/11/Social-Circle-Drop-In.png
END:VEVENT
BEGIN:VEVENT
DTSTART;TZID=America/Winnipeg:20270505T100000
DTEND;TZID=America/Winnipeg:20270505T120000
DTSTAMP:20260423T005143
CREATED:20260305T144328Z
LAST-MODIFIED:20260327T133248Z
UID:10007982-1809511200-1809518400@ninecircles.ca
SUMMARY:Coffee Talks
DESCRIPTION:It’s Back!\nAll are welcome to join us for a cozy meet up with coffee\, treats\, and connection. \nThis is a community-led space. Come as you are\, and share as much or as little as you would like! \nHave a topic\, skill\, or interest you want to share with others? Contact Kristen at: kwiltshire@ninecircles.ca or 204-940-6043
URL:https://ninecircles.ca/event/coffee-talks/2027-05-05/
LOCATION:Nine Circles Community Centre\, 705 Broadway Winnipeg\, Winnipeg\, Manitoba\, R3G 0X2\, Canada
CATEGORIES:Community / Public Events
END:VEVENT
BEGIN:VEVENT
DTSTART;TZID=America/Winnipeg:20270507T130000
DTEND;TZID=America/Winnipeg:20270507T160000
DTSTAMP:20260423T005143
CREATED:20260305T144144Z
LAST-MODIFIED:20260327T145136Z
UID:10007876-1809694800-1809705600@ninecircles.ca
SUMMARY:Movies & Munchies
DESCRIPTION:Dive into arts and culture through film every first Friday of the month!\nAll are welcome to join us for snacks\, movies\, and great company.
URL:https://ninecircles.ca/event/movies-munchies/2027-05-07/
LOCATION:Nine Circles Community Centre\, 705 Broadway Winnipeg\, Winnipeg\, Manitoba\, R3G 0X2\, Canada
CATEGORIES:Community / Public Events
END:VEVENT
BEGIN:VEVENT
DTSTART;TZID=America/Winnipeg:20270512T100000
DTEND;TZID=America/Winnipeg:20270512T120000
DTSTAMP:20260423T005143
CREATED:20260305T144328Z
LAST-MODIFIED:20260327T133248Z
UID:10007983-1810116000-1810123200@ninecircles.ca
SUMMARY:Coffee Talks
DESCRIPTION:It’s Back!\nAll are welcome to join us for a cozy meet up with coffee\, treats\, and connection. \nThis is a community-led space. Come as you are\, and share as much or as little as you would like! \nHave a topic\, skill\, or interest you want to share with others? Contact Kristen at: kwiltshire@ninecircles.ca or 204-940-6043
URL:https://ninecircles.ca/event/coffee-talks/2027-05-12/
LOCATION:Nine Circles Community Centre\, 705 Broadway Winnipeg\, Winnipeg\, Manitoba\, R3G 0X2\, Canada
CATEGORIES:Community / Public Events
END:VEVENT
BEGIN:VEVENT
DTSTART;TZID=America/Winnipeg:20270518T140000
DTEND;TZID=America/Winnipeg:20270518T153000
DTSTAMP:20260423T005143
CREATED:20251211T192815Z
LAST-MODIFIED:20251211T192815Z
UID:10007736-1810648800-1810654200@ninecircles.ca
SUMMARY:Sharing Point Group
DESCRIPTION:Have something you want to get off your chest? Join us the third Tuesday of the month from 2:00 – 3:30 p.m. for Sharing Point. \nOpen to women and gender diverse folks that want a safe and casual space for connection\, sharing experiences\, and receive encouragement and support related to life struggles or circumstances.
URL:https://ninecircles.ca/event/sharing-point-group/2027-05-18/
LOCATION:Nine Circles Community Centre\, 705 Broadway Winnipeg\, Winnipeg\, Manitoba\, R3G 0X2\, Canada
CATEGORIES:Community / Public Events
END:VEVENT
BEGIN:VEVENT
DTSTART;TZID=America/Winnipeg:20270519T100000
DTEND;TZID=America/Winnipeg:20270519T120000
DTSTAMP:20260423T005143
CREATED:20260305T144328Z
LAST-MODIFIED:20260327T133248Z
UID:10007984-1810720800-1810728000@ninecircles.ca
SUMMARY:Coffee Talks
DESCRIPTION:It’s Back!\nAll are welcome to join us for a cozy meet up with coffee\, treats\, and connection. \nThis is a community-led space. Come as you are\, and share as much or as little as you would like! \nHave a topic\, skill\, or interest you want to share with others? Contact Kristen at: kwiltshire@ninecircles.ca or 204-940-6043
URL:https://ninecircles.ca/event/coffee-talks/2027-05-19/
LOCATION:Nine Circles Community Centre\, 705 Broadway Winnipeg\, Winnipeg\, Manitoba\, R3G 0X2\, Canada
CATEGORIES:Community / Public Events
END:VEVENT
BEGIN:VEVENT
DTSTART;TZID=America/Winnipeg:20270526T100000
DTEND;TZID=America/Winnipeg:20270526T120000
DTSTAMP:20260423T005143
CREATED:20260305T144328Z
LAST-MODIFIED:20260327T133248Z
UID:10007985-1811325600-1811332800@ninecircles.ca
SUMMARY:Coffee Talks
DESCRIPTION:It’s Back!\nAll are welcome to join us for a cozy meet up with coffee\, treats\, and connection. \nThis is a community-led space. Come as you are\, and share as much or as little as you would like! \nHave a topic\, skill\, or interest you want to share with others? Contact Kristen at: kwiltshire@ninecircles.ca or 204-940-6043
URL:https://ninecircles.ca/event/coffee-talks/2027-05-26/
LOCATION:Nine Circles Community Centre\, 705 Broadway Winnipeg\, Winnipeg\, Manitoba\, R3G 0X2\, Canada
CATEGORIES:Community / Public Events
END:VEVENT
BEGIN:VEVENT
DTSTART;TZID=America/Winnipeg:20270601T140000
DTEND;TZID=America/Winnipeg:20270601T153000
DTSTAMP:20260423T005143
CREATED:20250623T201013Z
LAST-MODIFIED:20250623T201134Z
UID:10005230-1811858400-1811863800@ninecircles.ca
SUMMARY:Social Circle Drop-In
DESCRIPTION:Drop-in\, Hang Out\, Make Friends!\nNine Circles is proud to announce that it will resume drop-in programming with “Social Circle\,” happening on the first Tuesday of every month! Drop-in\, hang out\, make friends! Light refreshments provided. No registration needed\, just come between 2:00 p.m. – 3:30 p.m. to 705 Broadway and join us in the Gathering Place! \n 
URL:https://ninecircles.ca/event/social-circle-drop-in-2-2/2027-06-01/
LOCATION:Nine Circles Community Centre\, 705 Broadway Winnipeg\, Winnipeg\, Manitoba\, R3G 0X2\, Canada
CATEGORIES:Announcements,Community / Public Events
ATTACH;FMTTYPE=image/png:https://ninecircles.ca/wp-content/uploads/2023/11/Social-Circle-Drop-In.png
END:VEVENT
BEGIN:VEVENT
DTSTART;TZID=America/Winnipeg:20270602T100000
DTEND;TZID=America/Winnipeg:20270602T120000
DTSTAMP:20260423T005143
CREATED:20260305T144328Z
LAST-MODIFIED:20260327T133248Z
UID:10007986-1811930400-1811937600@ninecircles.ca
SUMMARY:Coffee Talks
DESCRIPTION:It’s Back!\nAll are welcome to join us for a cozy meet up with coffee\, treats\, and connection. \nThis is a community-led space. Come as you are\, and share as much or as little as you would like! \nHave a topic\, skill\, or interest you want to share with others? Contact Kristen at: kwiltshire@ninecircles.ca or 204-940-6043
URL:https://ninecircles.ca/event/coffee-talks/2027-06-02/
LOCATION:Nine Circles Community Centre\, 705 Broadway Winnipeg\, Winnipeg\, Manitoba\, R3G 0X2\, Canada
CATEGORIES:Community / Public Events
END:VEVENT
BEGIN:VEVENT
DTSTART;TZID=America/Winnipeg:20270604T130000
DTEND;TZID=America/Winnipeg:20270604T160000
DTSTAMP:20260423T005143
CREATED:20260305T144144Z
LAST-MODIFIED:20260327T145136Z
UID:10007877-1812114000-1812124800@ninecircles.ca
SUMMARY:Movies & Munchies
DESCRIPTION:Dive into arts and culture through film every first Friday of the month!\nAll are welcome to join us for snacks\, movies\, and great company.
URL:https://ninecircles.ca/event/movies-munchies/2027-06-04/
LOCATION:Nine Circles Community Centre\, 705 Broadway Winnipeg\, Winnipeg\, Manitoba\, R3G 0X2\, Canada
CATEGORIES:Community / Public Events
END:VEVENT
BEGIN:VEVENT
DTSTART;TZID=America/Winnipeg:20270609T100000
DTEND;TZID=America/Winnipeg:20270609T120000
DTSTAMP:20260423T005143
CREATED:20260305T144328Z
LAST-MODIFIED:20260327T133248Z
UID:10007987-1812535200-1812542400@ninecircles.ca
SUMMARY:Coffee Talks
DESCRIPTION:It’s Back!\nAll are welcome to join us for a cozy meet up with coffee\, treats\, and connection. \nThis is a community-led space. Come as you are\, and share as much or as little as you would like! \nHave a topic\, skill\, or interest you want to share with others? Contact Kristen at: kwiltshire@ninecircles.ca or 204-940-6043
URL:https://ninecircles.ca/event/coffee-talks/2027-06-09/
LOCATION:Nine Circles Community Centre\, 705 Broadway Winnipeg\, Winnipeg\, Manitoba\, R3G 0X2\, Canada
CATEGORIES:Community / Public Events
END:VEVENT
BEGIN:VEVENT
DTSTART;TZID=America/Winnipeg:20270615T140000
DTEND;TZID=America/Winnipeg:20270615T153000
DTSTAMP:20260423T005143
CREATED:20251211T192815Z
LAST-MODIFIED:20251211T192815Z
UID:10007737-1813068000-1813073400@ninecircles.ca
SUMMARY:Sharing Point Group
DESCRIPTION:Have something you want to get off your chest? Join us the third Tuesday of the month from 2:00 – 3:30 p.m. for Sharing Point. \nOpen to women and gender diverse folks that want a safe and casual space for connection\, sharing experiences\, and receive encouragement and support related to life struggles or circumstances.
URL:https://ninecircles.ca/event/sharing-point-group/2027-06-15/
LOCATION:Nine Circles Community Centre\, 705 Broadway Winnipeg\, Winnipeg\, Manitoba\, R3G 0X2\, Canada
CATEGORIES:Community / Public Events
END:VEVENT
BEGIN:VEVENT
DTSTART;TZID=America/Winnipeg:20270616T100000
DTEND;TZID=America/Winnipeg:20270616T120000
DTSTAMP:20260423T005143
CREATED:20260305T144328Z
LAST-MODIFIED:20260327T133248Z
UID:10007988-1813140000-1813147200@ninecircles.ca
SUMMARY:Coffee Talks
DESCRIPTION:It’s Back!\nAll are welcome to join us for a cozy meet up with coffee\, treats\, and connection. \nThis is a community-led space. Come as you are\, and share as much or as little as you would like! \nHave a topic\, skill\, or interest you want to share with others? Contact Kristen at: kwiltshire@ninecircles.ca or 204-940-6043
URL:https://ninecircles.ca/event/coffee-talks/2027-06-16/
LOCATION:Nine Circles Community Centre\, 705 Broadway Winnipeg\, Winnipeg\, Manitoba\, R3G 0X2\, Canada
CATEGORIES:Community / Public Events
END:VEVENT
BEGIN:VEVENT
DTSTART;TZID=America/Winnipeg:20270623T100000
DTEND;TZID=America/Winnipeg:20270623T120000
DTSTAMP:20260423T005143
CREATED:20260305T144328Z
LAST-MODIFIED:20260327T133248Z
UID:10007989-1813744800-1813752000@ninecircles.ca
SUMMARY:Coffee Talks
DESCRIPTION:It’s Back!\nAll are welcome to join us for a cozy meet up with coffee\, treats\, and connection. \nThis is a community-led space. Come as you are\, and share as much or as little as you would like! \nHave a topic\, skill\, or interest you want to share with others? Contact Kristen at: kwiltshire@ninecircles.ca or 204-940-6043
URL:https://ninecircles.ca/event/coffee-talks/2027-06-23/
LOCATION:Nine Circles Community Centre\, 705 Broadway Winnipeg\, Winnipeg\, Manitoba\, R3G 0X2\, Canada
CATEGORIES:Community / Public Events
END:VEVENT
BEGIN:VEVENT
DTSTART;TZID=America/Winnipeg:20270630T100000
DTEND;TZID=America/Winnipeg:20270630T120000
DTSTAMP:20260423T005143
CREATED:20260305T144328Z
LAST-MODIFIED:20260327T133248Z
UID:10007990-1814349600-1814356800@ninecircles.ca
SUMMARY:Coffee Talks
DESCRIPTION:It’s Back!\nAll are welcome to join us for a cozy meet up with coffee\, treats\, and connection. \nThis is a community-led space. Come as you are\, and share as much or as little as you would like! \nHave a topic\, skill\, or interest you want to share with others? Contact Kristen at: kwiltshire@ninecircles.ca or 204-940-6043
URL:https://ninecircles.ca/event/coffee-talks/2027-06-30/
LOCATION:Nine Circles Community Centre\, 705 Broadway Winnipeg\, Winnipeg\, Manitoba\, R3G 0X2\, Canada
CATEGORIES:Community / Public Events
END:VEVENT
BEGIN:VEVENT
DTSTART;TZID=America/Winnipeg:20270702T130000
DTEND;TZID=America/Winnipeg:20270702T160000
DTSTAMP:20260423T005143
CREATED:20260305T144144Z
LAST-MODIFIED:20260327T145136Z
UID:10007878-1814533200-1814544000@ninecircles.ca
SUMMARY:Movies & Munchies
DESCRIPTION:Dive into arts and culture through film every first Friday of the month!\nAll are welcome to join us for snacks\, movies\, and great company.
URL:https://ninecircles.ca/event/movies-munchies/2027-07-02/
LOCATION:Nine Circles Community Centre\, 705 Broadway Winnipeg\, Winnipeg\, Manitoba\, R3G 0X2\, Canada
CATEGORIES:Community / Public Events
END:VEVENT
BEGIN:VEVENT
DTSTART;TZID=America/Winnipeg:20270706T140000
DTEND;TZID=America/Winnipeg:20270706T153000
DTSTAMP:20260423T005143
CREATED:20250623T201013Z
LAST-MODIFIED:20250623T201134Z
UID:10005231-1814882400-1814887800@ninecircles.ca
SUMMARY:Social Circle Drop-In
DESCRIPTION:Drop-in\, Hang Out\, Make Friends!\nNine Circles is proud to announce that it will resume drop-in programming with “Social Circle\,” happening on the first Tuesday of every month! Drop-in\, hang out\, make friends! Light refreshments provided. No registration needed\, just come between 2:00 p.m. – 3:30 p.m. to 705 Broadway and join us in the Gathering Place! \n 
URL:https://ninecircles.ca/event/social-circle-drop-in-2-2/2027-07-06/
LOCATION:Nine Circles Community Centre\, 705 Broadway Winnipeg\, Winnipeg\, Manitoba\, R3G 0X2\, Canada
CATEGORIES:Announcements,Community / Public Events
ATTACH;FMTTYPE=image/png:https://ninecircles.ca/wp-content/uploads/2023/11/Social-Circle-Drop-In.png
END:VEVENT
BEGIN:VEVENT
DTSTART;TZID=America/Winnipeg:20270707T100000
DTEND;TZID=America/Winnipeg:20270707T120000
DTSTAMP:20260423T005143
CREATED:20260305T144328Z
LAST-MODIFIED:20260327T133248Z
UID:10007991-1814954400-1814961600@ninecircles.ca
SUMMARY:Coffee Talks
DESCRIPTION:It’s Back!\nAll are welcome to join us for a cozy meet up with coffee\, treats\, and connection. \nThis is a community-led space. Come as you are\, and share as much or as little as you would like! \nHave a topic\, skill\, or interest you want to share with others? Contact Kristen at: kwiltshire@ninecircles.ca or 204-940-6043
URL:https://ninecircles.ca/event/coffee-talks/2027-07-07/
LOCATION:Nine Circles Community Centre\, 705 Broadway Winnipeg\, Winnipeg\, Manitoba\, R3G 0X2\, Canada
CATEGORIES:Community / Public Events
END:VEVENT
BEGIN:VEVENT
DTSTART;TZID=America/Winnipeg:20270714T100000
DTEND;TZID=America/Winnipeg:20270714T120000
DTSTAMP:20260423T005143
CREATED:20260305T144328Z
LAST-MODIFIED:20260327T133248Z
UID:10007992-1815559200-1815566400@ninecircles.ca
SUMMARY:Coffee Talks
DESCRIPTION:It’s Back!\nAll are welcome to join us for a cozy meet up with coffee\, treats\, and connection. \nThis is a community-led space. Come as you are\, and share as much or as little as you would like! \nHave a topic\, skill\, or interest you want to share with others? Contact Kristen at: kwiltshire@ninecircles.ca or 204-940-6043
URL:https://ninecircles.ca/event/coffee-talks/2027-07-14/
LOCATION:Nine Circles Community Centre\, 705 Broadway Winnipeg\, Winnipeg\, Manitoba\, R3G 0X2\, Canada
CATEGORIES:Community / Public Events
END:VEVENT
BEGIN:VEVENT
DTSTART;TZID=America/Winnipeg:20270720T140000
DTEND;TZID=America/Winnipeg:20270720T153000
DTSTAMP:20260423T005143
CREATED:20251211T192815Z
LAST-MODIFIED:20251211T192815Z
UID:10007738-1816092000-1816097400@ninecircles.ca
SUMMARY:Sharing Point Group
DESCRIPTION:Have something you want to get off your chest? Join us the third Tuesday of the month from 2:00 – 3:30 p.m. for Sharing Point. \nOpen to women and gender diverse folks that want a safe and casual space for connection\, sharing experiences\, and receive encouragement and support related to life struggles or circumstances.
URL:https://ninecircles.ca/event/sharing-point-group/2027-07-20/
LOCATION:Nine Circles Community Centre\, 705 Broadway Winnipeg\, Winnipeg\, Manitoba\, R3G 0X2\, Canada
CATEGORIES:Community / Public Events
END:VEVENT
BEGIN:VEVENT
DTSTART;TZID=America/Winnipeg:20270721T100000
DTEND;TZID=America/Winnipeg:20270721T120000
DTSTAMP:20260423T005143
CREATED:20260305T144328Z
LAST-MODIFIED:20260327T133248Z
UID:10007993-1816164000-1816171200@ninecircles.ca
SUMMARY:Coffee Talks
DESCRIPTION:It’s Back!\nAll are welcome to join us for a cozy meet up with coffee\, treats\, and connection. \nThis is a community-led space. Come as you are\, and share as much or as little as you would like! \nHave a topic\, skill\, or interest you want to share with others? Contact Kristen at: kwiltshire@ninecircles.ca or 204-940-6043
URL:https://ninecircles.ca/event/coffee-talks/2027-07-21/
LOCATION:Nine Circles Community Centre\, 705 Broadway Winnipeg\, Winnipeg\, Manitoba\, R3G 0X2\, Canada
CATEGORIES:Community / Public Events
END:VEVENT
BEGIN:VEVENT
DTSTART;TZID=America/Winnipeg:20270728T100000
DTEND;TZID=America/Winnipeg:20270728T120000
DTSTAMP:20260423T005143
CREATED:20260305T144328Z
LAST-MODIFIED:20260327T133248Z
UID:10007994-1816768800-1816776000@ninecircles.ca
SUMMARY:Coffee Talks
DESCRIPTION:It’s Back!\nAll are welcome to join us for a cozy meet up with coffee\, treats\, and connection. \nThis is a community-led space. Come as you are\, and share as much or as little as you would like! \nHave a topic\, skill\, or interest you want to share with others? Contact Kristen at: kwiltshire@ninecircles.ca or 204-940-6043
URL:https://ninecircles.ca/event/coffee-talks/2027-07-28/
LOCATION:Nine Circles Community Centre\, 705 Broadway Winnipeg\, Winnipeg\, Manitoba\, R3G 0X2\, Canada
CATEGORIES:Community / Public Events
END:VEVENT
BEGIN:VEVENT
DTSTART;TZID=America/Winnipeg:20270803T140000
DTEND;TZID=America/Winnipeg:20270803T153000
DTSTAMP:20260423T005143
CREATED:20250623T201013Z
LAST-MODIFIED:20250623T201134Z
UID:10005232-1817301600-1817307000@ninecircles.ca
SUMMARY:Social Circle Drop-In
DESCRIPTION:Drop-in\, Hang Out\, Make Friends!\nNine Circles is proud to announce that it will resume drop-in programming with “Social Circle\,” happening on the first Tuesday of every month! Drop-in\, hang out\, make friends! Light refreshments provided. No registration needed\, just come between 2:00 p.m. – 3:30 p.m. to 705 Broadway and join us in the Gathering Place! \n 
URL:https://ninecircles.ca/event/social-circle-drop-in-2-2/2027-08-03/
LOCATION:Nine Circles Community Centre\, 705 Broadway Winnipeg\, Winnipeg\, Manitoba\, R3G 0X2\, Canada
CATEGORIES:Announcements,Community / Public Events
ATTACH;FMTTYPE=image/png:https://ninecircles.ca/wp-content/uploads/2023/11/Social-Circle-Drop-In.png
END:VEVENT
END:VCALENDAR