BEGIN:VCALENDAR
VERSION:2.0
PRODID:-//Nine Circles Community Health Centre - ECPv6.15.18//NONSGML v1.0//EN
CALSCALE:GREGORIAN
METHOD:PUBLISH
X-ORIGINAL-URL:https://ninecircles.ca
X-WR-CALDESC:Events for Nine Circles Community Health Centre
REFRESH-INTERVAL;VALUE=DURATION:PT1H
X-Robots-Tag:noindex
X-PUBLISHED-TTL:PT1H
BEGIN:VTIMEZONE
TZID:America/Winnipeg
BEGIN:DAYLIGHT
TZOFFSETFROM:-0600
TZOFFSETTO:-0500
TZNAME:CDT
DTSTART:20230312T080000
END:DAYLIGHT
BEGIN:STANDARD
TZOFFSETFROM:-0500
TZOFFSETTO:-0600
TZNAME:CST
DTSTART:20231105T070000
END:STANDARD
BEGIN:DAYLIGHT
TZOFFSETFROM:-0600
TZOFFSETTO:-0500
TZNAME:CDT
DTSTART:20240310T080000
END:DAYLIGHT
BEGIN:STANDARD
TZOFFSETFROM:-0500
TZOFFSETTO:-0600
TZNAME:CST
DTSTART:20241103T070000
END:STANDARD
BEGIN:DAYLIGHT
TZOFFSETFROM:-0600
TZOFFSETTO:-0500
TZNAME:CDT
DTSTART:20250309T080000
END:DAYLIGHT
BEGIN:STANDARD
TZOFFSETFROM:-0500
TZOFFSETTO:-0600
TZNAME:CST
DTSTART:20251102T070000
END:STANDARD
END:VTIMEZONE
BEGIN:VEVENT
DTSTART;TZID=America/Winnipeg:20241106T130000
DTEND;TZID=America/Winnipeg:20241106T160000
DTSTAMP:20260420T094136
CREATED:20241030T191406Z
LAST-MODIFIED:20250121T202941Z
UID:10006639-1730898000-1730908800@ninecircles.ca
SUMMARY:Ribbon Skirt/Shirt Making (By Registration Only)
DESCRIPTION:Led by Cultural Support Worker Kayleen Kaduchuk\nEvery Wednesday from 1:00 p.m. – 4:00 p.m. in our Gathering Place \nSpots are limited\, register by: Drop-in\, call (204) 940-6000\, or e-mail kkaduchuk@ninecircles.ca
URL:https://ninecircles.ca/event/ribbon-skirt-shirt-making-by-registration-only/2024-11-06/
LOCATION:Nine Circles Community Centre\, 705 Broadway Winnipeg\, Winnipeg\, Manitoba\, R3G 0X2\, Canada
CATEGORIES:Community / Public Events,Registered Event
END:VEVENT
BEGIN:VEVENT
DTSTART;TZID=America/Winnipeg:20241113T130000
DTEND;TZID=America/Winnipeg:20241113T160000
DTSTAMP:20260420T094136
CREATED:20241030T191406Z
LAST-MODIFIED:20250121T202941Z
UID:10006640-1731502800-1731513600@ninecircles.ca
SUMMARY:Ribbon Skirt/Shirt Making (By Registration Only)
DESCRIPTION:Led by Cultural Support Worker Kayleen Kaduchuk\nEvery Wednesday from 1:00 p.m. – 4:00 p.m. in our Gathering Place \nSpots are limited\, register by: Drop-in\, call (204) 940-6000\, or e-mail kkaduchuk@ninecircles.ca
URL:https://ninecircles.ca/event/ribbon-skirt-shirt-making-by-registration-only/2024-11-13/
LOCATION:Nine Circles Community Centre\, 705 Broadway Winnipeg\, Winnipeg\, Manitoba\, R3G 0X2\, Canada
CATEGORIES:Community / Public Events,Registered Event
END:VEVENT
BEGIN:VEVENT
DTSTART;TZID=America/Winnipeg:20241118T140000
DTEND;TZID=America/Winnipeg:20241118T153000
DTSTAMP:20260420T094136
CREATED:20241104T204906Z
LAST-MODIFIED:20241104T204906Z
UID:10006700-1731938400-1731943800@ninecircles.ca
SUMMARY:Standing Strong: A Positive Sex Life
DESCRIPTION:For people living with HIV (and their supportive HIV negative family or friends) who want to better understand HIV transmission and prevention\, dispel some common myths and get current HIV information. \n• HIV prevention in and out of the bedroom\n• What does U=U mean?\n• Safer sex tools like viral load\, PrEP\,\nPEP\, condoms\, lube…\n• Starting or raising a family in the context of HIV \nBy registration only\, for information contact: Health Educators at 204-940-6056 / 204-950-6090
URL:https://ninecircles.ca/event/standing-strong-a-positive-sex-life-2/
LOCATION:Nine Circles Community Centre\, 705 Broadway Winnipeg\, Winnipeg\, Manitoba\, R3G 0X2\, Canada
CATEGORIES:People living with HIV only,Registered Event
ATTACH;FMTTYPE=image/jpeg:https://ninecircles.ca/wp-content/uploads/2019/10/standing-strong-logo-blue.jpg
END:VEVENT
BEGIN:VEVENT
DTSTART;TZID=America/Winnipeg:20241120T130000
DTEND;TZID=America/Winnipeg:20241120T160000
DTSTAMP:20260420T094136
CREATED:20241030T191406Z
LAST-MODIFIED:20250121T202941Z
UID:10006641-1732107600-1732118400@ninecircles.ca
SUMMARY:Ribbon Skirt/Shirt Making (By Registration Only)
DESCRIPTION:Led by Cultural Support Worker Kayleen Kaduchuk\nEvery Wednesday from 1:00 p.m. – 4:00 p.m. in our Gathering Place \nSpots are limited\, register by: Drop-in\, call (204) 940-6000\, or e-mail kkaduchuk@ninecircles.ca
URL:https://ninecircles.ca/event/ribbon-skirt-shirt-making-by-registration-only/2024-11-20/
LOCATION:Nine Circles Community Centre\, 705 Broadway Winnipeg\, Winnipeg\, Manitoba\, R3G 0X2\, Canada
CATEGORIES:Community / Public Events,Registered Event
END:VEVENT
BEGIN:VEVENT
DTSTART;TZID=America/Winnipeg:20241127T130000
DTEND;TZID=America/Winnipeg:20241127T160000
DTSTAMP:20260420T094136
CREATED:20241030T191406Z
LAST-MODIFIED:20250121T202941Z
UID:10006642-1732712400-1732723200@ninecircles.ca
SUMMARY:Ribbon Skirt/Shirt Making (By Registration Only)
DESCRIPTION:Led by Cultural Support Worker Kayleen Kaduchuk\nEvery Wednesday from 1:00 p.m. – 4:00 p.m. in our Gathering Place \nSpots are limited\, register by: Drop-in\, call (204) 940-6000\, or e-mail kkaduchuk@ninecircles.ca
URL:https://ninecircles.ca/event/ribbon-skirt-shirt-making-by-registration-only/2024-11-27/
LOCATION:Nine Circles Community Centre\, 705 Broadway Winnipeg\, Winnipeg\, Manitoba\, R3G 0X2\, Canada
CATEGORIES:Community / Public Events,Registered Event
END:VEVENT
BEGIN:VEVENT
DTSTART;TZID=America/Winnipeg:20241127T150000
DTEND;TZID=America/Winnipeg:20241127T160000
DTSTAMP:20260420T094136
CREATED:20241104T205228Z
LAST-MODIFIED:20241104T205228Z
UID:10006701-1732719600-1732723200@ninecircles.ca
SUMMARY:Harm Reduction Peer Advisory (HRPA) Meeting
DESCRIPTION:Nine Circles Community Health Centre values and aims to involve people who use drugs in our programming.\nJoin the Nine Circles Harm Reduction Peer Advisory Group!\n\nGive ideas and viewpoints to Nine Circles about how we can we can improve our services.\nAttend meetings\, assist with client surveys and co facilitate workshops and education sessions.\n\nBy registration only\, for information contact: Health Educators at 204-940-6056 / 204-950-6090
URL:https://ninecircles.ca/event/harm-reduction-peer-advisory-hrpa-meeting/
LOCATION:Nine Circles Community Centre\, 705 Broadway Winnipeg\, Winnipeg\, Manitoba\, R3G 0X2\, Canada
CATEGORIES:Registered Event
ATTACH;FMTTYPE=image/png:https://ninecircles.ca/wp-content/uploads/2022/06/pitstop-2022.png
END:VEVENT
END:VCALENDAR