BEGIN:VCALENDAR
VERSION:2.0
PRODID:-//Nine Circles Community Health Centre - ECPv6.15.18//NONSGML v1.0//EN
CALSCALE:GREGORIAN
METHOD:PUBLISH
X-ORIGINAL-URL:https://ninecircles.ca
X-WR-CALDESC:Events for Nine Circles Community Health Centre
REFRESH-INTERVAL;VALUE=DURATION:PT1H
X-Robots-Tag:noindex
X-PUBLISHED-TTL:PT1H
BEGIN:VTIMEZONE
TZID:America/Winnipeg
BEGIN:DAYLIGHT
TZOFFSETFROM:-0600
TZOFFSETTO:-0500
TZNAME:CDT
DTSTART:20160313T080000
END:DAYLIGHT
BEGIN:STANDARD
TZOFFSETFROM:-0500
TZOFFSETTO:-0600
TZNAME:CST
DTSTART:20161106T070000
END:STANDARD
BEGIN:DAYLIGHT
TZOFFSETFROM:-0600
TZOFFSETTO:-0500
TZNAME:CDT
DTSTART:20170312T080000
END:DAYLIGHT
BEGIN:STANDARD
TZOFFSETFROM:-0500
TZOFFSETTO:-0600
TZNAME:CST
DTSTART:20171105T070000
END:STANDARD
BEGIN:DAYLIGHT
TZOFFSETFROM:-0600
TZOFFSETTO:-0500
TZNAME:CDT
DTSTART:20180311T080000
END:DAYLIGHT
BEGIN:STANDARD
TZOFFSETFROM:-0500
TZOFFSETTO:-0600
TZNAME:CST
DTSTART:20181104T070000
END:STANDARD
BEGIN:DAYLIGHT
TZOFFSETFROM:-0600
TZOFFSETTO:-0500
TZNAME:CDT
DTSTART:20190310T080000
END:DAYLIGHT
BEGIN:STANDARD
TZOFFSETFROM:-0500
TZOFFSETTO:-0600
TZNAME:CST
DTSTART:20191103T070000
END:STANDARD
END:VTIMEZONE
BEGIN:VEVENT
DTSTART;TZID=America/Winnipeg:20171018T183000
DTEND;TZID=America/Winnipeg:20171018T193000
DTSTAMP:20260425T210550
CREATED:20170406T203449Z
LAST-MODIFIED:20200316T211103Z
UID:10001455-1508351400-1508355000@ninecircles.ca
SUMMARY:Coffee Talk - All Welcome
DESCRIPTION:Has HIV/AIDS affected your life? This drop-in conversation group is a safe space where you can talk about the changes\, challenges\, inspirations\, and supports in your life as you move forward. The third Wednesday of the month is a group for everyone\, all welcome!\nContact Sandra or Rosa for more information\, 204-940-6000
URL:https://ninecircles.ca/event/coffee-talk-welcome/2017-10-18/
LOCATION:Manitoba
CATEGORIES:People living with HIV only
END:VEVENT
BEGIN:VEVENT
DTSTART;TZID=America/Winnipeg:20171019T120000
DTEND;TZID=America/Winnipeg:20171019T130000
DTSTAMP:20260425T210550
CREATED:20161212T214527Z
LAST-MODIFIED:20171002T162823Z
UID:10001075-1508414400-1508418000@ninecircles.ca
SUMMARY:Food Bank   A-K Members
DESCRIPTION:Food Bank is available for members only.  Please phone 204-940-6000 and ask to speak with Tania for assistance.
URL:https://ninecircles.ca/event/food-bank-k-members/2017-10-19/
LOCATION:Manitoba
CATEGORIES:People living with HIV only
END:VEVENT
BEGIN:VEVENT
DTSTART;TZID=America/Winnipeg:20171025T183000
DTEND;TZID=America/Winnipeg:20171025T193000
DTSTAMP:20260425T210550
CREATED:20170406T204415Z
LAST-MODIFIED:20171002T165057Z
UID:10001525-1508956200-1508959800@ninecircles.ca
SUMMARY:Coffee Talk - HIV +1
DESCRIPTION:Has HIV/AIDS affected your life? This drop-in conversation group is a safe space where you can talk about the changes\, challenges\, inspirations\, and supports in your life as you move forward. The fourth Wednesday of the month is a week for HIV positive people and a plus one!  Your plus one could be anyone in your life that supports you\, like a partner\, a family member\, a friend or a caregiver.\nContact Sandra or Rosa for more information\, 204-940-6000
URL:https://ninecircles.ca/event/coffee-talk-hiv-1/2017-10-25/
LOCATION:Manitoba
CATEGORIES:People living with HIV only
END:VEVENT
BEGIN:VEVENT
DTSTART;TZID=America/Winnipeg:20171026T120000
DTEND;TZID=America/Winnipeg:20171026T130000
DTSTAMP:20260425T210550
CREATED:20161212T214203Z
LAST-MODIFIED:20171002T162926Z
UID:10001033-1509019200-1509022800@ninecircles.ca
SUMMARY:Food Bank   L-Z Members
DESCRIPTION:Food Bank is available for members only.  Please phone 204-940-6000 and ask to speak with Tania for assistance.
URL:https://ninecircles.ca/event/food-bank-l-z-members/2017-10-26/
LOCATION:Manitoba
CATEGORIES:People living with HIV only
END:VEVENT
BEGIN:VEVENT
DTSTART;TZID=America/Winnipeg:20171101T183000
DTEND;TZID=America/Winnipeg:20171101T193000
DTSTAMP:20260425T210550
CREATED:20170406T202411Z
LAST-MODIFIED:20190703T212055Z
UID:10001405-1509561000-1509564600@ninecircles.ca
SUMMARY:Coffee Talk - Men's Group
DESCRIPTION:Has HIV/AIDS affected your life?  This drop-in conversation group is a safe space where you can talk about the changes\, challenges\, inspirations\, and supports in your life as you move forward.  The first Wednesday of the month is Men’s only group.\nContact Sandra or Rosa for more information\, 204-940-6000
URL:https://ninecircles.ca/event/coffee-talk-msm/2017-11-01/
LOCATION:Manitoba
CATEGORIES:People living with HIV only
END:VEVENT
BEGIN:VEVENT
DTSTART;TZID=America/Winnipeg:20171102T120000
DTEND;TZID=America/Winnipeg:20171102T130000
DTSTAMP:20260425T210550
CREATED:20161212T214527Z
LAST-MODIFIED:20171002T162823Z
UID:10001076-1509624000-1509627600@ninecircles.ca
SUMMARY:Food Bank   A-K Members
DESCRIPTION:Food Bank is available for members only.  Please phone 204-940-6000 and ask to speak with Tania for assistance.
URL:https://ninecircles.ca/event/food-bank-k-members/2017-11-02/
LOCATION:Manitoba
CATEGORIES:People living with HIV only
END:VEVENT
BEGIN:VEVENT
DTSTART;TZID=America/Winnipeg:20171108T183000
DTEND;TZID=America/Winnipeg:20171108T193000
DTSTAMP:20260425T210550
CREATED:20230206T210451Z
LAST-MODIFIED:20230206T210451Z
UID:10001490-1510165800-1510169400@ninecircles.ca
SUMMARY:Coffee Talk - All Welcome
DESCRIPTION:Has HIV/AIDS affected your life? This drop-in conversation group is a safe space where you can talk about the changes\, challenges\, inspirations\, and supports in your life as you move forward. The third Wednesday of the month is a group for everyone\, all welcome!\nContact Sandra or Rosa for more information\, 204-940-6000
URL:https://ninecircles.ca/event/coffee-talk-welcome/2017-11-08/
LOCATION:Manitoba
CATEGORIES:People living with HIV only
END:VEVENT
BEGIN:VEVENT
DTSTART;TZID=America/Winnipeg:20171108T183000
DTEND;TZID=America/Winnipeg:20171108T193000
DTSTAMP:20260425T210550
CREATED:20170406T203156Z
LAST-MODIFIED:20180816T214257Z
UID:10001439-1510165800-1510169400@ninecircles.ca
SUMMARY:Coffee Talk - Women's Group
DESCRIPTION:Has HIV/AIDS affected your life? This drop-in conversation group is a safe space where you can talk about the changes\, challenges\, inspirations\, and supports in your life as you move forward. The second Wednesday of the month is a Women’s only group.\nContact Sandra or Rosa for more information\, 204-940-6000
URL:https://ninecircles.ca/event/coffee-talk-women/2017-11-08/
LOCATION:Manitoba
CATEGORIES:People living with HIV only
END:VEVENT
BEGIN:VEVENT
DTSTART;TZID=America/Winnipeg:20171109T120000
DTEND;TZID=America/Winnipeg:20171109T130000
DTSTAMP:20260425T210550
CREATED:20161212T214203Z
LAST-MODIFIED:20171002T162926Z
UID:10001034-1510228800-1510232400@ninecircles.ca
SUMMARY:Food Bank   L-Z Members
DESCRIPTION:Food Bank is available for members only.  Please phone 204-940-6000 and ask to speak with Tania for assistance.
URL:https://ninecircles.ca/event/food-bank-l-z-members/2017-11-09/
LOCATION:Manitoba
CATEGORIES:People living with HIV only
END:VEVENT
BEGIN:VEVENT
DTSTART;TZID=America/Winnipeg:20171115T183000
DTEND;TZID=America/Winnipeg:20171115T193000
DTSTAMP:20260425T210550
CREATED:20170406T203449Z
LAST-MODIFIED:20200316T211103Z
UID:10001456-1510770600-1510774200@ninecircles.ca
SUMMARY:Coffee Talk - All Welcome
DESCRIPTION:Has HIV/AIDS affected your life? This drop-in conversation group is a safe space where you can talk about the changes\, challenges\, inspirations\, and supports in your life as you move forward. The third Wednesday of the month is a group for everyone\, all welcome!\nContact Sandra or Rosa for more information\, 204-940-6000
URL:https://ninecircles.ca/event/coffee-talk-welcome/2017-11-15/
LOCATION:Manitoba
CATEGORIES:People living with HIV only
END:VEVENT
BEGIN:VEVENT
DTSTART;TZID=America/Winnipeg:20171116T120000
DTEND;TZID=America/Winnipeg:20171116T130000
DTSTAMP:20260425T210550
CREATED:20161212T214527Z
LAST-MODIFIED:20171002T162823Z
UID:10001077-1510833600-1510837200@ninecircles.ca
SUMMARY:Food Bank   A-K Members
DESCRIPTION:Food Bank is available for members only.  Please phone 204-940-6000 and ask to speak with Tania for assistance.
URL:https://ninecircles.ca/event/food-bank-k-members/2017-11-16/
LOCATION:Manitoba
CATEGORIES:People living with HIV only
END:VEVENT
BEGIN:VEVENT
DTSTART;TZID=America/Winnipeg:20171122T183000
DTEND;TZID=America/Winnipeg:20171122T193000
DTSTAMP:20260425T210550
CREATED:20170406T204415Z
LAST-MODIFIED:20171002T165057Z
UID:10001526-1511375400-1511379000@ninecircles.ca
SUMMARY:Coffee Talk - HIV +1
DESCRIPTION:Has HIV/AIDS affected your life? This drop-in conversation group is a safe space where you can talk about the changes\, challenges\, inspirations\, and supports in your life as you move forward. The fourth Wednesday of the month is a week for HIV positive people and a plus one!  Your plus one could be anyone in your life that supports you\, like a partner\, a family member\, a friend or a caregiver.\nContact Sandra or Rosa for more information\, 204-940-6000
URL:https://ninecircles.ca/event/coffee-talk-hiv-1/2017-11-22/
LOCATION:Manitoba
CATEGORIES:People living with HIV only
END:VEVENT
BEGIN:VEVENT
DTSTART;TZID=America/Winnipeg:20171123T120000
DTEND;TZID=America/Winnipeg:20171123T130000
DTSTAMP:20260425T210550
CREATED:20161212T214203Z
LAST-MODIFIED:20171002T162926Z
UID:10001035-1511438400-1511442000@ninecircles.ca
SUMMARY:Food Bank   L-Z Members
DESCRIPTION:Food Bank is available for members only.  Please phone 204-940-6000 and ask to speak with Tania for assistance.
URL:https://ninecircles.ca/event/food-bank-l-z-members/2017-11-23/
LOCATION:Manitoba
CATEGORIES:People living with HIV only
END:VEVENT
BEGIN:VEVENT
DTSTART;TZID=America/Winnipeg:20171130T120000
DTEND;TZID=America/Winnipeg:20171130T130000
DTSTAMP:20260425T210550
CREATED:20161212T214527Z
LAST-MODIFIED:20171002T162823Z
UID:10001078-1512043200-1512046800@ninecircles.ca
SUMMARY:Food Bank   A-K Members
DESCRIPTION:Food Bank is available for members only.  Please phone 204-940-6000 and ask to speak with Tania for assistance.
URL:https://ninecircles.ca/event/food-bank-k-members/2017-11-30/
LOCATION:Manitoba
CATEGORIES:People living with HIV only
END:VEVENT
BEGIN:VEVENT
DTSTART;TZID=America/Winnipeg:20171206T183000
DTEND;TZID=America/Winnipeg:20171206T193000
DTSTAMP:20260425T210550
CREATED:20170406T202411Z
LAST-MODIFIED:20190703T212055Z
UID:10001406-1512585000-1512588600@ninecircles.ca
SUMMARY:Coffee Talk - Men's Group
DESCRIPTION:Has HIV/AIDS affected your life?  This drop-in conversation group is a safe space where you can talk about the changes\, challenges\, inspirations\, and supports in your life as you move forward.  The first Wednesday of the month is Men’s only group.\nContact Sandra or Rosa for more information\, 204-940-6000
URL:https://ninecircles.ca/event/coffee-talk-msm/2017-12-06/
LOCATION:Manitoba
CATEGORIES:People living with HIV only
END:VEVENT
BEGIN:VEVENT
DTSTART;TZID=America/Winnipeg:20171207T120000
DTEND;TZID=America/Winnipeg:20171207T130000
DTSTAMP:20260425T210550
CREATED:20161212T214203Z
LAST-MODIFIED:20171002T162926Z
UID:10001036-1512648000-1512651600@ninecircles.ca
SUMMARY:Food Bank   L-Z Members
DESCRIPTION:Food Bank is available for members only.  Please phone 204-940-6000 and ask to speak with Tania for assistance.
URL:https://ninecircles.ca/event/food-bank-l-z-members/2017-12-07/
LOCATION:Manitoba
CATEGORIES:People living with HIV only
END:VEVENT
BEGIN:VEVENT
DTSTART;TZID=America/Winnipeg:20171213T183000
DTEND;TZID=America/Winnipeg:20171213T193000
DTSTAMP:20260425T210550
CREATED:20230206T210451Z
LAST-MODIFIED:20230206T210451Z
UID:10001491-1513189800-1513193400@ninecircles.ca
SUMMARY:Coffee Talk - All Welcome
DESCRIPTION:Has HIV/AIDS affected your life? This drop-in conversation group is a safe space where you can talk about the changes\, challenges\, inspirations\, and supports in your life as you move forward. The third Wednesday of the month is a group for everyone\, all welcome!\nContact Sandra or Rosa for more information\, 204-940-6000
URL:https://ninecircles.ca/event/coffee-talk-welcome/2017-12-13/
LOCATION:Manitoba
CATEGORIES:People living with HIV only
END:VEVENT
BEGIN:VEVENT
DTSTART;TZID=America/Winnipeg:20171213T183000
DTEND;TZID=America/Winnipeg:20171213T193000
DTSTAMP:20260425T210550
CREATED:20170406T203156Z
LAST-MODIFIED:20180816T214257Z
UID:10001440-1513189800-1513193400@ninecircles.ca
SUMMARY:Coffee Talk - Women's Group
DESCRIPTION:Has HIV/AIDS affected your life? This drop-in conversation group is a safe space where you can talk about the changes\, challenges\, inspirations\, and supports in your life as you move forward. The second Wednesday of the month is a Women’s only group.\nContact Sandra or Rosa for more information\, 204-940-6000
URL:https://ninecircles.ca/event/coffee-talk-women/2017-12-13/
LOCATION:Manitoba
CATEGORIES:People living with HIV only
END:VEVENT
BEGIN:VEVENT
DTSTART;TZID=America/Winnipeg:20171214T120000
DTEND;TZID=America/Winnipeg:20171214T130000
DTSTAMP:20260425T210550
CREATED:20161212T214527Z
LAST-MODIFIED:20171002T162823Z
UID:10001079-1513252800-1513256400@ninecircles.ca
SUMMARY:Food Bank   A-K Members
DESCRIPTION:Food Bank is available for members only.  Please phone 204-940-6000 and ask to speak with Tania for assistance.
URL:https://ninecircles.ca/event/food-bank-k-members/2017-12-14/
LOCATION:Manitoba
CATEGORIES:People living with HIV only
END:VEVENT
BEGIN:VEVENT
DTSTART;TZID=America/Winnipeg:20171220T183000
DTEND;TZID=America/Winnipeg:20171220T193000
DTSTAMP:20260425T210550
CREATED:20170406T203449Z
LAST-MODIFIED:20200316T211103Z
UID:10001457-1513794600-1513798200@ninecircles.ca
SUMMARY:Coffee Talk - All Welcome
DESCRIPTION:Has HIV/AIDS affected your life? This drop-in conversation group is a safe space where you can talk about the changes\, challenges\, inspirations\, and supports in your life as you move forward. The third Wednesday of the month is a group for everyone\, all welcome!\nContact Sandra or Rosa for more information\, 204-940-6000
URL:https://ninecircles.ca/event/coffee-talk-welcome/2017-12-20/
LOCATION:Manitoba
CATEGORIES:People living with HIV only
END:VEVENT
BEGIN:VEVENT
DTSTART;TZID=America/Winnipeg:20171221T120000
DTEND;TZID=America/Winnipeg:20171221T130000
DTSTAMP:20260425T210550
CREATED:20161212T214203Z
LAST-MODIFIED:20171002T162926Z
UID:10001037-1513857600-1513861200@ninecircles.ca
SUMMARY:Food Bank   L-Z Members
DESCRIPTION:Food Bank is available for members only.  Please phone 204-940-6000 and ask to speak with Tania for assistance.
URL:https://ninecircles.ca/event/food-bank-l-z-members/2017-12-21/
LOCATION:Manitoba
CATEGORIES:People living with HIV only
END:VEVENT
BEGIN:VEVENT
DTSTART;TZID=America/Winnipeg:20171227T183000
DTEND;TZID=America/Winnipeg:20171227T193000
DTSTAMP:20260425T210550
CREATED:20170406T204415Z
LAST-MODIFIED:20171002T165057Z
UID:10001527-1514399400-1514403000@ninecircles.ca
SUMMARY:Coffee Talk - HIV +1
DESCRIPTION:Has HIV/AIDS affected your life? This drop-in conversation group is a safe space where you can talk about the changes\, challenges\, inspirations\, and supports in your life as you move forward. The fourth Wednesday of the month is a week for HIV positive people and a plus one!  Your plus one could be anyone in your life that supports you\, like a partner\, a family member\, a friend or a caregiver.\nContact Sandra or Rosa for more information\, 204-940-6000
URL:https://ninecircles.ca/event/coffee-talk-hiv-1/2017-12-27/
LOCATION:Manitoba
CATEGORIES:People living with HIV only
END:VEVENT
BEGIN:VEVENT
DTSTART;TZID=America/Winnipeg:20180103T183000
DTEND;TZID=America/Winnipeg:20180103T193000
DTSTAMP:20260425T210550
CREATED:20170406T202411Z
LAST-MODIFIED:20190703T212055Z
UID:10001407-1515004200-1515007800@ninecircles.ca
SUMMARY:Coffee Talk - Men's Group
DESCRIPTION:Has HIV/AIDS affected your life?  This drop-in conversation group is a safe space where you can talk about the changes\, challenges\, inspirations\, and supports in your life as you move forward.  The first Wednesday of the month is Men’s only group.\nContact Sandra or Rosa for more information\, 204-940-6000
URL:https://ninecircles.ca/event/coffee-talk-msm/2018-01-03/
LOCATION:Manitoba
CATEGORIES:People living with HIV only
END:VEVENT
BEGIN:VEVENT
DTSTART;TZID=America/Winnipeg:20180104T120000
DTEND;TZID=America/Winnipeg:20180104T130000
DTSTAMP:20260425T210550
CREATED:20161212T214527Z
LAST-MODIFIED:20180618T151112Z
UID:10001080-1515067200-1515070800@ninecircles.ca
SUMMARY:Food Bank   A-K Members
DESCRIPTION:Food Bank is available for members only.  Please phone 204-940-6000 and ask to speak with Tania for assistance.
URL:https://ninecircles.ca/event/food-bank-k-members-2017-06-29/2018-01-04/
LOCATION:Manitoba
CATEGORIES:People living with HIV only
END:VEVENT
BEGIN:VEVENT
DTSTART;TZID=America/Winnipeg:20180110T183000
DTEND;TZID=America/Winnipeg:20180110T193000
DTSTAMP:20260425T210550
CREATED:20230206T210451Z
LAST-MODIFIED:20230206T210451Z
UID:10001492-1515609000-1515612600@ninecircles.ca
SUMMARY:Coffee Talk - All Welcome
DESCRIPTION:Has HIV/AIDS affected your life? This drop-in conversation group is a safe space where you can talk about the changes\, challenges\, inspirations\, and supports in your life as you move forward. The third Wednesday of the month is a group for everyone\, all welcome!\nContact Sandra or Rosa for more information\, 204-940-6000
URL:https://ninecircles.ca/event/coffee-talk-welcome/2018-01-10/
LOCATION:Manitoba
CATEGORIES:People living with HIV only
END:VEVENT
BEGIN:VEVENT
DTSTART;TZID=America/Winnipeg:20180110T183000
DTEND;TZID=America/Winnipeg:20180110T193000
DTSTAMP:20260425T210550
CREATED:20170406T203156Z
LAST-MODIFIED:20180816T214257Z
UID:10001441-1515609000-1515612600@ninecircles.ca
SUMMARY:Coffee Talk - Women's Group
DESCRIPTION:Has HIV/AIDS affected your life? This drop-in conversation group is a safe space where you can talk about the changes\, challenges\, inspirations\, and supports in your life as you move forward. The second Wednesday of the month is a Women’s only group.\nContact Sandra or Rosa for more information\, 204-940-6000
URL:https://ninecircles.ca/event/coffee-talk-women/2018-01-10/
LOCATION:Manitoba
CATEGORIES:People living with HIV only
END:VEVENT
BEGIN:VEVENT
DTSTART;TZID=America/Winnipeg:20180111T120000
DTEND;TZID=America/Winnipeg:20180111T130000
DTSTAMP:20260425T210550
CREATED:20161212T214203Z
LAST-MODIFIED:20180720T212253Z
UID:10001038-1515672000-1515675600@ninecircles.ca
SUMMARY:Food Bank   L-Z Members
DESCRIPTION:Food Bank is available for members only.  Please phone 204-940-6000 and ask to speak with Tania for assistance.
URL:https://ninecircles.ca/event/food-bank-l-z-members-2017-06-08/2018-01-11/
LOCATION:Manitoba
CATEGORIES:People living with HIV only
END:VEVENT
BEGIN:VEVENT
DTSTART;TZID=America/Winnipeg:20180117T183000
DTEND;TZID=America/Winnipeg:20180117T193000
DTSTAMP:20260425T210550
CREATED:20170406T203449Z
LAST-MODIFIED:20200316T211103Z
UID:10001458-1516213800-1516217400@ninecircles.ca
SUMMARY:Coffee Talk - All Welcome
DESCRIPTION:Has HIV/AIDS affected your life? This drop-in conversation group is a safe space where you can talk about the changes\, challenges\, inspirations\, and supports in your life as you move forward. The third Wednesday of the month is a group for everyone\, all welcome!\nContact Sandra or Rosa for more information\, 204-940-6000
URL:https://ninecircles.ca/event/coffee-talk-welcome/2018-01-17/
LOCATION:Manitoba
CATEGORIES:People living with HIV only
END:VEVENT
BEGIN:VEVENT
DTSTART;TZID=America/Winnipeg:20180118T120000
DTEND;TZID=America/Winnipeg:20180118T130000
DTSTAMP:20260425T210550
CREATED:20161212T214527Z
LAST-MODIFIED:20180618T151112Z
UID:10001081-1516276800-1516280400@ninecircles.ca
SUMMARY:Food Bank   A-K Members
DESCRIPTION:Food Bank is available for members only.  Please phone 204-940-6000 and ask to speak with Tania for assistance.
URL:https://ninecircles.ca/event/food-bank-k-members-2017-06-29/2018-01-18/
LOCATION:Manitoba
CATEGORIES:People living with HIV only
END:VEVENT
BEGIN:VEVENT
DTSTART;TZID=America/Winnipeg:20180123T133000
DTEND;TZID=America/Winnipeg:20180123T160000
DTSTAMP:20260425T210550
CREATED:20180109T150749Z
LAST-MODIFIED:20180109T150749Z
UID:10001545-1516714200-1516723200@ninecircles.ca
SUMMARY:Positive Self-Management Program
DESCRIPTION:Join us for this 6 week program to help you take control of your health! \nTuesdays\, January 23 – February 27\n1:30-4:00pm \nTopics include:\n-Managing HIV medications (ART)\n-Disclosure\n-Dealing with fatigue and frustration\n-Monitoring symptoms\n-Starting an exercise program\n-Managing pain\n-Eating well to live well\n-Working with your doctor\n-Setting and meeting your health goals \nPeople living with HIV and their supports are welcome to attend!\nSign up with Shauna or Sri at 204-940-6000
URL:https://ninecircles.ca/event/positive-self-management-program/2018-01-23/
LOCATION:Manitoba
CATEGORIES:People living with HIV only
END:VEVENT
END:VCALENDAR