BEGIN:VCALENDAR
VERSION:2.0
PRODID:-//Nine Circles Community Health Centre - ECPv6.15.18//NONSGML v1.0//EN
CALSCALE:GREGORIAN
METHOD:PUBLISH
X-ORIGINAL-URL:https://ninecircles.ca
X-WR-CALDESC:Events for Nine Circles Community Health Centre
REFRESH-INTERVAL;VALUE=DURATION:PT1H
X-Robots-Tag:noindex
X-PUBLISHED-TTL:PT1H
BEGIN:VTIMEZONE
TZID:America/Winnipeg
BEGIN:DAYLIGHT
TZOFFSETFROM:-0600
TZOFFSETTO:-0500
TZNAME:CDT
DTSTART:20250309T080000
END:DAYLIGHT
BEGIN:STANDARD
TZOFFSETFROM:-0500
TZOFFSETTO:-0600
TZNAME:CST
DTSTART:20251102T070000
END:STANDARD
BEGIN:DAYLIGHT
TZOFFSETFROM:-0600
TZOFFSETTO:-0500
TZNAME:CDT
DTSTART:20260308T080000
END:DAYLIGHT
BEGIN:STANDARD
TZOFFSETFROM:-0500
TZOFFSETTO:-0600
TZNAME:CST
DTSTART:20261101T070000
END:STANDARD
BEGIN:DAYLIGHT
TZOFFSETFROM:-0600
TZOFFSETTO:-0500
TZNAME:CDT
DTSTART:20270314T080000
END:DAYLIGHT
BEGIN:STANDARD
TZOFFSETFROM:-0500
TZOFFSETTO:-0600
TZNAME:CST
DTSTART:20271107T070000
END:STANDARD
END:VTIMEZONE
BEGIN:VEVENT
DTSTART;TZID=America/Winnipeg:20260908T090000
DTEND;TZID=America/Winnipeg:20260908T120000
DTSTAMP:20260420T200007
CREATED:20260218T143503Z
LAST-MODIFIED:20260218T143635Z
UID:10005159-1788858000-1788868800@ninecircles.ca
SUMMARY:All Staff Meeting - Closed Until 12:00pm
DESCRIPTION:Nine Circles Community Health Staff meet every second Tuesday of the month for an all staff meeting\, this means that in-person appointments\, Pit Stop harm reduction services\, phone\, and e-mail services are closed to the public. \nIf you need assistance\, please call 204-940-6000 or visit us at 705 Broadway after 12:00pm. \nIf you need immediate assistance or this is an emergency\, please contact Health Links at 204-788-8200 or call 9-11. Have a question about sexually transmitted and blood-borne infections (STBBIs)? Visit our Q&A website https://sexfriendlymb.ca/
URL:https://ninecircles.ca/event/all-staff-meeting-closed-until-1200pm-3/2026-09-08/
LOCATION:Nine Circles Community Centre\, 705 Broadway Winnipeg\, Winnipeg\, Manitoba\, R3G 0X2\, Canada
CATEGORIES:Announcements,Closure Announcement
ORGANIZER;CN="Nine Circles Community Health":MAILTO:ninecircles@ninecircles.ca
END:VEVENT
BEGIN:VEVENT
DTSTART;TZID=America/Winnipeg:20260909T100000
DTEND;TZID=America/Winnipeg:20260909T120000
DTSTAMP:20260420T200007
CREATED:20260305T144328Z
LAST-MODIFIED:20260327T133248Z
UID:10007948-1788948000-1788955200@ninecircles.ca
SUMMARY:Coffee Talks
DESCRIPTION:It’s Back!\nAll are welcome to join us for a cozy meet up with coffee\, treats\, and connection. \nThis is a community-led space. Come as you are\, and share as much or as little as you would like! \nHave a topic\, skill\, or interest you want to share with others? Contact Kristen at: kwiltshire@ninecircles.ca or 204-940-6043
URL:https://ninecircles.ca/event/coffee-talks/2026-09-09/
LOCATION:Nine Circles Community Centre\, 705 Broadway Winnipeg\, Winnipeg\, Manitoba\, R3G 0X2\, Canada
CATEGORIES:Community / Public Events
END:VEVENT
BEGIN:VEVENT
DTSTART;TZID=America/Winnipeg:20260909T130000
DTEND;TZID=America/Winnipeg:20260909T140000
DTSTAMP:20260420T200007
CREATED:20251125T164421Z
LAST-MODIFIED:20260122T154627Z
UID:10007653-1788958800-1788962400@ninecircles.ca
SUMMARY:Pipe Ceremony
DESCRIPTION:Join us for a monthly Pipe Ceremony from 1-2pm every second Wednesday of the month!\nFor information about this or all other Indigenous Cultural Programming\, contact Kayleen Kaduchuk at (204) 940-6000 or e-mail KKaduchuk@ninecircles.ca
URL:https://ninecircles.ca/event/pipe-ceremony/2026-09-09/
LOCATION:Nine Circles Community Centre\, 705 Broadway Winnipeg\, Winnipeg\, Manitoba\, R3G 0X2\, Canada
CATEGORIES:Client Events
ATTACH;FMTTYPE=image/jpeg:https://ninecircles.ca/wp-content/uploads/2025/11/Monthly-Pipe-Ceremony-Poster-2026.jpg
END:VEVENT
BEGIN:VEVENT
DTSTART;TZID=America/Winnipeg:20260909T130000
DTEND;TZID=America/Winnipeg:20260909T153000
DTSTAMP:20260420T200007
CREATED:20251202T194607Z
LAST-MODIFIED:20260330T135633Z
UID:10007408-1788958800-1788967800@ninecircles.ca
SUMMARY:Sewing Class
DESCRIPTION:Learn to sew Wednesdays from 1:00 p.m. to 3:00 p.m. Bring in a project or learn the basics of sewing\, quilting\, sewing machines\, and appliques. All materials and instruction provided. All ages. Open to community members that access the Pit Stop or Nine Circles clinic clients.
URL:https://ninecircles.ca/event/sewing-class-2/2026-09-09/
LOCATION:Nine Circles Community Centre\, 705 Broadway Winnipeg\, Winnipeg\, Manitoba\, R3G 0X2\, Canada
CATEGORIES:Client Events
END:VEVENT
BEGIN:VEVENT
DTSTART;TZID=America/Winnipeg:20260910T130000
DTEND;TZID=America/Winnipeg:20260910T153000
DTSTAMP:20260420T200007
CREATED:20240924T140605Z
LAST-MODIFIED:20260330T135707Z
UID:10006467-1789045200-1789054200@ninecircles.ca
SUMMARY:Beading Group
DESCRIPTION:Led by Cultural Support Worker Kayleen Kaduchuk\, for all levels and materials provided! \nEvery Thursday from 1:00 p.m. – 4:00 p.m. in our Gathering Place \nTo attend: Drop-in\, call (204) 940-6000\, or e-mail kkaduchuk@ninecircles.ca
URL:https://ninecircles.ca/event/beading-group/2026-09-10/
LOCATION:Nine Circles Community Centre\, 705 Broadway Winnipeg\, Winnipeg\, Manitoba\, R3G 0X2\, Canada
CATEGORIES:Client Events
ATTACH;FMTTYPE=image/png:https://ninecircles.ca/wp-content/uploads/2024/09/1.png
END:VEVENT
BEGIN:VEVENT
DTSTART;TZID=America/Winnipeg:20260914T090000
DTEND;TZID=America/Winnipeg:20260914T110000
DTSTAMP:20260420T200007
CREATED:20250411T204341Z
LAST-MODIFIED:20260327T133123Z
UID:10007821-1789376400-1789383600@ninecircles.ca
SUMMARY:Mending Mondays
DESCRIPTION:Join us for Mending Mondays\, a community event where you can give your favorite clothes a new lease on life! Bring in your ripped jeans\, torn shirts\, or sweaters with snags\, and we’ll help you patch\, sew\, and mend them back to wearable condition. With hands-on guidance\, tools\, and materials provided\, you’ll learn simple techniques to keep your wardrobe looking great while reducing waste. Let’s repair\, not replace!
URL:https://ninecircles.ca/event/mending-mondays-2/2026-09-14/
LOCATION:Nine Circles Community Centre\, 705 Broadway Winnipeg\, Winnipeg\, Manitoba\, R3G 0X2\, Canada
CATEGORIES:Announcements,Client Events
END:VEVENT
BEGIN:VEVENT
DTSTART;TZID=America/Winnipeg:20260915T140000
DTEND;TZID=America/Winnipeg:20260915T153000
DTSTAMP:20260420T200007
CREATED:20251211T192815Z
LAST-MODIFIED:20251211T192815Z
UID:10007728-1789480800-1789486200@ninecircles.ca
SUMMARY:Sharing Point Group
DESCRIPTION:Have something you want to get off your chest? Join us the third Tuesday of the month from 2:00 – 3:30 p.m. for Sharing Point. \nOpen to women and gender diverse folks that want a safe and casual space for connection\, sharing experiences\, and receive encouragement and support related to life struggles or circumstances.
URL:https://ninecircles.ca/event/sharing-point-group/2026-09-15/
LOCATION:Nine Circles Community Centre\, 705 Broadway Winnipeg\, Winnipeg\, Manitoba\, R3G 0X2\, Canada
CATEGORIES:Community / Public Events
END:VEVENT
BEGIN:VEVENT
DTSTART;TZID=America/Winnipeg:20260916T100000
DTEND;TZID=America/Winnipeg:20260916T120000
DTSTAMP:20260420T200007
CREATED:20260305T144328Z
LAST-MODIFIED:20260327T133248Z
UID:10007949-1789552800-1789560000@ninecircles.ca
SUMMARY:Coffee Talks
DESCRIPTION:It’s Back!\nAll are welcome to join us for a cozy meet up with coffee\, treats\, and connection. \nThis is a community-led space. Come as you are\, and share as much or as little as you would like! \nHave a topic\, skill\, or interest you want to share with others? Contact Kristen at: kwiltshire@ninecircles.ca or 204-940-6043
URL:https://ninecircles.ca/event/coffee-talks/2026-09-16/
LOCATION:Nine Circles Community Centre\, 705 Broadway Winnipeg\, Winnipeg\, Manitoba\, R3G 0X2\, Canada
CATEGORIES:Community / Public Events
END:VEVENT
BEGIN:VEVENT
DTSTART;TZID=America/Winnipeg:20260916T130000
DTEND;TZID=America/Winnipeg:20260916T153000
DTSTAMP:20260420T200007
CREATED:20251202T194607Z
LAST-MODIFIED:20260330T135633Z
UID:10007409-1789563600-1789572600@ninecircles.ca
SUMMARY:Sewing Class
DESCRIPTION:Learn to sew Wednesdays from 1:00 p.m. to 3:00 p.m. Bring in a project or learn the basics of sewing\, quilting\, sewing machines\, and appliques. All materials and instruction provided. All ages. Open to community members that access the Pit Stop or Nine Circles clinic clients.
URL:https://ninecircles.ca/event/sewing-class-2/2026-09-16/
LOCATION:Nine Circles Community Centre\, 705 Broadway Winnipeg\, Winnipeg\, Manitoba\, R3G 0X2\, Canada
CATEGORIES:Client Events
END:VEVENT
BEGIN:VEVENT
DTSTART;TZID=America/Winnipeg:20260917T130000
DTEND;TZID=America/Winnipeg:20260917T153000
DTSTAMP:20260420T200007
CREATED:20240924T140605Z
LAST-MODIFIED:20260330T135707Z
UID:10006468-1789650000-1789659000@ninecircles.ca
SUMMARY:Beading Group
DESCRIPTION:Led by Cultural Support Worker Kayleen Kaduchuk\, for all levels and materials provided! \nEvery Thursday from 1:00 p.m. – 4:00 p.m. in our Gathering Place \nTo attend: Drop-in\, call (204) 940-6000\, or e-mail kkaduchuk@ninecircles.ca
URL:https://ninecircles.ca/event/beading-group/2026-09-17/
LOCATION:Nine Circles Community Centre\, 705 Broadway Winnipeg\, Winnipeg\, Manitoba\, R3G 0X2\, Canada
CATEGORIES:Client Events
ATTACH;FMTTYPE=image/png:https://ninecircles.ca/wp-content/uploads/2024/09/1.png
END:VEVENT
BEGIN:VEVENT
DTSTART;TZID=America/Winnipeg:20260921T090000
DTEND;TZID=America/Winnipeg:20260921T110000
DTSTAMP:20260420T200007
CREATED:20250411T204341Z
LAST-MODIFIED:20260327T133123Z
UID:10007822-1789981200-1789988400@ninecircles.ca
SUMMARY:Mending Mondays
DESCRIPTION:Join us for Mending Mondays\, a community event where you can give your favorite clothes a new lease on life! Bring in your ripped jeans\, torn shirts\, or sweaters with snags\, and we’ll help you patch\, sew\, and mend them back to wearable condition. With hands-on guidance\, tools\, and materials provided\, you’ll learn simple techniques to keep your wardrobe looking great while reducing waste. Let’s repair\, not replace!
URL:https://ninecircles.ca/event/mending-mondays-2/2026-09-21/
LOCATION:Nine Circles Community Centre\, 705 Broadway Winnipeg\, Winnipeg\, Manitoba\, R3G 0X2\, Canada
CATEGORIES:Announcements,Client Events
END:VEVENT
BEGIN:VEVENT
DTSTART;TZID=America/Winnipeg:20260923T100000
DTEND;TZID=America/Winnipeg:20260923T120000
DTSTAMP:20260420T200007
CREATED:20260305T144328Z
LAST-MODIFIED:20260327T133248Z
UID:10007950-1790157600-1790164800@ninecircles.ca
SUMMARY:Coffee Talks
DESCRIPTION:It’s Back!\nAll are welcome to join us for a cozy meet up with coffee\, treats\, and connection. \nThis is a community-led space. Come as you are\, and share as much or as little as you would like! \nHave a topic\, skill\, or interest you want to share with others? Contact Kristen at: kwiltshire@ninecircles.ca or 204-940-6043
URL:https://ninecircles.ca/event/coffee-talks/2026-09-23/
LOCATION:Nine Circles Community Centre\, 705 Broadway Winnipeg\, Winnipeg\, Manitoba\, R3G 0X2\, Canada
CATEGORIES:Community / Public Events
END:VEVENT
BEGIN:VEVENT
DTSTART;TZID=America/Winnipeg:20260923T130000
DTEND;TZID=America/Winnipeg:20260923T153000
DTSTAMP:20260420T200007
CREATED:20251202T194607Z
LAST-MODIFIED:20260330T135633Z
UID:10007410-1790168400-1790177400@ninecircles.ca
SUMMARY:Sewing Class
DESCRIPTION:Learn to sew Wednesdays from 1:00 p.m. to 3:00 p.m. Bring in a project or learn the basics of sewing\, quilting\, sewing machines\, and appliques. All materials and instruction provided. All ages. Open to community members that access the Pit Stop or Nine Circles clinic clients.
URL:https://ninecircles.ca/event/sewing-class-2/2026-09-23/
LOCATION:Nine Circles Community Centre\, 705 Broadway Winnipeg\, Winnipeg\, Manitoba\, R3G 0X2\, Canada
CATEGORIES:Client Events
END:VEVENT
BEGIN:VEVENT
DTSTART;TZID=America/Winnipeg:20260924T130000
DTEND;TZID=America/Winnipeg:20260924T153000
DTSTAMP:20260420T200007
CREATED:20240924T140605Z
LAST-MODIFIED:20260330T135707Z
UID:10006469-1790254800-1790263800@ninecircles.ca
SUMMARY:Beading Group
DESCRIPTION:Led by Cultural Support Worker Kayleen Kaduchuk\, for all levels and materials provided! \nEvery Thursday from 1:00 p.m. – 4:00 p.m. in our Gathering Place \nTo attend: Drop-in\, call (204) 940-6000\, or e-mail kkaduchuk@ninecircles.ca
URL:https://ninecircles.ca/event/beading-group/2026-09-24/
LOCATION:Nine Circles Community Centre\, 705 Broadway Winnipeg\, Winnipeg\, Manitoba\, R3G 0X2\, Canada
CATEGORIES:Client Events
ATTACH;FMTTYPE=image/png:https://ninecircles.ca/wp-content/uploads/2024/09/1.png
END:VEVENT
BEGIN:VEVENT
DTSTART;TZID=America/Winnipeg:20260928T090000
DTEND;TZID=America/Winnipeg:20260928T110000
DTSTAMP:20260420T200007
CREATED:20250411T204341Z
LAST-MODIFIED:20260327T133123Z
UID:10007823-1790586000-1790593200@ninecircles.ca
SUMMARY:Mending Mondays
DESCRIPTION:Join us for Mending Mondays\, a community event where you can give your favorite clothes a new lease on life! Bring in your ripped jeans\, torn shirts\, or sweaters with snags\, and we’ll help you patch\, sew\, and mend them back to wearable condition. With hands-on guidance\, tools\, and materials provided\, you’ll learn simple techniques to keep your wardrobe looking great while reducing waste. Let’s repair\, not replace!
URL:https://ninecircles.ca/event/mending-mondays-2/2026-09-28/
LOCATION:Nine Circles Community Centre\, 705 Broadway Winnipeg\, Winnipeg\, Manitoba\, R3G 0X2\, Canada
CATEGORIES:Announcements,Client Events
END:VEVENT
BEGIN:VEVENT
DTSTART;VALUE=DATE:20260930
DTEND;VALUE=DATE:20261001
DTSTAMP:20260420T200007
CREATED:20240924T141128Z
LAST-MODIFIED:20240924T141128Z
UID:10006628-1790726400-1790812799@ninecircles.ca
SUMMARY:Closed in Recognition of National Day for Truth and Reconciliation
DESCRIPTION:Each year\, September 30th marks the National Day for Truth and Reconciliation.\nThe day honours the children who never returned home and Survivors of residential schools\, as well as their families and communities. Public commemoration of the tragic and painful history and ongoing impacts of residential schools is a vital component of the reconciliation process. \nBoth the National Day for Truth and Reconciliation and Orange Shirt Day take place on September 30th. \nOrange Shirt Day is an Indigenous-led grassroots commemorative day intended to raise awareness of the individual\, family and community inter-generational impacts of residential schools\, and to promote the concept of “Every Child Matters”. The orange shirt is a symbol of the stripping away of culture\, freedom and self-esteem experienced by Indigenous children over generations. \nOn September 30th\, we encourage everyone to wear orange to honour the thousands of Survivors of residential schools and participate in public local activities and gatherings organized to understand the history and impacts of residential schools. \n[adapted from https://www.canada.ca/en/canadian-heritage/campaigns/national-day-truth-reconciliation.html]
URL:https://ninecircles.ca/event/closed-in-recognition-of-national-day-for-truth-and-reconciliation/2026-09-30/
LOCATION:Nine Circles Community Centre\, 705 Broadway Winnipeg\, Winnipeg\, Manitoba\, R3G 0X2\, Canada
CATEGORIES:Closure Announcement
ATTACH;FMTTYPE=image/png:https://ninecircles.ca/wp-content/uploads/2024/09/Closed-May-Long-6.png
END:VEVENT
BEGIN:VEVENT
DTSTART;TZID=America/Winnipeg:20260930T100000
DTEND;TZID=America/Winnipeg:20260930T120000
DTSTAMP:20260420T200007
CREATED:20260305T144328Z
LAST-MODIFIED:20260327T133248Z
UID:10007951-1790762400-1790769600@ninecircles.ca
SUMMARY:Coffee Talks
DESCRIPTION:It’s Back!\nAll are welcome to join us for a cozy meet up with coffee\, treats\, and connection. \nThis is a community-led space. Come as you are\, and share as much or as little as you would like! \nHave a topic\, skill\, or interest you want to share with others? Contact Kristen at: kwiltshire@ninecircles.ca or 204-940-6043
URL:https://ninecircles.ca/event/coffee-talks/2026-09-30/
LOCATION:Nine Circles Community Centre\, 705 Broadway Winnipeg\, Winnipeg\, Manitoba\, R3G 0X2\, Canada
CATEGORIES:Community / Public Events
END:VEVENT
BEGIN:VEVENT
DTSTART;TZID=America/Winnipeg:20260930T130000
DTEND;TZID=America/Winnipeg:20260930T153000
DTSTAMP:20260420T200007
CREATED:20251202T194607Z
LAST-MODIFIED:20260330T135633Z
UID:10007411-1790773200-1790782200@ninecircles.ca
SUMMARY:Sewing Class
DESCRIPTION:Learn to sew Wednesdays from 1:00 p.m. to 3:00 p.m. Bring in a project or learn the basics of sewing\, quilting\, sewing machines\, and appliques. All materials and instruction provided. All ages. Open to community members that access the Pit Stop or Nine Circles clinic clients.
URL:https://ninecircles.ca/event/sewing-class-2/2026-09-30/
LOCATION:Nine Circles Community Centre\, 705 Broadway Winnipeg\, Winnipeg\, Manitoba\, R3G 0X2\, Canada
CATEGORIES:Client Events
END:VEVENT
BEGIN:VEVENT
DTSTART;TZID=America/Winnipeg:20261001T130000
DTEND;TZID=America/Winnipeg:20261001T153000
DTSTAMP:20260420T200007
CREATED:20240924T140605Z
LAST-MODIFIED:20260330T135707Z
UID:10006470-1790859600-1790868600@ninecircles.ca
SUMMARY:Beading Group
DESCRIPTION:Led by Cultural Support Worker Kayleen Kaduchuk\, for all levels and materials provided! \nEvery Thursday from 1:00 p.m. – 4:00 p.m. in our Gathering Place \nTo attend: Drop-in\, call (204) 940-6000\, or e-mail kkaduchuk@ninecircles.ca
URL:https://ninecircles.ca/event/beading-group/2026-10-01/
LOCATION:Nine Circles Community Centre\, 705 Broadway Winnipeg\, Winnipeg\, Manitoba\, R3G 0X2\, Canada
CATEGORIES:Client Events
ATTACH;FMTTYPE=image/png:https://ninecircles.ca/wp-content/uploads/2024/09/1.png
END:VEVENT
BEGIN:VEVENT
DTSTART;TZID=America/Winnipeg:20261002T130000
DTEND;TZID=America/Winnipeg:20261002T160000
DTSTAMP:20260420T200007
CREATED:20260305T144144Z
LAST-MODIFIED:20260327T145136Z
UID:10007869-1790946000-1790956800@ninecircles.ca
SUMMARY:Movies & Munchies
DESCRIPTION:Dive into arts and culture through film every first Friday of the month!\nAll are welcome to join us for snacks\, movies\, and great company.
URL:https://ninecircles.ca/event/movies-munchies/2026-10-02/
LOCATION:Nine Circles Community Centre\, 705 Broadway Winnipeg\, Winnipeg\, Manitoba\, R3G 0X2\, Canada
CATEGORIES:Community / Public Events
END:VEVENT
BEGIN:VEVENT
DTSTART;TZID=America/Winnipeg:20261005T090000
DTEND;TZID=America/Winnipeg:20261005T110000
DTSTAMP:20260420T200007
CREATED:20250411T204341Z
LAST-MODIFIED:20260327T133123Z
UID:10007824-1791190800-1791198000@ninecircles.ca
SUMMARY:Mending Mondays
DESCRIPTION:Join us for Mending Mondays\, a community event where you can give your favorite clothes a new lease on life! Bring in your ripped jeans\, torn shirts\, or sweaters with snags\, and we’ll help you patch\, sew\, and mend them back to wearable condition. With hands-on guidance\, tools\, and materials provided\, you’ll learn simple techniques to keep your wardrobe looking great while reducing waste. Let’s repair\, not replace!
URL:https://ninecircles.ca/event/mending-mondays-2/2026-10-05/
LOCATION:Nine Circles Community Centre\, 705 Broadway Winnipeg\, Winnipeg\, Manitoba\, R3G 0X2\, Canada
CATEGORIES:Announcements,Client Events
END:VEVENT
BEGIN:VEVENT
DTSTART;TZID=America/Winnipeg:20261006T140000
DTEND;TZID=America/Winnipeg:20261006T153000
DTSTAMP:20260420T200007
CREATED:20250623T201013Z
LAST-MODIFIED:20250623T201134Z
UID:10005222-1791295200-1791300600@ninecircles.ca
SUMMARY:Social Circle Drop-In
DESCRIPTION:Drop-in\, Hang Out\, Make Friends!\nNine Circles is proud to announce that it will resume drop-in programming with “Social Circle\,” happening on the first Tuesday of every month! Drop-in\, hang out\, make friends! Light refreshments provided. No registration needed\, just come between 2:00 p.m. – 3:30 p.m. to 705 Broadway and join us in the Gathering Place! \n 
URL:https://ninecircles.ca/event/social-circle-drop-in-2-2/2026-10-06/
LOCATION:Nine Circles Community Centre\, 705 Broadway Winnipeg\, Winnipeg\, Manitoba\, R3G 0X2\, Canada
CATEGORIES:Announcements,Community / Public Events
ATTACH;FMTTYPE=image/png:https://ninecircles.ca/wp-content/uploads/2023/11/Social-Circle-Drop-In.png
END:VEVENT
BEGIN:VEVENT
DTSTART;TZID=America/Winnipeg:20261007T100000
DTEND;TZID=America/Winnipeg:20261007T120000
DTSTAMP:20260420T200007
CREATED:20260305T144328Z
LAST-MODIFIED:20260327T133248Z
UID:10007952-1791367200-1791374400@ninecircles.ca
SUMMARY:Coffee Talks
DESCRIPTION:It’s Back!\nAll are welcome to join us for a cozy meet up with coffee\, treats\, and connection. \nThis is a community-led space. Come as you are\, and share as much or as little as you would like! \nHave a topic\, skill\, or interest you want to share with others? Contact Kristen at: kwiltshire@ninecircles.ca or 204-940-6043
URL:https://ninecircles.ca/event/coffee-talks/2026-10-07/
LOCATION:Nine Circles Community Centre\, 705 Broadway Winnipeg\, Winnipeg\, Manitoba\, R3G 0X2\, Canada
CATEGORIES:Community / Public Events
END:VEVENT
BEGIN:VEVENT
DTSTART;TZID=America/Winnipeg:20261007T130000
DTEND;TZID=America/Winnipeg:20261007T153000
DTSTAMP:20260420T200007
CREATED:20251202T194607Z
LAST-MODIFIED:20260330T135633Z
UID:10007412-1791378000-1791387000@ninecircles.ca
SUMMARY:Sewing Class
DESCRIPTION:Learn to sew Wednesdays from 1:00 p.m. to 3:00 p.m. Bring in a project or learn the basics of sewing\, quilting\, sewing machines\, and appliques. All materials and instruction provided. All ages. Open to community members that access the Pit Stop or Nine Circles clinic clients.
URL:https://ninecircles.ca/event/sewing-class-2/2026-10-07/
LOCATION:Nine Circles Community Centre\, 705 Broadway Winnipeg\, Winnipeg\, Manitoba\, R3G 0X2\, Canada
CATEGORIES:Client Events
END:VEVENT
BEGIN:VEVENT
DTSTART;TZID=America/Winnipeg:20261008T130000
DTEND;TZID=America/Winnipeg:20261008T153000
DTSTAMP:20260420T200007
CREATED:20240924T140605Z
LAST-MODIFIED:20260330T135707Z
UID:10006471-1791464400-1791473400@ninecircles.ca
SUMMARY:Beading Group
DESCRIPTION:Led by Cultural Support Worker Kayleen Kaduchuk\, for all levels and materials provided! \nEvery Thursday from 1:00 p.m. – 4:00 p.m. in our Gathering Place \nTo attend: Drop-in\, call (204) 940-6000\, or e-mail kkaduchuk@ninecircles.ca
URL:https://ninecircles.ca/event/beading-group/2026-10-08/
LOCATION:Nine Circles Community Centre\, 705 Broadway Winnipeg\, Winnipeg\, Manitoba\, R3G 0X2\, Canada
CATEGORIES:Client Events
ATTACH;FMTTYPE=image/png:https://ninecircles.ca/wp-content/uploads/2024/09/1.png
END:VEVENT
BEGIN:VEVENT
DTSTART;TZID=America/Winnipeg:20261012T090000
DTEND;TZID=America/Winnipeg:20261012T110000
DTSTAMP:20260420T200007
CREATED:20250411T204341Z
LAST-MODIFIED:20260327T133123Z
UID:10007825-1791795600-1791802800@ninecircles.ca
SUMMARY:Mending Mondays
DESCRIPTION:Join us for Mending Mondays\, a community event where you can give your favorite clothes a new lease on life! Bring in your ripped jeans\, torn shirts\, or sweaters with snags\, and we’ll help you patch\, sew\, and mend them back to wearable condition. With hands-on guidance\, tools\, and materials provided\, you’ll learn simple techniques to keep your wardrobe looking great while reducing waste. Let’s repair\, not replace!
URL:https://ninecircles.ca/event/mending-mondays-2/2026-10-12/
LOCATION:Nine Circles Community Centre\, 705 Broadway Winnipeg\, Winnipeg\, Manitoba\, R3G 0X2\, Canada
CATEGORIES:Announcements,Client Events
END:VEVENT
BEGIN:VEVENT
DTSTART;TZID=America/Winnipeg:20261013T090000
DTEND;TZID=America/Winnipeg:20261013T120000
DTSTAMP:20260420T200008
CREATED:20260218T143503Z
LAST-MODIFIED:20260218T143635Z
UID:10005160-1791882000-1791892800@ninecircles.ca
SUMMARY:All Staff Meeting - Closed Until 12:00pm
DESCRIPTION:Nine Circles Community Health Staff meet every second Tuesday of the month for an all staff meeting\, this means that in-person appointments\, Pit Stop harm reduction services\, phone\, and e-mail services are closed to the public. \nIf you need assistance\, please call 204-940-6000 or visit us at 705 Broadway after 12:00pm. \nIf you need immediate assistance or this is an emergency\, please contact Health Links at 204-788-8200 or call 9-11. Have a question about sexually transmitted and blood-borne infections (STBBIs)? Visit our Q&A website https://sexfriendlymb.ca/
URL:https://ninecircles.ca/event/all-staff-meeting-closed-until-1200pm-3/2026-10-13/
LOCATION:Nine Circles Community Centre\, 705 Broadway Winnipeg\, Winnipeg\, Manitoba\, R3G 0X2\, Canada
CATEGORIES:Announcements,Closure Announcement
ORGANIZER;CN="Nine Circles Community Health":MAILTO:ninecircles@ninecircles.ca
END:VEVENT
BEGIN:VEVENT
DTSTART;TZID=America/Winnipeg:20261014T100000
DTEND;TZID=America/Winnipeg:20261014T120000
DTSTAMP:20260420T200008
CREATED:20260305T144328Z
LAST-MODIFIED:20260327T133248Z
UID:10007953-1791972000-1791979200@ninecircles.ca
SUMMARY:Coffee Talks
DESCRIPTION:It’s Back!\nAll are welcome to join us for a cozy meet up with coffee\, treats\, and connection. \nThis is a community-led space. Come as you are\, and share as much or as little as you would like! \nHave a topic\, skill\, or interest you want to share with others? Contact Kristen at: kwiltshire@ninecircles.ca or 204-940-6043
URL:https://ninecircles.ca/event/coffee-talks/2026-10-14/
LOCATION:Nine Circles Community Centre\, 705 Broadway Winnipeg\, Winnipeg\, Manitoba\, R3G 0X2\, Canada
CATEGORIES:Community / Public Events
END:VEVENT
BEGIN:VEVENT
DTSTART;TZID=America/Winnipeg:20261014T130000
DTEND;TZID=America/Winnipeg:20261014T140000
DTSTAMP:20260420T200008
CREATED:20251125T164421Z
LAST-MODIFIED:20260122T154627Z
UID:10007654-1791982800-1791986400@ninecircles.ca
SUMMARY:Pipe Ceremony
DESCRIPTION:Join us for a monthly Pipe Ceremony from 1-2pm every second Wednesday of the month!\nFor information about this or all other Indigenous Cultural Programming\, contact Kayleen Kaduchuk at (204) 940-6000 or e-mail KKaduchuk@ninecircles.ca
URL:https://ninecircles.ca/event/pipe-ceremony/2026-10-14/
LOCATION:Nine Circles Community Centre\, 705 Broadway Winnipeg\, Winnipeg\, Manitoba\, R3G 0X2\, Canada
CATEGORIES:Client Events
ATTACH;FMTTYPE=image/jpeg:https://ninecircles.ca/wp-content/uploads/2025/11/Monthly-Pipe-Ceremony-Poster-2026.jpg
END:VEVENT
BEGIN:VEVENT
DTSTART;TZID=America/Winnipeg:20261014T130000
DTEND;TZID=America/Winnipeg:20261014T153000
DTSTAMP:20260420T200008
CREATED:20251202T194607Z
LAST-MODIFIED:20260330T135633Z
UID:10007413-1791982800-1791991800@ninecircles.ca
SUMMARY:Sewing Class
DESCRIPTION:Learn to sew Wednesdays from 1:00 p.m. to 3:00 p.m. Bring in a project or learn the basics of sewing\, quilting\, sewing machines\, and appliques. All materials and instruction provided. All ages. Open to community members that access the Pit Stop or Nine Circles clinic clients.
URL:https://ninecircles.ca/event/sewing-class-2/2026-10-14/
LOCATION:Nine Circles Community Centre\, 705 Broadway Winnipeg\, Winnipeg\, Manitoba\, R3G 0X2\, Canada
CATEGORIES:Client Events
END:VEVENT
END:VCALENDAR