BEGIN:VCALENDAR
VERSION:2.0
PRODID:-//Nine Circles Community Health Centre - ECPv6.15.18//NONSGML v1.0//EN
CALSCALE:GREGORIAN
METHOD:PUBLISH
X-WR-CALNAME:Nine Circles Community Health Centre
X-ORIGINAL-URL:https://ninecircles.ca
X-WR-CALDESC:Events for Nine Circles Community Health Centre
REFRESH-INTERVAL;VALUE=DURATION:PT1H
X-Robots-Tag:noindex
X-PUBLISHED-TTL:PT1H
BEGIN:VTIMEZONE
TZID:America/Winnipeg
BEGIN:DAYLIGHT
TZOFFSETFROM:-0600
TZOFFSETTO:-0500
TZNAME:CDT
DTSTART:20160313T080000
END:DAYLIGHT
BEGIN:STANDARD
TZOFFSETFROM:-0500
TZOFFSETTO:-0600
TZNAME:CST
DTSTART:20161106T070000
END:STANDARD
BEGIN:DAYLIGHT
TZOFFSETFROM:-0600
TZOFFSETTO:-0500
TZNAME:CDT
DTSTART:20170312T080000
END:DAYLIGHT
BEGIN:STANDARD
TZOFFSETFROM:-0500
TZOFFSETTO:-0600
TZNAME:CST
DTSTART:20171105T070000
END:STANDARD
BEGIN:DAYLIGHT
TZOFFSETFROM:-0600
TZOFFSETTO:-0500
TZNAME:CDT
DTSTART:20180311T080000
END:DAYLIGHT
BEGIN:STANDARD
TZOFFSETFROM:-0500
TZOFFSETTO:-0600
TZNAME:CST
DTSTART:20181104T070000
END:STANDARD
END:VTIMEZONE
BEGIN:VEVENT
DTSTART;TZID=America/Winnipeg:20170713T110000
DTEND;TZID=America/Winnipeg:20170713T120000
DTSTAMP:20260421T181926
CREATED:20170406T194835Z
LAST-MODIFIED:20170406T194917Z
UID:10001341-1499943600-1499947200@ninecircles.ca
SUMMARY:Viral Videos
DESCRIPTION:You are welcome to come and watch a short video with us in the Gathering Place while you wait for your food bank!
URL:https://ninecircles.ca/event/viral-videos/2017-07-13/
LOCATION:Manitoba
CATEGORIES:Client Events
END:VEVENT
BEGIN:VEVENT
DTSTART;TZID=America/Winnipeg:20170713T120000
DTEND;TZID=America/Winnipeg:20170713T130000
DTSTAMP:20260421T181926
CREATED:20161212T214527Z
LAST-MODIFIED:20171002T162823Z
UID:10001068-1499947200-1499950800@ninecircles.ca
SUMMARY:Food Bank   A-K Members
DESCRIPTION:Food Bank is available for members only.  Please phone 204-940-6000 and ask to speak with Tania for assistance.
URL:https://ninecircles.ca/event/food-bank-k-members/2017-07-13/
LOCATION:Manitoba
CATEGORIES:People living with HIV only
END:VEVENT
BEGIN:VEVENT
DTSTART;TZID=America/Winnipeg:20170719T183000
DTEND;TZID=America/Winnipeg:20170719T193000
DTSTAMP:20260421T181926
CREATED:20170406T203449Z
LAST-MODIFIED:20200316T211103Z
UID:10001452-1500489000-1500492600@ninecircles.ca
SUMMARY:Coffee Talk - All Welcome
DESCRIPTION:Has HIV/AIDS affected your life? This drop-in conversation group is a safe space where you can talk about the changes\, challenges\, inspirations\, and supports in your life as you move forward. The third Wednesday of the month is a group for everyone\, all welcome!\nContact Sandra or Rosa for more information\, 204-940-6000
URL:https://ninecircles.ca/event/coffee-talk-welcome/2017-07-19/
LOCATION:Manitoba
CATEGORIES:People living with HIV only
END:VEVENT
BEGIN:VEVENT
DTSTART;TZID=America/Winnipeg:20170720T110000
DTEND;TZID=America/Winnipeg:20170720T120000
DTSTAMP:20260421T181926
CREATED:20170406T194835Z
LAST-MODIFIED:20170406T194917Z
UID:10001342-1500548400-1500552000@ninecircles.ca
SUMMARY:Viral Videos
DESCRIPTION:You are welcome to come and watch a short video with us in the Gathering Place while you wait for your food bank!
URL:https://ninecircles.ca/event/viral-videos/2017-07-20/
LOCATION:Manitoba
CATEGORIES:Client Events
END:VEVENT
BEGIN:VEVENT
DTSTART;TZID=America/Winnipeg:20170720T120000
DTEND;TZID=America/Winnipeg:20170720T130000
DTSTAMP:20260421T181926
CREATED:20161212T214203Z
LAST-MODIFIED:20171002T162926Z
UID:10001026-1500552000-1500555600@ninecircles.ca
SUMMARY:Food Bank   L-Z Members
DESCRIPTION:Food Bank is available for members only.  Please phone 204-940-6000 and ask to speak with Tania for assistance.
URL:https://ninecircles.ca/event/food-bank-l-z-members/2017-07-20/
LOCATION:Manitoba
CATEGORIES:People living with HIV only
END:VEVENT
BEGIN:VEVENT
DTSTART;TZID=America/Winnipeg:20170726T183000
DTEND;TZID=America/Winnipeg:20170726T193000
DTSTAMP:20260421T181926
CREATED:20170406T204415Z
LAST-MODIFIED:20171002T165057Z
UID:10001522-1501093800-1501097400@ninecircles.ca
SUMMARY:Coffee Talk - HIV +1
DESCRIPTION:Has HIV/AIDS affected your life? This drop-in conversation group is a safe space where you can talk about the changes\, challenges\, inspirations\, and supports in your life as you move forward. The fourth Wednesday of the month is a week for HIV positive people and a plus one!  Your plus one could be anyone in your life that supports you\, like a partner\, a family member\, a friend or a caregiver.\nContact Sandra or Rosa for more information\, 204-940-6000
URL:https://ninecircles.ca/event/coffee-talk-hiv-1/2017-07-26/
LOCATION:Manitoba
CATEGORIES:People living with HIV only
END:VEVENT
BEGIN:VEVENT
DTSTART;TZID=America/Winnipeg:20170727T110000
DTEND;TZID=America/Winnipeg:20170727T120000
DTSTAMP:20260421T181926
CREATED:20170406T194835Z
LAST-MODIFIED:20171002T164146Z
UID:10001361-1501153200-1501156800@ninecircles.ca
SUMMARY:Viral Videos
DESCRIPTION:You are welcome to come and watch a short video with us in the Gathering Place while you wait for your food bank!
URL:https://ninecircles.ca/event/viral-videos-2017-07-27/
LOCATION:Manitoba
CATEGORIES:Client Events
END:VEVENT
BEGIN:VEVENT
DTSTART;TZID=America/Winnipeg:20170727T120000
DTEND;TZID=America/Winnipeg:20170727T130000
DTSTAMP:20260421T181926
CREATED:20161212T214527Z
LAST-MODIFIED:20171002T162823Z
UID:10001069-1501156800-1501160400@ninecircles.ca
SUMMARY:Food Bank   A-K Members
DESCRIPTION:Food Bank is available for members only.  Please phone 204-940-6000 and ask to speak with Tania for assistance.
URL:https://ninecircles.ca/event/food-bank-k-members/2017-07-27/
LOCATION:Manitoba
CATEGORIES:People living with HIV only
END:VEVENT
BEGIN:VEVENT
DTSTART;TZID=America/Winnipeg:20170802T183000
DTEND;TZID=America/Winnipeg:20170802T193000
DTSTAMP:20260421T181926
CREATED:20170406T202411Z
LAST-MODIFIED:20190703T212055Z
UID:10001402-1501698600-1501702200@ninecircles.ca
SUMMARY:Coffee Talk - Men's Group
DESCRIPTION:Has HIV/AIDS affected your life?  This drop-in conversation group is a safe space where you can talk about the changes\, challenges\, inspirations\, and supports in your life as you move forward.  The first Wednesday of the month is Men’s only group.\nContact Sandra or Rosa for more information\, 204-940-6000
URL:https://ninecircles.ca/event/coffee-talk-msm/2017-08-02/
LOCATION:Manitoba
CATEGORIES:People living with HIV only
END:VEVENT
BEGIN:VEVENT
DTSTART;TZID=America/Winnipeg:20170803T110000
DTEND;TZID=America/Winnipeg:20170803T120000
DTSTAMP:20260421T181927
CREATED:20170406T194835Z
LAST-MODIFIED:20170406T194917Z
UID:10001343-1501758000-1501761600@ninecircles.ca
SUMMARY:Viral Videos
DESCRIPTION:You are welcome to come and watch a short video with us in the Gathering Place while you wait for your food bank!
URL:https://ninecircles.ca/event/viral-videos/2017-08-03/
LOCATION:Manitoba
CATEGORIES:Client Events
END:VEVENT
BEGIN:VEVENT
DTSTART;TZID=America/Winnipeg:20170803T120000
DTEND;TZID=America/Winnipeg:20170803T130000
DTSTAMP:20260421T181927
CREATED:20161212T214203Z
LAST-MODIFIED:20171002T162926Z
UID:10001027-1501761600-1501765200@ninecircles.ca
SUMMARY:Food Bank   L-Z Members
DESCRIPTION:Food Bank is available for members only.  Please phone 204-940-6000 and ask to speak with Tania for assistance.
URL:https://ninecircles.ca/event/food-bank-l-z-members/2017-08-03/
LOCATION:Manitoba
CATEGORIES:People living with HIV only
END:VEVENT
BEGIN:VEVENT
DTSTART;TZID=America/Winnipeg:20170804T143000
DTEND;TZID=America/Winnipeg:20170804T153000
DTSTAMP:20260421T181927
CREATED:20161219T182627Z
LAST-MODIFIED:20190220T174831Z
UID:10001233-1501857000-1501860600@ninecircles.ca
SUMMARY:What's Your Goal?
DESCRIPTION:Join us for our monthly group dedicated to goal-setting on the first Friday of every month at 2:30! \nDuring the group we will: \n-Set our own personal action plans – something you would like to accomplish\n-Learn problem solving techniques\n-Check in on our progress\n-Share successes\n-Brainstorm ideas for next time! \nYour goal can be anything that you would like.  Would you like to work on your health\, diet\, communication skills\, your home\, your habits… you name it! \nRefreshments Provided\, All Welcome!
URL:https://ninecircles.ca/event/whats-your-goal/2017-08-04/
LOCATION:Manitoba
CATEGORIES:Client Events
END:VEVENT
BEGIN:VEVENT
DTSTART;TZID=America/Winnipeg:20170809T183000
DTEND;TZID=America/Winnipeg:20170809T193000
DTSTAMP:20260421T181927
CREATED:20230206T210451Z
LAST-MODIFIED:20230206T210451Z
UID:10001487-1502303400-1502307000@ninecircles.ca
SUMMARY:Coffee Talk - All Welcome
DESCRIPTION:Has HIV/AIDS affected your life? This drop-in conversation group is a safe space where you can talk about the changes\, challenges\, inspirations\, and supports in your life as you move forward. The third Wednesday of the month is a group for everyone\, all welcome!\nContact Sandra or Rosa for more information\, 204-940-6000
URL:https://ninecircles.ca/event/coffee-talk-welcome/2017-08-09/
LOCATION:Manitoba
CATEGORIES:People living with HIV only
END:VEVENT
BEGIN:VEVENT
DTSTART;TZID=America/Winnipeg:20170809T183000
DTEND;TZID=America/Winnipeg:20170809T193000
DTSTAMP:20260421T181927
CREATED:20170406T203156Z
LAST-MODIFIED:20180816T214257Z
UID:10001436-1502303400-1502307000@ninecircles.ca
SUMMARY:Coffee Talk - Women's Group
DESCRIPTION:Has HIV/AIDS affected your life? This drop-in conversation group is a safe space where you can talk about the changes\, challenges\, inspirations\, and supports in your life as you move forward. The second Wednesday of the month is a Women’s only group.\nContact Sandra or Rosa for more information\, 204-940-6000
URL:https://ninecircles.ca/event/coffee-talk-women/2017-08-09/
LOCATION:Manitoba
CATEGORIES:People living with HIV only
END:VEVENT
BEGIN:VEVENT
DTSTART;TZID=America/Winnipeg:20170810T120000
DTEND;TZID=America/Winnipeg:20170810T130000
DTSTAMP:20260421T181927
CREATED:20161212T214527Z
LAST-MODIFIED:20171002T162823Z
UID:10001070-1502366400-1502370000@ninecircles.ca
SUMMARY:Food Bank   A-K Members
DESCRIPTION:Food Bank is available for members only.  Please phone 204-940-6000 and ask to speak with Tania for assistance.
URL:https://ninecircles.ca/event/food-bank-k-members/2017-08-10/
LOCATION:Manitoba
CATEGORIES:People living with HIV only
END:VEVENT
BEGIN:VEVENT
DTSTART;TZID=America/Winnipeg:20170816T183000
DTEND;TZID=America/Winnipeg:20170816T193000
DTSTAMP:20260421T181927
CREATED:20170406T203449Z
LAST-MODIFIED:20200316T211103Z
UID:10001453-1502908200-1502911800@ninecircles.ca
SUMMARY:Coffee Talk - All Welcome
DESCRIPTION:Has HIV/AIDS affected your life? This drop-in conversation group is a safe space where you can talk about the changes\, challenges\, inspirations\, and supports in your life as you move forward. The third Wednesday of the month is a group for everyone\, all welcome!\nContact Sandra or Rosa for more information\, 204-940-6000
URL:https://ninecircles.ca/event/coffee-talk-welcome/2017-08-16/
LOCATION:Manitoba
CATEGORIES:People living with HIV only
END:VEVENT
BEGIN:VEVENT
DTSTART;TZID=America/Winnipeg:20170817T110000
DTEND;TZID=America/Winnipeg:20170817T120000
DTSTAMP:20260421T181927
CREATED:20170406T194835Z
LAST-MODIFIED:20170406T194917Z
UID:10001344-1502967600-1502971200@ninecircles.ca
SUMMARY:Viral Videos
DESCRIPTION:You are welcome to come and watch a short video with us in the Gathering Place while you wait for your food bank!
URL:https://ninecircles.ca/event/viral-videos/2017-08-17/
LOCATION:Manitoba
CATEGORIES:Client Events
END:VEVENT
BEGIN:VEVENT
DTSTART;TZID=America/Winnipeg:20170817T120000
DTEND;TZID=America/Winnipeg:20170817T130000
DTSTAMP:20260421T181927
CREATED:20161212T214203Z
LAST-MODIFIED:20171002T162926Z
UID:10001028-1502971200-1502974800@ninecircles.ca
SUMMARY:Food Bank   L-Z Members
DESCRIPTION:Food Bank is available for members only.  Please phone 204-940-6000 and ask to speak with Tania for assistance.
URL:https://ninecircles.ca/event/food-bank-l-z-members/2017-08-17/
LOCATION:Manitoba
CATEGORIES:People living with HIV only
END:VEVENT
BEGIN:VEVENT
DTSTART;TZID=America/Winnipeg:20170823T183000
DTEND;TZID=America/Winnipeg:20170823T193000
DTSTAMP:20260421T181927
CREATED:20170406T204415Z
LAST-MODIFIED:20171002T165057Z
UID:10001523-1503513000-1503516600@ninecircles.ca
SUMMARY:Coffee Talk - HIV +1
DESCRIPTION:Has HIV/AIDS affected your life? This drop-in conversation group is a safe space where you can talk about the changes\, challenges\, inspirations\, and supports in your life as you move forward. The fourth Wednesday of the month is a week for HIV positive people and a plus one!  Your plus one could be anyone in your life that supports you\, like a partner\, a family member\, a friend or a caregiver.\nContact Sandra or Rosa for more information\, 204-940-6000
URL:https://ninecircles.ca/event/coffee-talk-hiv-1/2017-08-23/
LOCATION:Manitoba
CATEGORIES:People living with HIV only
END:VEVENT
BEGIN:VEVENT
DTSTART;TZID=America/Winnipeg:20170824T110000
DTEND;TZID=America/Winnipeg:20170824T120000
DTSTAMP:20260421T181927
CREATED:20170406T194835Z
LAST-MODIFIED:20170406T194917Z
UID:10001345-1503572400-1503576000@ninecircles.ca
SUMMARY:Viral Videos
DESCRIPTION:You are welcome to come and watch a short video with us in the Gathering Place while you wait for your food bank!
URL:https://ninecircles.ca/event/viral-videos/2017-08-24/
LOCATION:Manitoba
CATEGORIES:Client Events
END:VEVENT
BEGIN:VEVENT
DTSTART;TZID=America/Winnipeg:20170824T120000
DTEND;TZID=America/Winnipeg:20170824T130000
DTSTAMP:20260421T181927
CREATED:20161212T214527Z
LAST-MODIFIED:20171002T162823Z
UID:10001071-1503576000-1503579600@ninecircles.ca
SUMMARY:Food Bank   A-K Members
DESCRIPTION:Food Bank is available for members only.  Please phone 204-940-6000 and ask to speak with Tania for assistance.
URL:https://ninecircles.ca/event/food-bank-k-members/2017-08-24/
LOCATION:Manitoba
CATEGORIES:People living with HIV only
END:VEVENT
BEGIN:VEVENT
DTSTART;TZID=America/Winnipeg:20170831T110000
DTEND;TZID=America/Winnipeg:20170831T120000
DTSTAMP:20260421T181927
CREATED:20170406T194835Z
LAST-MODIFIED:20170406T194917Z
UID:10001346-1504177200-1504180800@ninecircles.ca
SUMMARY:Viral Videos
DESCRIPTION:You are welcome to come and watch a short video with us in the Gathering Place while you wait for your food bank!
URL:https://ninecircles.ca/event/viral-videos/2017-08-31/
LOCATION:Manitoba
CATEGORIES:Client Events
END:VEVENT
BEGIN:VEVENT
DTSTART;TZID=America/Winnipeg:20170831T120000
DTEND;TZID=America/Winnipeg:20170831T130000
DTSTAMP:20260421T181927
CREATED:20161212T214203Z
LAST-MODIFIED:20171002T162926Z
UID:10001029-1504180800-1504184400@ninecircles.ca
SUMMARY:Food Bank   L-Z Members
DESCRIPTION:Food Bank is available for members only.  Please phone 204-940-6000 and ask to speak with Tania for assistance.
URL:https://ninecircles.ca/event/food-bank-l-z-members/2017-08-31/
LOCATION:Manitoba
CATEGORIES:People living with HIV only
END:VEVENT
BEGIN:VEVENT
DTSTART;TZID=America/Winnipeg:20170901T143000
DTEND;TZID=America/Winnipeg:20170901T153000
DTSTAMP:20260421T181927
CREATED:20161219T182627Z
LAST-MODIFIED:20190220T174831Z
UID:10001234-1504276200-1504279800@ninecircles.ca
SUMMARY:What's Your Goal?
DESCRIPTION:Join us for our monthly group dedicated to goal-setting on the first Friday of every month at 2:30! \nDuring the group we will: \n-Set our own personal action plans – something you would like to accomplish\n-Learn problem solving techniques\n-Check in on our progress\n-Share successes\n-Brainstorm ideas for next time! \nYour goal can be anything that you would like.  Would you like to work on your health\, diet\, communication skills\, your home\, your habits… you name it! \nRefreshments Provided\, All Welcome!
URL:https://ninecircles.ca/event/whats-your-goal/2017-09-01/
LOCATION:Manitoba
CATEGORIES:Client Events
END:VEVENT
BEGIN:VEVENT
DTSTART;TZID=America/Winnipeg:20170906T183000
DTEND;TZID=America/Winnipeg:20170906T193000
DTSTAMP:20260421T181927
CREATED:20170406T202411Z
LAST-MODIFIED:20190703T212055Z
UID:10001403-1504722600-1504726200@ninecircles.ca
SUMMARY:Coffee Talk - Men's Group
DESCRIPTION:Has HIV/AIDS affected your life?  This drop-in conversation group is a safe space where you can talk about the changes\, challenges\, inspirations\, and supports in your life as you move forward.  The first Wednesday of the month is Men’s only group.\nContact Sandra or Rosa for more information\, 204-940-6000
URL:https://ninecircles.ca/event/coffee-talk-msm/2017-09-06/
LOCATION:Manitoba
CATEGORIES:People living with HIV only
END:VEVENT
BEGIN:VEVENT
DTSTART;TZID=America/Winnipeg:20170907T110000
DTEND;TZID=America/Winnipeg:20170907T120000
DTSTAMP:20260421T181927
CREATED:20170406T194835Z
LAST-MODIFIED:20170406T194917Z
UID:10001347-1504782000-1504785600@ninecircles.ca
SUMMARY:Viral Videos
DESCRIPTION:You are welcome to come and watch a short video with us in the Gathering Place while you wait for your food bank!
URL:https://ninecircles.ca/event/viral-videos/2017-09-07/
LOCATION:Manitoba
CATEGORIES:Client Events
END:VEVENT
BEGIN:VEVENT
DTSTART;TZID=America/Winnipeg:20170907T120000
DTEND;TZID=America/Winnipeg:20170907T130000
DTSTAMP:20260421T181927
CREATED:20161212T214527Z
LAST-MODIFIED:20171002T162823Z
UID:10001072-1504785600-1504789200@ninecircles.ca
SUMMARY:Food Bank   A-K Members
DESCRIPTION:Food Bank is available for members only.  Please phone 204-940-6000 and ask to speak with Tania for assistance.
URL:https://ninecircles.ca/event/food-bank-k-members/2017-09-07/
LOCATION:Manitoba
CATEGORIES:People living with HIV only
END:VEVENT
BEGIN:VEVENT
DTSTART;TZID=America/Winnipeg:20170913T183000
DTEND;TZID=America/Winnipeg:20170913T193000
DTSTAMP:20260421T181927
CREATED:20230206T210451Z
LAST-MODIFIED:20230206T210451Z
UID:10001488-1505327400-1505331000@ninecircles.ca
SUMMARY:Coffee Talk - All Welcome
DESCRIPTION:Has HIV/AIDS affected your life? This drop-in conversation group is a safe space where you can talk about the changes\, challenges\, inspirations\, and supports in your life as you move forward. The third Wednesday of the month is a group for everyone\, all welcome!\nContact Sandra or Rosa for more information\, 204-940-6000
URL:https://ninecircles.ca/event/coffee-talk-welcome/2017-09-13/
LOCATION:Manitoba
CATEGORIES:People living with HIV only
END:VEVENT
BEGIN:VEVENT
DTSTART;TZID=America/Winnipeg:20170913T183000
DTEND;TZID=America/Winnipeg:20170913T193000
DTSTAMP:20260421T181927
CREATED:20170406T203156Z
LAST-MODIFIED:20180816T214257Z
UID:10001437-1505327400-1505331000@ninecircles.ca
SUMMARY:Coffee Talk - Women's Group
DESCRIPTION:Has HIV/AIDS affected your life? This drop-in conversation group is a safe space where you can talk about the changes\, challenges\, inspirations\, and supports in your life as you move forward. The second Wednesday of the month is a Women’s only group.\nContact Sandra or Rosa for more information\, 204-940-6000
URL:https://ninecircles.ca/event/coffee-talk-women/2017-09-13/
LOCATION:Manitoba
CATEGORIES:People living with HIV only
END:VEVENT
BEGIN:VEVENT
DTSTART;TZID=America/Winnipeg:20170914T110000
DTEND;TZID=America/Winnipeg:20170914T120000
DTSTAMP:20260421T181927
CREATED:20170406T194835Z
LAST-MODIFIED:20170406T194917Z
UID:10001348-1505386800-1505390400@ninecircles.ca
SUMMARY:Viral Videos
DESCRIPTION:You are welcome to come and watch a short video with us in the Gathering Place while you wait for your food bank!
URL:https://ninecircles.ca/event/viral-videos/2017-09-14/
LOCATION:Manitoba
CATEGORIES:Client Events
END:VEVENT
END:VCALENDAR