BEGIN:VCALENDAR
VERSION:2.0
PRODID:-//Nine Circles Community Health Centre - ECPv6.15.18//NONSGML v1.0//EN
CALSCALE:GREGORIAN
METHOD:PUBLISH
X-WR-CALNAME:Nine Circles Community Health Centre
X-ORIGINAL-URL:https://ninecircles.ca
X-WR-CALDESC:Events for Nine Circles Community Health Centre
REFRESH-INTERVAL;VALUE=DURATION:PT1H
X-Robots-Tag:noindex
X-PUBLISHED-TTL:PT1H
BEGIN:VTIMEZONE
TZID:America/Winnipeg
BEGIN:DAYLIGHT
TZOFFSETFROM:-0600
TZOFFSETTO:-0500
TZNAME:CDT
DTSTART:20160313T080000
END:DAYLIGHT
BEGIN:STANDARD
TZOFFSETFROM:-0500
TZOFFSETTO:-0600
TZNAME:CST
DTSTART:20161106T070000
END:STANDARD
BEGIN:DAYLIGHT
TZOFFSETFROM:-0600
TZOFFSETTO:-0500
TZNAME:CDT
DTSTART:20170312T080000
END:DAYLIGHT
BEGIN:STANDARD
TZOFFSETFROM:-0500
TZOFFSETTO:-0600
TZNAME:CST
DTSTART:20171105T070000
END:STANDARD
BEGIN:DAYLIGHT
TZOFFSETFROM:-0600
TZOFFSETTO:-0500
TZNAME:CDT
DTSTART:20180311T080000
END:DAYLIGHT
BEGIN:STANDARD
TZOFFSETFROM:-0500
TZOFFSETTO:-0600
TZNAME:CST
DTSTART:20181104T070000
END:STANDARD
END:VTIMEZONE
BEGIN:VEVENT
DTSTART;TZID=America/Winnipeg:20170824T120000
DTEND;TZID=America/Winnipeg:20170824T130000
DTSTAMP:20260422T012320
CREATED:20161212T214527Z
LAST-MODIFIED:20171002T162823Z
UID:10001071-1503576000-1503579600@ninecircles.ca
SUMMARY:Food Bank   A-K Members
DESCRIPTION:Food Bank is available for members only.  Please phone 204-940-6000 and ask to speak with Tania for assistance.
URL:https://ninecircles.ca/event/food-bank-k-members/2017-08-24/
LOCATION:Manitoba
CATEGORIES:People living with HIV only
END:VEVENT
BEGIN:VEVENT
DTSTART;TZID=America/Winnipeg:20170831T110000
DTEND;TZID=America/Winnipeg:20170831T120000
DTSTAMP:20260422T012320
CREATED:20170406T194835Z
LAST-MODIFIED:20170406T194917Z
UID:10001346-1504177200-1504180800@ninecircles.ca
SUMMARY:Viral Videos
DESCRIPTION:You are welcome to come and watch a short video with us in the Gathering Place while you wait for your food bank!
URL:https://ninecircles.ca/event/viral-videos/2017-08-31/
LOCATION:Manitoba
CATEGORIES:Client Events
END:VEVENT
BEGIN:VEVENT
DTSTART;TZID=America/Winnipeg:20170831T120000
DTEND;TZID=America/Winnipeg:20170831T130000
DTSTAMP:20260422T012320
CREATED:20161212T214203Z
LAST-MODIFIED:20171002T162926Z
UID:10001029-1504180800-1504184400@ninecircles.ca
SUMMARY:Food Bank   L-Z Members
DESCRIPTION:Food Bank is available for members only.  Please phone 204-940-6000 and ask to speak with Tania for assistance.
URL:https://ninecircles.ca/event/food-bank-l-z-members/2017-08-31/
LOCATION:Manitoba
CATEGORIES:People living with HIV only
END:VEVENT
BEGIN:VEVENT
DTSTART;TZID=America/Winnipeg:20170901T143000
DTEND;TZID=America/Winnipeg:20170901T153000
DTSTAMP:20260422T012320
CREATED:20161219T182627Z
LAST-MODIFIED:20190220T174831Z
UID:10001234-1504276200-1504279800@ninecircles.ca
SUMMARY:What's Your Goal?
DESCRIPTION:Join us for our monthly group dedicated to goal-setting on the first Friday of every month at 2:30! \nDuring the group we will: \n-Set our own personal action plans – something you would like to accomplish\n-Learn problem solving techniques\n-Check in on our progress\n-Share successes\n-Brainstorm ideas for next time! \nYour goal can be anything that you would like.  Would you like to work on your health\, diet\, communication skills\, your home\, your habits… you name it! \nRefreshments Provided\, All Welcome!
URL:https://ninecircles.ca/event/whats-your-goal/2017-09-01/
LOCATION:Manitoba
CATEGORIES:Client Events
END:VEVENT
BEGIN:VEVENT
DTSTART;TZID=America/Winnipeg:20170906T183000
DTEND;TZID=America/Winnipeg:20170906T193000
DTSTAMP:20260422T012320
CREATED:20170406T202411Z
LAST-MODIFIED:20190703T212055Z
UID:10001403-1504722600-1504726200@ninecircles.ca
SUMMARY:Coffee Talk - Men's Group
DESCRIPTION:Has HIV/AIDS affected your life?  This drop-in conversation group is a safe space where you can talk about the changes\, challenges\, inspirations\, and supports in your life as you move forward.  The first Wednesday of the month is Men’s only group.\nContact Sandra or Rosa for more information\, 204-940-6000
URL:https://ninecircles.ca/event/coffee-talk-msm/2017-09-06/
LOCATION:Manitoba
CATEGORIES:People living with HIV only
END:VEVENT
BEGIN:VEVENT
DTSTART;TZID=America/Winnipeg:20170907T110000
DTEND;TZID=America/Winnipeg:20170907T120000
DTSTAMP:20260422T012320
CREATED:20170406T194835Z
LAST-MODIFIED:20170406T194917Z
UID:10001347-1504782000-1504785600@ninecircles.ca
SUMMARY:Viral Videos
DESCRIPTION:You are welcome to come and watch a short video with us in the Gathering Place while you wait for your food bank!
URL:https://ninecircles.ca/event/viral-videos/2017-09-07/
LOCATION:Manitoba
CATEGORIES:Client Events
END:VEVENT
BEGIN:VEVENT
DTSTART;TZID=America/Winnipeg:20170907T120000
DTEND;TZID=America/Winnipeg:20170907T130000
DTSTAMP:20260422T012320
CREATED:20161212T214527Z
LAST-MODIFIED:20171002T162823Z
UID:10001072-1504785600-1504789200@ninecircles.ca
SUMMARY:Food Bank   A-K Members
DESCRIPTION:Food Bank is available for members only.  Please phone 204-940-6000 and ask to speak with Tania for assistance.
URL:https://ninecircles.ca/event/food-bank-k-members/2017-09-07/
LOCATION:Manitoba
CATEGORIES:People living with HIV only
END:VEVENT
BEGIN:VEVENT
DTSTART;TZID=America/Winnipeg:20170913T183000
DTEND;TZID=America/Winnipeg:20170913T193000
DTSTAMP:20260422T012320
CREATED:20230206T210451Z
LAST-MODIFIED:20230206T210451Z
UID:10001488-1505327400-1505331000@ninecircles.ca
SUMMARY:Coffee Talk - All Welcome
DESCRIPTION:Has HIV/AIDS affected your life? This drop-in conversation group is a safe space where you can talk about the changes\, challenges\, inspirations\, and supports in your life as you move forward. The third Wednesday of the month is a group for everyone\, all welcome!\nContact Sandra or Rosa for more information\, 204-940-6000
URL:https://ninecircles.ca/event/coffee-talk-welcome/2017-09-13/
LOCATION:Manitoba
CATEGORIES:People living with HIV only
END:VEVENT
BEGIN:VEVENT
DTSTART;TZID=America/Winnipeg:20170913T183000
DTEND;TZID=America/Winnipeg:20170913T193000
DTSTAMP:20260422T012320
CREATED:20170406T203156Z
LAST-MODIFIED:20180816T214257Z
UID:10001437-1505327400-1505331000@ninecircles.ca
SUMMARY:Coffee Talk - Women's Group
DESCRIPTION:Has HIV/AIDS affected your life? This drop-in conversation group is a safe space where you can talk about the changes\, challenges\, inspirations\, and supports in your life as you move forward. The second Wednesday of the month is a Women’s only group.\nContact Sandra or Rosa for more information\, 204-940-6000
URL:https://ninecircles.ca/event/coffee-talk-women/2017-09-13/
LOCATION:Manitoba
CATEGORIES:People living with HIV only
END:VEVENT
BEGIN:VEVENT
DTSTART;TZID=America/Winnipeg:20170914T110000
DTEND;TZID=America/Winnipeg:20170914T120000
DTSTAMP:20260422T012320
CREATED:20170406T194835Z
LAST-MODIFIED:20170406T194917Z
UID:10001348-1505386800-1505390400@ninecircles.ca
SUMMARY:Viral Videos
DESCRIPTION:You are welcome to come and watch a short video with us in the Gathering Place while you wait for your food bank!
URL:https://ninecircles.ca/event/viral-videos/2017-09-14/
LOCATION:Manitoba
CATEGORIES:Client Events
END:VEVENT
BEGIN:VEVENT
DTSTART;TZID=America/Winnipeg:20170914T120000
DTEND;TZID=America/Winnipeg:20170914T130000
DTSTAMP:20260422T012320
CREATED:20161212T214203Z
LAST-MODIFIED:20171002T162926Z
UID:10001030-1505390400-1505394000@ninecircles.ca
SUMMARY:Food Bank   L-Z Members
DESCRIPTION:Food Bank is available for members only.  Please phone 204-940-6000 and ask to speak with Tania for assistance.
URL:https://ninecircles.ca/event/food-bank-l-z-members/2017-09-14/
LOCATION:Manitoba
CATEGORIES:People living with HIV only
END:VEVENT
BEGIN:VEVENT
DTSTART;TZID=America/Winnipeg:20170920T183000
DTEND;TZID=America/Winnipeg:20170920T193000
DTSTAMP:20260422T012320
CREATED:20170406T203449Z
LAST-MODIFIED:20200316T211103Z
UID:10001454-1505932200-1505935800@ninecircles.ca
SUMMARY:Coffee Talk - All Welcome
DESCRIPTION:Has HIV/AIDS affected your life? This drop-in conversation group is a safe space where you can talk about the changes\, challenges\, inspirations\, and supports in your life as you move forward. The third Wednesday of the month is a group for everyone\, all welcome!\nContact Sandra or Rosa for more information\, 204-940-6000
URL:https://ninecircles.ca/event/coffee-talk-welcome/2017-09-20/
LOCATION:Manitoba
CATEGORIES:People living with HIV only
END:VEVENT
BEGIN:VEVENT
DTSTART;TZID=America/Winnipeg:20170921T110000
DTEND;TZID=America/Winnipeg:20170921T120000
DTSTAMP:20260422T012320
CREATED:20170406T194835Z
LAST-MODIFIED:20170406T194917Z
UID:10001349-1505991600-1505995200@ninecircles.ca
SUMMARY:Viral Videos
DESCRIPTION:You are welcome to come and watch a short video with us in the Gathering Place while you wait for your food bank!
URL:https://ninecircles.ca/event/viral-videos/2017-09-21/
LOCATION:Manitoba
CATEGORIES:Client Events
END:VEVENT
BEGIN:VEVENT
DTSTART;TZID=America/Winnipeg:20170921T120000
DTEND;TZID=America/Winnipeg:20170921T130000
DTSTAMP:20260422T012320
CREATED:20161212T214527Z
LAST-MODIFIED:20171002T162823Z
UID:10001073-1505995200-1505998800@ninecircles.ca
SUMMARY:Food Bank   A-K Members
DESCRIPTION:Food Bank is available for members only.  Please phone 204-940-6000 and ask to speak with Tania for assistance.
URL:https://ninecircles.ca/event/food-bank-k-members/2017-09-21/
LOCATION:Manitoba
CATEGORIES:People living with HIV only
END:VEVENT
BEGIN:VEVENT
DTSTART;TZID=America/Winnipeg:20170924T113000
DTEND;TZID=America/Winnipeg:20170924T140000
DTSTAMP:20260422T012320
CREATED:20170915T162209Z
LAST-MODIFIED:20170915T162325Z
UID:10000991-1506252600-1506261600@ninecircles.ca
SUMMARY:Scotiabank AIDS Walk
DESCRIPTION:Tie up your RED SHOELACES and show your support for Manitobans living with HIV! The day includes games\, entertainment and an action packed 2 km loop around the West End. Regardless of HIV status\, we are all one community\, so let’s come together in the fight against HIV/AIDS. Sign up/Donate at www.scotiabankaidswalk.ca/winnipeg
URL:https://ninecircles.ca/event/scotiabank-aids-walk/
LOCATION:Central Park\, 400 Cumberland\, Winnipeg\, MB\, Canada
ORGANIZER;CN="Nine Circles Community Health":MAILTO:ninecircles@ninecircles.ca
END:VEVENT
BEGIN:VEVENT
DTSTART;TZID=America/Winnipeg:20170927T183000
DTEND;TZID=America/Winnipeg:20170927T193000
DTSTAMP:20260422T012320
CREATED:20170406T204415Z
LAST-MODIFIED:20171002T165057Z
UID:10001524-1506537000-1506540600@ninecircles.ca
SUMMARY:Coffee Talk - HIV +1
DESCRIPTION:Has HIV/AIDS affected your life? This drop-in conversation group is a safe space where you can talk about the changes\, challenges\, inspirations\, and supports in your life as you move forward. The fourth Wednesday of the month is a week for HIV positive people and a plus one!  Your plus one could be anyone in your life that supports you\, like a partner\, a family member\, a friend or a caregiver.\nContact Sandra or Rosa for more information\, 204-940-6000
URL:https://ninecircles.ca/event/coffee-talk-hiv-1/2017-09-27/
LOCATION:Manitoba
CATEGORIES:People living with HIV only
END:VEVENT
BEGIN:VEVENT
DTSTART;TZID=America/Winnipeg:20170928T110000
DTEND;TZID=America/Winnipeg:20170928T120000
DTSTAMP:20260422T012320
CREATED:20170406T194835Z
LAST-MODIFIED:20170406T194917Z
UID:10001350-1506596400-1506600000@ninecircles.ca
SUMMARY:Viral Videos
DESCRIPTION:You are welcome to come and watch a short video with us in the Gathering Place while you wait for your food bank!
URL:https://ninecircles.ca/event/viral-videos/2017-09-28/
LOCATION:Manitoba
CATEGORIES:Client Events
END:VEVENT
BEGIN:VEVENT
DTSTART;TZID=America/Winnipeg:20170928T120000
DTEND;TZID=America/Winnipeg:20170928T130000
DTSTAMP:20260422T012320
CREATED:20161212T214203Z
LAST-MODIFIED:20171002T162926Z
UID:10001031-1506600000-1506603600@ninecircles.ca
SUMMARY:Food Bank   L-Z Members
DESCRIPTION:Food Bank is available for members only.  Please phone 204-940-6000 and ask to speak with Tania for assistance.
URL:https://ninecircles.ca/event/food-bank-l-z-members/2017-09-28/
LOCATION:Manitoba
CATEGORIES:People living with HIV only
END:VEVENT
BEGIN:VEVENT
DTSTART;TZID=America/Winnipeg:20171004T183000
DTEND;TZID=America/Winnipeg:20171004T193000
DTSTAMP:20260422T012320
CREATED:20170406T202411Z
LAST-MODIFIED:20190703T212055Z
UID:10001404-1507141800-1507145400@ninecircles.ca
SUMMARY:Coffee Talk - Men's Group
DESCRIPTION:Has HIV/AIDS affected your life?  This drop-in conversation group is a safe space where you can talk about the changes\, challenges\, inspirations\, and supports in your life as you move forward.  The first Wednesday of the month is Men’s only group.\nContact Sandra or Rosa for more information\, 204-940-6000
URL:https://ninecircles.ca/event/coffee-talk-msm/2017-10-04/
LOCATION:Manitoba
CATEGORIES:People living with HIV only
END:VEVENT
BEGIN:VEVENT
DTSTART;TZID=America/Winnipeg:20171005T110000
DTEND;TZID=America/Winnipeg:20171005T120000
DTSTAMP:20260422T012320
CREATED:20170406T194835Z
LAST-MODIFIED:20170406T194917Z
UID:10001351-1507201200-1507204800@ninecircles.ca
SUMMARY:Viral Videos
DESCRIPTION:You are welcome to come and watch a short video with us in the Gathering Place while you wait for your food bank!
URL:https://ninecircles.ca/event/viral-videos/2017-10-05/
LOCATION:Manitoba
CATEGORIES:Client Events
END:VEVENT
BEGIN:VEVENT
DTSTART;TZID=America/Winnipeg:20171005T120000
DTEND;TZID=America/Winnipeg:20171005T130000
DTSTAMP:20260422T012320
CREATED:20161212T214527Z
LAST-MODIFIED:20171002T162823Z
UID:10001074-1507204800-1507208400@ninecircles.ca
SUMMARY:Food Bank   A-K Members
DESCRIPTION:Food Bank is available for members only.  Please phone 204-940-6000 and ask to speak with Tania for assistance.
URL:https://ninecircles.ca/event/food-bank-k-members/2017-10-05/
LOCATION:Manitoba
CATEGORIES:People living with HIV only
END:VEVENT
BEGIN:VEVENT
DTSTART;TZID=America/Winnipeg:20171006T143000
DTEND;TZID=America/Winnipeg:20171006T153000
DTSTAMP:20260422T012320
CREATED:20161219T182627Z
LAST-MODIFIED:20190220T174831Z
UID:10001235-1507300200-1507303800@ninecircles.ca
SUMMARY:What's Your Goal?
DESCRIPTION:Join us for our monthly group dedicated to goal-setting on the first Friday of every month at 2:30! \nDuring the group we will: \n-Set our own personal action plans – something you would like to accomplish\n-Learn problem solving techniques\n-Check in on our progress\n-Share successes\n-Brainstorm ideas for next time! \nYour goal can be anything that you would like.  Would you like to work on your health\, diet\, communication skills\, your home\, your habits… you name it! \nRefreshments Provided\, All Welcome!
URL:https://ninecircles.ca/event/whats-your-goal/2017-10-06/
LOCATION:Manitoba
CATEGORIES:Client Events
END:VEVENT
BEGIN:VEVENT
DTSTART;VALUE=DATE:20171009
DTEND;VALUE=DATE:20171010
DTSTAMP:20260422T012320
CREATED:20171002T160927Z
LAST-MODIFIED:20171002T160927Z
UID:10001535-1507507200-1507593599@ninecircles.ca
SUMMARY:Nine Circles Closed
DESCRIPTION:Nine Circles is closed for Thanksgiving.
URL:https://ninecircles.ca/event/nine-circles-closed-5/
LOCATION:Manitoba
CATEGORIES:Announcements
END:VEVENT
BEGIN:VEVENT
DTSTART;VALUE=DATE:20171011
DTEND;VALUE=DATE:20171012
DTSTAMP:20260422T012320
CREATED:20171002T160515Z
LAST-MODIFIED:20171002T160515Z
UID:10001533-1507680000-1507766399@ninecircles.ca
SUMMARY:Sweat Lodge Ceremony
DESCRIPTION:For information\, including time and location\, call Peetanacoot at 204-940-6000.
URL:https://ninecircles.ca/event/sweat-lodge-ceremony-2/
LOCATION:Manitoba
CATEGORIES:Client Events
END:VEVENT
BEGIN:VEVENT
DTSTART;TZID=America/Winnipeg:20171011T183000
DTEND;TZID=America/Winnipeg:20171011T193000
DTSTAMP:20260422T012320
CREATED:20230206T210451Z
LAST-MODIFIED:20230206T210451Z
UID:10001489-1507746600-1507750200@ninecircles.ca
SUMMARY:Coffee Talk - All Welcome
DESCRIPTION:Has HIV/AIDS affected your life? This drop-in conversation group is a safe space where you can talk about the changes\, challenges\, inspirations\, and supports in your life as you move forward. The third Wednesday of the month is a group for everyone\, all welcome!\nContact Sandra or Rosa for more information\, 204-940-6000
URL:https://ninecircles.ca/event/coffee-talk-welcome/2017-10-11/
LOCATION:Manitoba
CATEGORIES:People living with HIV only
END:VEVENT
BEGIN:VEVENT
DTSTART;TZID=America/Winnipeg:20171011T183000
DTEND;TZID=America/Winnipeg:20171011T193000
DTSTAMP:20260422T012320
CREATED:20170406T203156Z
LAST-MODIFIED:20180816T214257Z
UID:10001438-1507746600-1507750200@ninecircles.ca
SUMMARY:Coffee Talk - Women's Group
DESCRIPTION:Has HIV/AIDS affected your life? This drop-in conversation group is a safe space where you can talk about the changes\, challenges\, inspirations\, and supports in your life as you move forward. The second Wednesday of the month is a Women’s only group.\nContact Sandra or Rosa for more information\, 204-940-6000
URL:https://ninecircles.ca/event/coffee-talk-women/2017-10-11/
LOCATION:Manitoba
CATEGORIES:People living with HIV only
END:VEVENT
BEGIN:VEVENT
DTSTART;TZID=America/Winnipeg:20171012T110000
DTEND;TZID=America/Winnipeg:20171012T120000
DTSTAMP:20260422T012320
CREATED:20171002T155947Z
LAST-MODIFIED:20171002T155947Z
UID:10000993-1507806000-1507809600@ninecircles.ca
SUMMARY:Q & A for Renters
DESCRIPTION:Join us before food bank on either October 12 or 19 for a presentation from Residential Tenancies Branch about the rights and responsibilities that come along with renting a room\, an apartment\, or a house. \nThere will be time for questions! \nThe presentation will be the same both weeks\, no sign up is required.
URL:https://ninecircles.ca/event/q-a-for-renters/2017-10-12/
LOCATION:Manitoba
CATEGORIES:Client Events,Community / Public Events
END:VEVENT
BEGIN:VEVENT
DTSTART;TZID=America/Winnipeg:20171012T120000
DTEND;TZID=America/Winnipeg:20171012T130000
DTSTAMP:20260422T012320
CREATED:20161212T214203Z
LAST-MODIFIED:20171002T162926Z
UID:10001032-1507809600-1507813200@ninecircles.ca
SUMMARY:Food Bank   L-Z Members
DESCRIPTION:Food Bank is available for members only.  Please phone 204-940-6000 and ask to speak with Tania for assistance.
URL:https://ninecircles.ca/event/food-bank-l-z-members/2017-10-12/
LOCATION:Manitoba
CATEGORIES:People living with HIV only
END:VEVENT
BEGIN:VEVENT
DTSTART;TZID=America/Winnipeg:20171017T140000
DTEND;TZID=America/Winnipeg:20171017T163000
DTSTAMP:20260422T012320
CREATED:20161219T175202Z
LAST-MODIFIED:20171120T182915Z
UID:10001111-1508248800-1508257800@ninecircles.ca
SUMMARY:Massage Appointments Available
DESCRIPTION:Roberston College will be sending massage therapy students to provide free massages to Nine Circles Primary Care and Manitoba HIV Program clients.  To book an appointment\, call 204-940-6000.
URL:https://ninecircles.ca/event/massage-appointments-available-2017-05-01/2017-10-17/
LOCATION:Manitoba
CATEGORIES:Client Events
END:VEVENT
BEGIN:VEVENT
DTSTART;TZID=America/Winnipeg:20171018T120000
DTEND;TZID=America/Winnipeg:20171018T130000
DTSTAMP:20260422T012320
CREATED:20171002T160803Z
LAST-MODIFIED:20171002T160803Z
UID:10001534-1508328000-1508331600@ninecircles.ca
SUMMARY:Indigenous Drumming and Singing
DESCRIPTION:In the round room at Nine Circles.  Everyone is welcome!  Call Peetanacoot at 204-940-6000 for more information.
URL:https://ninecircles.ca/event/indigenous-drumming-singing-2/
LOCATION:Manitoba
CATEGORIES:Client Events
END:VEVENT
END:VCALENDAR