BEGIN:VCALENDAR
VERSION:2.0
PRODID:-//Nine Circles Community Health Centre - ECPv6.15.18//NONSGML v1.0//EN
CALSCALE:GREGORIAN
METHOD:PUBLISH
X-WR-CALNAME:Nine Circles Community Health Centre
X-ORIGINAL-URL:https://ninecircles.ca
X-WR-CALDESC:Events for Nine Circles Community Health Centre
REFRESH-INTERVAL;VALUE=DURATION:PT1H
X-Robots-Tag:noindex
X-PUBLISHED-TTL:PT1H
BEGIN:VTIMEZONE
TZID:America/Winnipeg
BEGIN:DAYLIGHT
TZOFFSETFROM:-0600
TZOFFSETTO:-0500
TZNAME:CDT
DTSTART:20160313T080000
END:DAYLIGHT
BEGIN:STANDARD
TZOFFSETFROM:-0500
TZOFFSETTO:-0600
TZNAME:CST
DTSTART:20161106T070000
END:STANDARD
BEGIN:DAYLIGHT
TZOFFSETFROM:-0600
TZOFFSETTO:-0500
TZNAME:CDT
DTSTART:20170312T080000
END:DAYLIGHT
BEGIN:STANDARD
TZOFFSETFROM:-0500
TZOFFSETTO:-0600
TZNAME:CST
DTSTART:20171105T070000
END:STANDARD
BEGIN:DAYLIGHT
TZOFFSETFROM:-0600
TZOFFSETTO:-0500
TZNAME:CDT
DTSTART:20180311T080000
END:DAYLIGHT
BEGIN:STANDARD
TZOFFSETFROM:-0500
TZOFFSETTO:-0600
TZNAME:CST
DTSTART:20181104T070000
END:STANDARD
BEGIN:DAYLIGHT
TZOFFSETFROM:-0600
TZOFFSETTO:-0500
TZNAME:CDT
DTSTART:20190310T080000
END:DAYLIGHT
BEGIN:STANDARD
TZOFFSETFROM:-0500
TZOFFSETTO:-0600
TZNAME:CST
DTSTART:20191103T070000
END:STANDARD
END:VTIMEZONE
BEGIN:VEVENT
DTSTART;TZID=America/Winnipeg:20171220T120000
DTEND;TZID=America/Winnipeg:20171220T130000
DTSTAMP:20260423T154242
CREATED:20170124T185027Z
LAST-MODIFIED:20180420T143532Z
UID:10001301-1513771200-1513774800@ninecircles.ca
SUMMARY:Indigenous Traditional Drumming and Singing
DESCRIPTION:Come and sing a song and learn a song!\nAnyone can join.  Participants are encouraged to attend all lessons but drop-ins are always welcome.\nLight snacks provided.\nQuestions?  Call Peetanacoot at 204-940-6000
URL:https://ninecircles.ca/event/indigenous-traditional-drumming-singing-2017-06-28/2017-12-20/
LOCATION:Manitoba
CATEGORIES:Client Events
END:VEVENT
BEGIN:VEVENT
DTSTART;TZID=America/Winnipeg:20171220T183000
DTEND;TZID=America/Winnipeg:20171220T193000
DTSTAMP:20260423T154242
CREATED:20170406T203449Z
LAST-MODIFIED:20200316T211103Z
UID:10001457-1513794600-1513798200@ninecircles.ca
SUMMARY:Coffee Talk - All Welcome
DESCRIPTION:Has HIV/AIDS affected your life? This drop-in conversation group is a safe space where you can talk about the changes\, challenges\, inspirations\, and supports in your life as you move forward. The third Wednesday of the month is a group for everyone\, all welcome!\nContact Sandra or Rosa for more information\, 204-940-6000
URL:https://ninecircles.ca/event/coffee-talk-welcome/2017-12-20/
LOCATION:Manitoba
CATEGORIES:People living with HIV only
END:VEVENT
BEGIN:VEVENT
DTSTART;TZID=America/Winnipeg:20171221T110000
DTEND;TZID=America/Winnipeg:20171221T120000
DTSTAMP:20260423T154242
CREATED:20170406T194835Z
LAST-MODIFIED:20170406T194917Z
UID:10001360-1513854000-1513857600@ninecircles.ca
SUMMARY:Viral Videos
DESCRIPTION:You are welcome to come and watch a short video with us in the Gathering Place while you wait for your food bank!
URL:https://ninecircles.ca/event/viral-videos/2017-12-21/
LOCATION:Manitoba
CATEGORIES:Client Events
END:VEVENT
BEGIN:VEVENT
DTSTART;TZID=America/Winnipeg:20171221T120000
DTEND;TZID=America/Winnipeg:20171221T130000
DTSTAMP:20260423T154242
CREATED:20161212T214203Z
LAST-MODIFIED:20171002T162926Z
UID:10001037-1513857600-1513861200@ninecircles.ca
SUMMARY:Food Bank   L-Z Members
DESCRIPTION:Food Bank is available for members only.  Please phone 204-940-6000 and ask to speak with Tania for assistance.
URL:https://ninecircles.ca/event/food-bank-l-z-members/2017-12-21/
LOCATION:Manitoba
CATEGORIES:People living with HIV only
END:VEVENT
BEGIN:VEVENT
DTSTART;VALUE=DATE:20171225
DTEND;VALUE=DATE:20171226
DTSTAMP:20260423T154242
CREATED:20170406T212834Z
LAST-MODIFIED:20171027T154615Z
UID:10000978-1514160000-1514246399@ninecircles.ca
SUMMARY:Nine Circles Closed
DESCRIPTION:Nine Circles will be closed today.
URL:https://ninecircles.ca/event/nine-circles-closed-3/
LOCATION:Manitoba
CATEGORIES:Announcements
END:VEVENT
BEGIN:VEVENT
DTSTART;VALUE=DATE:20171226
DTEND;VALUE=DATE:20171227
DTSTAMP:20260423T154242
CREATED:20170406T212757Z
LAST-MODIFIED:20171027T154650Z
UID:10001531-1514246400-1514332799@ninecircles.ca
SUMMARY:Nine Circles Closed
DESCRIPTION:Nine Circles will be closed today.
URL:https://ninecircles.ca/event/nine-circles-closed-2/
LOCATION:Manitoba
CATEGORIES:Announcements
END:VEVENT
BEGIN:VEVENT
DTSTART;TZID=America/Winnipeg:20171227T120000
DTEND;TZID=America/Winnipeg:20171227T130000
DTSTAMP:20260423T154242
CREATED:20170124T185027Z
LAST-MODIFIED:20180420T143532Z
UID:10001302-1514376000-1514379600@ninecircles.ca
SUMMARY:Indigenous Traditional Drumming and Singing
DESCRIPTION:Come and sing a song and learn a song!\nAnyone can join.  Participants are encouraged to attend all lessons but drop-ins are always welcome.\nLight snacks provided.\nQuestions?  Call Peetanacoot at 204-940-6000
URL:https://ninecircles.ca/event/indigenous-traditional-drumming-singing-2017-06-28/2017-12-27/
LOCATION:Manitoba
CATEGORIES:Client Events
END:VEVENT
BEGIN:VEVENT
DTSTART;TZID=America/Winnipeg:20171227T183000
DTEND;TZID=America/Winnipeg:20171227T193000
DTSTAMP:20260423T154242
CREATED:20170406T204415Z
LAST-MODIFIED:20171002T165057Z
UID:10001527-1514399400-1514403000@ninecircles.ca
SUMMARY:Coffee Talk - HIV +1
DESCRIPTION:Has HIV/AIDS affected your life? This drop-in conversation group is a safe space where you can talk about the changes\, challenges\, inspirations\, and supports in your life as you move forward. The fourth Wednesday of the month is a week for HIV positive people and a plus one!  Your plus one could be anyone in your life that supports you\, like a partner\, a family member\, a friend or a caregiver.\nContact Sandra or Rosa for more information\, 204-940-6000
URL:https://ninecircles.ca/event/coffee-talk-hiv-1/2017-12-27/
LOCATION:Manitoba
CATEGORIES:People living with HIV only
END:VEVENT
BEGIN:VEVENT
DTSTART;VALUE=DATE:20171228
DTEND;VALUE=DATE:20171229
DTSTAMP:20260423T154242
CREATED:20171002T163516Z
LAST-MODIFIED:20171002T163516Z
UID:10001537-1514419200-1514505599@ninecircles.ca
SUMMARY:No Food Bank This Week
DESCRIPTION:The food bank will be closed this week. \nFood bank will resume on: \nThursday\, January 4th for A-K members\nThursday\, January 11th for L-Z members
URL:https://ninecircles.ca/event/no-food-bank-week/
LOCATION:Manitoba
CATEGORIES:Announcements
END:VEVENT
BEGIN:VEVENT
DTSTART;VALUE=DATE:20180101
DTEND;VALUE=DATE:20180102
DTSTAMP:20260423T154242
CREATED:20170425T161017Z
LAST-MODIFIED:20171027T154752Z
UID:10000984-1514764800-1514851199@ninecircles.ca
SUMMARY:Nine Circles Closed
DESCRIPTION:Nine Circles will be closed today.
URL:https://ninecircles.ca/event/nine-circles-closed-4/
LOCATION:Manitoba
CATEGORIES:Announcements
END:VEVENT
BEGIN:VEVENT
DTSTART;TZID=America/Winnipeg:20180103T120000
DTEND;TZID=America/Winnipeg:20180103T130000
DTSTAMP:20260423T154242
CREATED:20170124T185027Z
LAST-MODIFIED:20180420T143532Z
UID:10001303-1514980800-1514984400@ninecircles.ca
SUMMARY:Indigenous Traditional Drumming and Singing
DESCRIPTION:Come and sing a song and learn a song!\nAnyone can join.  Participants are encouraged to attend all lessons but drop-ins are always welcome.\nLight snacks provided.\nQuestions?  Call Peetanacoot at 204-940-6000
URL:https://ninecircles.ca/event/indigenous-traditional-drumming-singing-2017-06-28/2018-01-03/
LOCATION:Manitoba
CATEGORIES:Client Events
END:VEVENT
BEGIN:VEVENT
DTSTART;TZID=America/Winnipeg:20180103T183000
DTEND;TZID=America/Winnipeg:20180103T193000
DTSTAMP:20260423T154242
CREATED:20170406T202411Z
LAST-MODIFIED:20190703T212055Z
UID:10001407-1515004200-1515007800@ninecircles.ca
SUMMARY:Coffee Talk - Men's Group
DESCRIPTION:Has HIV/AIDS affected your life?  This drop-in conversation group is a safe space where you can talk about the changes\, challenges\, inspirations\, and supports in your life as you move forward.  The first Wednesday of the month is Men’s only group.\nContact Sandra or Rosa for more information\, 204-940-6000
URL:https://ninecircles.ca/event/coffee-talk-msm/2018-01-03/
LOCATION:Manitoba
CATEGORIES:People living with HIV only
END:VEVENT
BEGIN:VEVENT
DTSTART;TZID=America/Winnipeg:20180104T110000
DTEND;TZID=America/Winnipeg:20180104T120000
DTSTAMP:20260423T154242
CREATED:20170406T194835Z
LAST-MODIFIED:20180817T162404Z
UID:10001362-1515063600-1515067200@ninecircles.ca
SUMMARY:Viral Videos
DESCRIPTION:You are welcome to come and watch a short video with us in the Gathering Place while you wait for your food bank!
URL:https://ninecircles.ca/event/viral-videos-2017-08-10/2018-01-04/
LOCATION:Manitoba
CATEGORIES:Client Events
END:VEVENT
BEGIN:VEVENT
DTSTART;TZID=America/Winnipeg:20180104T120000
DTEND;TZID=America/Winnipeg:20180104T130000
DTSTAMP:20260423T154242
CREATED:20161212T214527Z
LAST-MODIFIED:20180618T151112Z
UID:10001080-1515067200-1515070800@ninecircles.ca
SUMMARY:Food Bank   A-K Members
DESCRIPTION:Food Bank is available for members only.  Please phone 204-940-6000 and ask to speak with Tania for assistance.
URL:https://ninecircles.ca/event/food-bank-k-members-2017-06-29/2018-01-04/
LOCATION:Manitoba
CATEGORIES:People living with HIV only
END:VEVENT
BEGIN:VEVENT
DTSTART;TZID=America/Winnipeg:20180105T143000
DTEND;TZID=America/Winnipeg:20180105T153000
DTSTAMP:20260423T154242
CREATED:20161219T182627Z
LAST-MODIFIED:20190220T174831Z
UID:10001238-1515162600-1515166200@ninecircles.ca
SUMMARY:What's Your Goal?
DESCRIPTION:Join us for our monthly group dedicated to goal-setting on the first Friday of every month at 2:30! \nDuring the group we will: \n-Set our own personal action plans – something you would like to accomplish\n-Learn problem solving techniques\n-Check in on our progress\n-Share successes\n-Brainstorm ideas for next time! \nYour goal can be anything that you would like.  Would you like to work on your health\, diet\, communication skills\, your home\, your habits… you name it! \nRefreshments Provided\, All Welcome!
URL:https://ninecircles.ca/event/whats-your-goal/2018-01-05/
LOCATION:Manitoba
CATEGORIES:Client Events
END:VEVENT
BEGIN:VEVENT
DTSTART;TZID=America/Winnipeg:20180110T120000
DTEND;TZID=America/Winnipeg:20180110T130000
DTSTAMP:20260423T154242
CREATED:20170124T185027Z
LAST-MODIFIED:20180420T143532Z
UID:10001304-1515585600-1515589200@ninecircles.ca
SUMMARY:Indigenous Traditional Drumming and Singing
DESCRIPTION:Come and sing a song and learn a song!\nAnyone can join.  Participants are encouraged to attend all lessons but drop-ins are always welcome.\nLight snacks provided.\nQuestions?  Call Peetanacoot at 204-940-6000
URL:https://ninecircles.ca/event/indigenous-traditional-drumming-singing-2017-06-28/2018-01-10/
LOCATION:Manitoba
CATEGORIES:Client Events
END:VEVENT
BEGIN:VEVENT
DTSTART;TZID=America/Winnipeg:20180110T183000
DTEND;TZID=America/Winnipeg:20180110T193000
DTSTAMP:20260423T154242
CREATED:20230206T210451Z
LAST-MODIFIED:20230206T210451Z
UID:10001492-1515609000-1515612600@ninecircles.ca
SUMMARY:Coffee Talk - All Welcome
DESCRIPTION:Has HIV/AIDS affected your life? This drop-in conversation group is a safe space where you can talk about the changes\, challenges\, inspirations\, and supports in your life as you move forward. The third Wednesday of the month is a group for everyone\, all welcome!\nContact Sandra or Rosa for more information\, 204-940-6000
URL:https://ninecircles.ca/event/coffee-talk-welcome/2018-01-10/
LOCATION:Manitoba
CATEGORIES:People living with HIV only
END:VEVENT
BEGIN:VEVENT
DTSTART;TZID=America/Winnipeg:20180110T183000
DTEND;TZID=America/Winnipeg:20180110T193000
DTSTAMP:20260423T154242
CREATED:20170406T203156Z
LAST-MODIFIED:20180816T214257Z
UID:10001441-1515609000-1515612600@ninecircles.ca
SUMMARY:Coffee Talk - Women's Group
DESCRIPTION:Has HIV/AIDS affected your life? This drop-in conversation group is a safe space where you can talk about the changes\, challenges\, inspirations\, and supports in your life as you move forward. The second Wednesday of the month is a Women’s only group.\nContact Sandra or Rosa for more information\, 204-940-6000
URL:https://ninecircles.ca/event/coffee-talk-women/2018-01-10/
LOCATION:Manitoba
CATEGORIES:People living with HIV only
END:VEVENT
BEGIN:VEVENT
DTSTART;TZID=America/Winnipeg:20180111T110000
DTEND;TZID=America/Winnipeg:20180111T120000
DTSTAMP:20260423T154242
CREATED:20170406T194835Z
LAST-MODIFIED:20180817T162404Z
UID:10001363-1515668400-1515672000@ninecircles.ca
SUMMARY:Viral Videos
DESCRIPTION:You are welcome to come and watch a short video with us in the Gathering Place while you wait for your food bank!
URL:https://ninecircles.ca/event/viral-videos-2017-08-10/2018-01-11/
LOCATION:Manitoba
CATEGORIES:Client Events
END:VEVENT
BEGIN:VEVENT
DTSTART;TZID=America/Winnipeg:20180111T120000
DTEND;TZID=America/Winnipeg:20180111T130000
DTSTAMP:20260423T154242
CREATED:20161212T214203Z
LAST-MODIFIED:20180720T212253Z
UID:10001038-1515672000-1515675600@ninecircles.ca
SUMMARY:Food Bank   L-Z Members
DESCRIPTION:Food Bank is available for members only.  Please phone 204-940-6000 and ask to speak with Tania for assistance.
URL:https://ninecircles.ca/event/food-bank-l-z-members-2017-06-08/2018-01-11/
LOCATION:Manitoba
CATEGORIES:People living with HIV only
END:VEVENT
BEGIN:VEVENT
DTSTART;TZID=America/Winnipeg:20180116T140000
DTEND;TZID=America/Winnipeg:20180116T163000
DTSTAMP:20260423T154242
CREATED:20161219T175202Z
LAST-MODIFIED:20171120T182915Z
UID:10001116-1516111200-1516120200@ninecircles.ca
SUMMARY:Massage Appointments Available
DESCRIPTION:Roberston College will be sending massage therapy students to provide free massages to Nine Circles Primary Care and Manitoba HIV Program clients.  To book an appointment\, call 204-940-6000.
URL:https://ninecircles.ca/event/massage-appointments-available-2017-05-01/2018-01-16/
LOCATION:Manitoba
CATEGORIES:Client Events
END:VEVENT
BEGIN:VEVENT
DTSTART;TZID=America/Winnipeg:20180117T120000
DTEND;TZID=America/Winnipeg:20180117T130000
DTSTAMP:20260423T154242
CREATED:20170124T185027Z
LAST-MODIFIED:20180420T143532Z
UID:10001305-1516190400-1516194000@ninecircles.ca
SUMMARY:Indigenous Traditional Drumming and Singing
DESCRIPTION:Come and sing a song and learn a song!\nAnyone can join.  Participants are encouraged to attend all lessons but drop-ins are always welcome.\nLight snacks provided.\nQuestions?  Call Peetanacoot at 204-940-6000
URL:https://ninecircles.ca/event/indigenous-traditional-drumming-singing-2017-06-28/2018-01-17/
LOCATION:Manitoba
CATEGORIES:Client Events
END:VEVENT
BEGIN:VEVENT
DTSTART;TZID=America/Winnipeg:20180117T183000
DTEND;TZID=America/Winnipeg:20180117T193000
DTSTAMP:20260423T154242
CREATED:20170406T203449Z
LAST-MODIFIED:20200316T211103Z
UID:10001458-1516213800-1516217400@ninecircles.ca
SUMMARY:Coffee Talk - All Welcome
DESCRIPTION:Has HIV/AIDS affected your life? This drop-in conversation group is a safe space where you can talk about the changes\, challenges\, inspirations\, and supports in your life as you move forward. The third Wednesday of the month is a group for everyone\, all welcome!\nContact Sandra or Rosa for more information\, 204-940-6000
URL:https://ninecircles.ca/event/coffee-talk-welcome/2018-01-17/
LOCATION:Manitoba
CATEGORIES:People living with HIV only
END:VEVENT
BEGIN:VEVENT
DTSTART;TZID=America/Winnipeg:20180118T110000
DTEND;TZID=America/Winnipeg:20180118T120000
DTSTAMP:20260423T154242
CREATED:20170406T194835Z
LAST-MODIFIED:20180817T162404Z
UID:10001364-1516273200-1516276800@ninecircles.ca
SUMMARY:Viral Videos
DESCRIPTION:You are welcome to come and watch a short video with us in the Gathering Place while you wait for your food bank!
URL:https://ninecircles.ca/event/viral-videos-2017-08-10/2018-01-18/
LOCATION:Manitoba
CATEGORIES:Client Events
END:VEVENT
BEGIN:VEVENT
DTSTART;TZID=America/Winnipeg:20180118T120000
DTEND;TZID=America/Winnipeg:20180118T130000
DTSTAMP:20260423T154242
CREATED:20161212T214527Z
LAST-MODIFIED:20180618T151112Z
UID:10001081-1516276800-1516280400@ninecircles.ca
SUMMARY:Food Bank   A-K Members
DESCRIPTION:Food Bank is available for members only.  Please phone 204-940-6000 and ask to speak with Tania for assistance.
URL:https://ninecircles.ca/event/food-bank-k-members-2017-06-29/2018-01-18/
LOCATION:Manitoba
CATEGORIES:People living with HIV only
END:VEVENT
BEGIN:VEVENT
DTSTART;TZID=America/Winnipeg:20180123T133000
DTEND;TZID=America/Winnipeg:20180123T160000
DTSTAMP:20260423T154242
CREATED:20180109T150749Z
LAST-MODIFIED:20180109T150749Z
UID:10001545-1516714200-1516723200@ninecircles.ca
SUMMARY:Positive Self-Management Program
DESCRIPTION:Join us for this 6 week program to help you take control of your health! \nTuesdays\, January 23 – February 27\n1:30-4:00pm \nTopics include:\n-Managing HIV medications (ART)\n-Disclosure\n-Dealing with fatigue and frustration\n-Monitoring symptoms\n-Starting an exercise program\n-Managing pain\n-Eating well to live well\n-Working with your doctor\n-Setting and meeting your health goals \nPeople living with HIV and their supports are welcome to attend!\nSign up with Shauna or Sri at 204-940-6000
URL:https://ninecircles.ca/event/positive-self-management-program/2018-01-23/
LOCATION:Manitoba
CATEGORIES:People living with HIV only
END:VEVENT
BEGIN:VEVENT
DTSTART;TZID=America/Winnipeg:20180124T120000
DTEND;TZID=America/Winnipeg:20180124T130000
DTSTAMP:20260423T154242
CREATED:20170124T185027Z
LAST-MODIFIED:20180420T143532Z
UID:10001306-1516795200-1516798800@ninecircles.ca
SUMMARY:Indigenous Traditional Drumming and Singing
DESCRIPTION:Come and sing a song and learn a song!\nAnyone can join.  Participants are encouraged to attend all lessons but drop-ins are always welcome.\nLight snacks provided.\nQuestions?  Call Peetanacoot at 204-940-6000
URL:https://ninecircles.ca/event/indigenous-traditional-drumming-singing-2017-06-28/2018-01-24/
LOCATION:Manitoba
CATEGORIES:Client Events
END:VEVENT
BEGIN:VEVENT
DTSTART;TZID=America/Winnipeg:20180124T183000
DTEND;TZID=America/Winnipeg:20180124T193000
DTSTAMP:20260423T154242
CREATED:20170406T204415Z
LAST-MODIFIED:20171002T165057Z
UID:10001528-1516818600-1516822200@ninecircles.ca
SUMMARY:Coffee Talk - HIV +1
DESCRIPTION:Has HIV/AIDS affected your life? This drop-in conversation group is a safe space where you can talk about the changes\, challenges\, inspirations\, and supports in your life as you move forward. The fourth Wednesday of the month is a week for HIV positive people and a plus one!  Your plus one could be anyone in your life that supports you\, like a partner\, a family member\, a friend or a caregiver.\nContact Sandra or Rosa for more information\, 204-940-6000
URL:https://ninecircles.ca/event/coffee-talk-hiv-1/2018-01-24/
LOCATION:Manitoba
CATEGORIES:People living with HIV only
END:VEVENT
BEGIN:VEVENT
DTSTART;TZID=America/Winnipeg:20180125T110000
DTEND;TZID=America/Winnipeg:20180125T120000
DTSTAMP:20260423T154242
CREATED:20170406T194835Z
LAST-MODIFIED:20180817T162404Z
UID:10001365-1516878000-1516881600@ninecircles.ca
SUMMARY:Viral Videos
DESCRIPTION:You are welcome to come and watch a short video with us in the Gathering Place while you wait for your food bank!
URL:https://ninecircles.ca/event/viral-videos-2017-08-10/2018-01-25/
LOCATION:Manitoba
CATEGORIES:Client Events
END:VEVENT
BEGIN:VEVENT
DTSTART;TZID=America/Winnipeg:20180125T120000
DTEND;TZID=America/Winnipeg:20180125T130000
DTSTAMP:20260423T154242
CREATED:20161212T214203Z
LAST-MODIFIED:20180720T212253Z
UID:10001039-1516881600-1516885200@ninecircles.ca
SUMMARY:Food Bank   L-Z Members
DESCRIPTION:Food Bank is available for members only.  Please phone 204-940-6000 and ask to speak with Tania for assistance.
URL:https://ninecircles.ca/event/food-bank-l-z-members-2017-06-08/2018-01-25/
LOCATION:Manitoba
CATEGORIES:People living with HIV only
END:VEVENT
END:VCALENDAR