BEGIN:VCALENDAR
VERSION:2.0
PRODID:-//Nine Circles Community Health Centre - ECPv6.15.18//NONSGML v1.0//EN
CALSCALE:GREGORIAN
METHOD:PUBLISH
X-WR-CALNAME:Nine Circles Community Health Centre
X-ORIGINAL-URL:https://ninecircles.ca
X-WR-CALDESC:Events for Nine Circles Community Health Centre
REFRESH-INTERVAL;VALUE=DURATION:PT1H
X-Robots-Tag:noindex
X-PUBLISHED-TTL:PT1H
BEGIN:VTIMEZONE
TZID:America/Winnipeg
BEGIN:DAYLIGHT
TZOFFSETFROM:-0600
TZOFFSETTO:-0500
TZNAME:CDT
DTSTART:20170312T080000
END:DAYLIGHT
BEGIN:STANDARD
TZOFFSETFROM:-0500
TZOFFSETTO:-0600
TZNAME:CST
DTSTART:20171105T070000
END:STANDARD
BEGIN:DAYLIGHT
TZOFFSETFROM:-0600
TZOFFSETTO:-0500
TZNAME:CDT
DTSTART:20180311T080000
END:DAYLIGHT
BEGIN:STANDARD
TZOFFSETFROM:-0500
TZOFFSETTO:-0600
TZNAME:CST
DTSTART:20181104T070000
END:STANDARD
BEGIN:DAYLIGHT
TZOFFSETFROM:-0600
TZOFFSETTO:-0500
TZNAME:CDT
DTSTART:20190310T080000
END:DAYLIGHT
BEGIN:STANDARD
TZOFFSETFROM:-0500
TZOFFSETTO:-0600
TZNAME:CST
DTSTART:20191103T070000
END:STANDARD
END:VTIMEZONE
BEGIN:VEVENT
DTSTART;TZID=America/Winnipeg:20180307T120000
DTEND;TZID=America/Winnipeg:20180307T130000
DTSTAMP:20260425T114152
CREATED:20170124T185027Z
LAST-MODIFIED:20180420T143532Z
UID:10001312-1520424000-1520427600@ninecircles.ca
SUMMARY:Indigenous Traditional Drumming and Singing
DESCRIPTION:Come and sing a song and learn a song!\nAnyone can join.  Participants are encouraged to attend all lessons but drop-ins are always welcome.\nLight snacks provided.\nQuestions?  Call Peetanacoot at 204-940-6000
URL:https://ninecircles.ca/event/indigenous-traditional-drumming-singing-2017-06-28/2018-03-07/
LOCATION:Manitoba
CATEGORIES:Client Events
END:VEVENT
BEGIN:VEVENT
DTSTART;TZID=America/Winnipeg:20180307T183000
DTEND;TZID=America/Winnipeg:20180307T193000
DTSTAMP:20260425T114152
CREATED:20170406T202411Z
LAST-MODIFIED:20190703T212055Z
UID:10001409-1520447400-1520451000@ninecircles.ca
SUMMARY:Coffee Talk - Men's Group
DESCRIPTION:Has HIV/AIDS affected your life?  This drop-in conversation group is a safe space where you can talk about the changes\, challenges\, inspirations\, and supports in your life as you move forward.  The first Wednesday of the month is Men’s only group.\nContact Sandra or Rosa for more information\, 204-940-6000
URL:https://ninecircles.ca/event/coffee-talk-msm/2018-03-07/
LOCATION:Manitoba
CATEGORIES:People living with HIV only
END:VEVENT
BEGIN:VEVENT
DTSTART;TZID=America/Winnipeg:20180308T110000
DTEND;TZID=America/Winnipeg:20180308T120000
DTSTAMP:20260425T114152
CREATED:20170406T194835Z
LAST-MODIFIED:20180817T162404Z
UID:10001371-1520506800-1520510400@ninecircles.ca
SUMMARY:Viral Videos
DESCRIPTION:You are welcome to come and watch a short video with us in the Gathering Place while you wait for your food bank!
URL:https://ninecircles.ca/event/viral-videos-2017-08-10/2018-03-08/
LOCATION:Manitoba
CATEGORIES:Client Events
END:VEVENT
BEGIN:VEVENT
DTSTART;TZID=America/Winnipeg:20180308T120000
DTEND;TZID=America/Winnipeg:20180308T130000
DTSTAMP:20260425T114152
CREATED:20161212T214203Z
LAST-MODIFIED:20180720T212253Z
UID:10001042-1520510400-1520514000@ninecircles.ca
SUMMARY:Food Bank   L-Z Members
DESCRIPTION:Food Bank is available for members only.  Please phone 204-940-6000 and ask to speak with Tania for assistance.
URL:https://ninecircles.ca/event/food-bank-l-z-members-2017-06-08/2018-03-08/
LOCATION:Manitoba
CATEGORIES:People living with HIV only
END:VEVENT
BEGIN:VEVENT
DTSTART;TZID=America/Winnipeg:20180313T140000
DTEND;TZID=America/Winnipeg:20180313T163000
DTSTAMP:20260425T114152
CREATED:20161219T175202Z
LAST-MODIFIED:20171120T182915Z
UID:10001120-1520949600-1520958600@ninecircles.ca
SUMMARY:Massage Appointments Available
DESCRIPTION:Roberston College will be sending massage therapy students to provide free massages to Nine Circles Primary Care and Manitoba HIV Program clients.  To book an appointment\, call 204-940-6000.
URL:https://ninecircles.ca/event/massage-appointments-available-2017-05-01/2018-03-13/
LOCATION:Manitoba
CATEGORIES:Client Events
END:VEVENT
BEGIN:VEVENT
DTSTART;TZID=America/Winnipeg:20180314T120000
DTEND;TZID=America/Winnipeg:20180314T130000
DTSTAMP:20260425T114152
CREATED:20170124T185027Z
LAST-MODIFIED:20180420T143532Z
UID:10001313-1521028800-1521032400@ninecircles.ca
SUMMARY:Indigenous Traditional Drumming and Singing
DESCRIPTION:Come and sing a song and learn a song!\nAnyone can join.  Participants are encouraged to attend all lessons but drop-ins are always welcome.\nLight snacks provided.\nQuestions?  Call Peetanacoot at 204-940-6000
URL:https://ninecircles.ca/event/indigenous-traditional-drumming-singing-2017-06-28/2018-03-14/
LOCATION:Manitoba
CATEGORIES:Client Events
END:VEVENT
BEGIN:VEVENT
DTSTART;TZID=America/Winnipeg:20180314T183000
DTEND;TZID=America/Winnipeg:20180314T193000
DTSTAMP:20260425T114152
CREATED:20230206T210451Z
LAST-MODIFIED:20230206T210451Z
UID:10001494-1521052200-1521055800@ninecircles.ca
SUMMARY:Coffee Talk - All Welcome
DESCRIPTION:Has HIV/AIDS affected your life? This drop-in conversation group is a safe space where you can talk about the changes\, challenges\, inspirations\, and supports in your life as you move forward. The third Wednesday of the month is a group for everyone\, all welcome!\nContact Sandra or Rosa for more information\, 204-940-6000
URL:https://ninecircles.ca/event/coffee-talk-welcome/2018-03-14/
LOCATION:Manitoba
CATEGORIES:People living with HIV only
END:VEVENT
BEGIN:VEVENT
DTSTART;TZID=America/Winnipeg:20180314T183000
DTEND;TZID=America/Winnipeg:20180314T193000
DTSTAMP:20260425T114152
CREATED:20170406T203156Z
LAST-MODIFIED:20180816T214257Z
UID:10001443-1521052200-1521055800@ninecircles.ca
SUMMARY:Coffee Talk - Women's Group
DESCRIPTION:Has HIV/AIDS affected your life? This drop-in conversation group is a safe space where you can talk about the changes\, challenges\, inspirations\, and supports in your life as you move forward. The second Wednesday of the month is a Women’s only group.\nContact Sandra or Rosa for more information\, 204-940-6000
URL:https://ninecircles.ca/event/coffee-talk-women/2018-03-14/
LOCATION:Manitoba
CATEGORIES:People living with HIV only
END:VEVENT
BEGIN:VEVENT
DTSTART;TZID=America/Winnipeg:20180315T110000
DTEND;TZID=America/Winnipeg:20180315T120000
DTSTAMP:20260425T114152
CREATED:20170406T194835Z
LAST-MODIFIED:20180817T162404Z
UID:10001372-1521111600-1521115200@ninecircles.ca
SUMMARY:Viral Videos
DESCRIPTION:You are welcome to come and watch a short video with us in the Gathering Place while you wait for your food bank!
URL:https://ninecircles.ca/event/viral-videos-2017-08-10/2018-03-15/
LOCATION:Manitoba
CATEGORIES:Client Events
END:VEVENT
BEGIN:VEVENT
DTSTART;TZID=America/Winnipeg:20180315T120000
DTEND;TZID=America/Winnipeg:20180315T130000
DTSTAMP:20260425T114152
CREATED:20161212T214527Z
LAST-MODIFIED:20180618T151112Z
UID:10001085-1521115200-1521118800@ninecircles.ca
SUMMARY:Food Bank   A-K Members
DESCRIPTION:Food Bank is available for members only.  Please phone 204-940-6000 and ask to speak with Tania for assistance.
URL:https://ninecircles.ca/event/food-bank-k-members-2017-06-29/2018-03-15/
LOCATION:Manitoba
CATEGORIES:People living with HIV only
END:VEVENT
BEGIN:VEVENT
DTSTART;TZID=America/Winnipeg:20180321T110000
DTEND;TZID=America/Winnipeg:20180321T130000
DTSTAMP:20260425T114152
CREATED:20170307T215815Z
LAST-MODIFIED:20180130T151511Z
UID:10001325-1521630000-1521637200@ninecircles.ca
SUMMARY:Honouring Spring Ceremony and Feast
DESCRIPTION:Everyone is welcome to join us for a feast to honour the start of Spring. \nYou can bring tobacco for offering. \nCall Peetanacoot at 204-940-6000 for more information or just come down!
URL:https://ninecircles.ca/event/honouring-spring-ceremony/
LOCATION:Manitoba
CATEGORIES:Community / Public Events
END:VEVENT
BEGIN:VEVENT
DTSTART;TZID=America/Winnipeg:20180321T120000
DTEND;TZID=America/Winnipeg:20180321T130000
DTSTAMP:20260425T114152
CREATED:20170124T185027Z
LAST-MODIFIED:20180420T143532Z
UID:10001314-1521633600-1521637200@ninecircles.ca
SUMMARY:Indigenous Traditional Drumming and Singing
DESCRIPTION:Come and sing a song and learn a song!\nAnyone can join.  Participants are encouraged to attend all lessons but drop-ins are always welcome.\nLight snacks provided.\nQuestions?  Call Peetanacoot at 204-940-6000
URL:https://ninecircles.ca/event/indigenous-traditional-drumming-singing-2017-06-28/2018-03-21/
LOCATION:Manitoba
CATEGORIES:Client Events
END:VEVENT
BEGIN:VEVENT
DTSTART;TZID=America/Winnipeg:20180321T183000
DTEND;TZID=America/Winnipeg:20180321T193000
DTSTAMP:20260425T114152
CREATED:20170406T203449Z
LAST-MODIFIED:20200316T211103Z
UID:10001460-1521657000-1521660600@ninecircles.ca
SUMMARY:Coffee Talk - All Welcome
DESCRIPTION:Has HIV/AIDS affected your life? This drop-in conversation group is a safe space where you can talk about the changes\, challenges\, inspirations\, and supports in your life as you move forward. The third Wednesday of the month is a group for everyone\, all welcome!\nContact Sandra or Rosa for more information\, 204-940-6000
URL:https://ninecircles.ca/event/coffee-talk-welcome/2018-03-21/
LOCATION:Manitoba
CATEGORIES:People living with HIV only
END:VEVENT
BEGIN:VEVENT
DTSTART;TZID=America/Winnipeg:20180322T110000
DTEND;TZID=America/Winnipeg:20180322T120000
DTSTAMP:20260425T114152
CREATED:20170406T194835Z
LAST-MODIFIED:20180817T162404Z
UID:10001373-1521716400-1521720000@ninecircles.ca
SUMMARY:Viral Videos
DESCRIPTION:You are welcome to come and watch a short video with us in the Gathering Place while you wait for your food bank!
URL:https://ninecircles.ca/event/viral-videos-2017-08-10/2018-03-22/
LOCATION:Manitoba
CATEGORIES:Client Events
END:VEVENT
BEGIN:VEVENT
DTSTART;TZID=America/Winnipeg:20180322T120000
DTEND;TZID=America/Winnipeg:20180322T130000
DTSTAMP:20260425T114152
CREATED:20161212T214203Z
LAST-MODIFIED:20180720T212253Z
UID:10001043-1521720000-1521723600@ninecircles.ca
SUMMARY:Food Bank   L-Z Members
DESCRIPTION:Food Bank is available for members only.  Please phone 204-940-6000 and ask to speak with Tania for assistance.
URL:https://ninecircles.ca/event/food-bank-l-z-members-2017-06-08/2018-03-22/
LOCATION:Manitoba
CATEGORIES:People living with HIV only
END:VEVENT
BEGIN:VEVENT
DTSTART;TZID=America/Winnipeg:20180327T140000
DTEND;TZID=America/Winnipeg:20180327T163000
DTSTAMP:20260425T114152
CREATED:20161219T175202Z
LAST-MODIFIED:20171120T182915Z
UID:10001121-1522159200-1522168200@ninecircles.ca
SUMMARY:Massage Appointments Available
DESCRIPTION:Roberston College will be sending massage therapy students to provide free massages to Nine Circles Primary Care and Manitoba HIV Program clients.  To book an appointment\, call 204-940-6000.
URL:https://ninecircles.ca/event/massage-appointments-available-2017-05-01/2018-03-27/
LOCATION:Manitoba
CATEGORIES:Client Events
END:VEVENT
BEGIN:VEVENT
DTSTART;TZID=America/Winnipeg:20180328T120000
DTEND;TZID=America/Winnipeg:20180328T130000
DTSTAMP:20260425T114152
CREATED:20170124T185027Z
LAST-MODIFIED:20180420T143532Z
UID:10001315-1522238400-1522242000@ninecircles.ca
SUMMARY:Indigenous Traditional Drumming and Singing
DESCRIPTION:Come and sing a song and learn a song!\nAnyone can join.  Participants are encouraged to attend all lessons but drop-ins are always welcome.\nLight snacks provided.\nQuestions?  Call Peetanacoot at 204-940-6000
URL:https://ninecircles.ca/event/indigenous-traditional-drumming-singing-2017-06-28/2018-03-28/
LOCATION:Manitoba
CATEGORIES:Client Events
END:VEVENT
BEGIN:VEVENT
DTSTART;TZID=America/Winnipeg:20180328T183000
DTEND;TZID=America/Winnipeg:20180328T193000
DTSTAMP:20260425T114152
CREATED:20170406T204415Z
LAST-MODIFIED:20171002T165057Z
UID:10001530-1522261800-1522265400@ninecircles.ca
SUMMARY:Coffee Talk - HIV +1
DESCRIPTION:Has HIV/AIDS affected your life? This drop-in conversation group is a safe space where you can talk about the changes\, challenges\, inspirations\, and supports in your life as you move forward. The fourth Wednesday of the month is a week for HIV positive people and a plus one!  Your plus one could be anyone in your life that supports you\, like a partner\, a family member\, a friend or a caregiver.\nContact Sandra or Rosa for more information\, 204-940-6000
URL:https://ninecircles.ca/event/coffee-talk-hiv-1/2018-03-28/
LOCATION:Manitoba
CATEGORIES:People living with HIV only
END:VEVENT
BEGIN:VEVENT
DTSTART;TZID=America/Winnipeg:20180329T110000
DTEND;TZID=America/Winnipeg:20180329T120000
DTSTAMP:20260425T114152
CREATED:20170406T194835Z
LAST-MODIFIED:20180817T162404Z
UID:10001374-1522321200-1522324800@ninecircles.ca
SUMMARY:Viral Videos
DESCRIPTION:You are welcome to come and watch a short video with us in the Gathering Place while you wait for your food bank!
URL:https://ninecircles.ca/event/viral-videos-2017-08-10/2018-03-29/
LOCATION:Manitoba
CATEGORIES:Client Events
END:VEVENT
BEGIN:VEVENT
DTSTART;TZID=America/Winnipeg:20180329T120000
DTEND;TZID=America/Winnipeg:20180329T130000
DTSTAMP:20260425T114152
CREATED:20161212T214527Z
LAST-MODIFIED:20180618T151112Z
UID:10001086-1522324800-1522328400@ninecircles.ca
SUMMARY:Food Bank   A-K Members
DESCRIPTION:Food Bank is available for members only.  Please phone 204-940-6000 and ask to speak with Tania for assistance.
URL:https://ninecircles.ca/event/food-bank-k-members-2017-06-29/2018-03-29/
LOCATION:Manitoba
CATEGORIES:People living with HIV only
END:VEVENT
BEGIN:VEVENT
DTSTART;VALUE=DATE:20180330
DTEND;VALUE=DATE:20180331
DTSTAMP:20260425T114152
CREATED:20180226T161422Z
LAST-MODIFIED:20180226T161422Z
UID:10001571-1522368000-1522454399@ninecircles.ca
SUMMARY:Nine Circles Closed
DESCRIPTION:Nine Circles is closed for Good Friday today.
URL:https://ninecircles.ca/event/nine-circles-closed-6/
LOCATION:Manitoba
CATEGORIES:Announcements
END:VEVENT
BEGIN:VEVENT
DTSTART;VALUE=DATE:20180402
DTEND;VALUE=DATE:20180403
DTSTAMP:20260425T114152
CREATED:20180226T161457Z
LAST-MODIFIED:20180226T161457Z
UID:10001572-1522627200-1522713599@ninecircles.ca
SUMMARY:Nine Circles Closed
DESCRIPTION:Nine Circles is closed for Easter Monday today.
URL:https://ninecircles.ca/event/nine-circles-closed-7/
LOCATION:Manitoba
CATEGORIES:Announcements
END:VEVENT
BEGIN:VEVENT
DTSTART;TZID=America/Winnipeg:20180404T120000
DTEND;TZID=America/Winnipeg:20180404T130000
DTSTAMP:20260425T114152
CREATED:20170124T185027Z
LAST-MODIFIED:20180420T143532Z
UID:10001316-1522843200-1522846800@ninecircles.ca
SUMMARY:Indigenous Traditional Drumming and Singing
DESCRIPTION:Come and sing a song and learn a song!\nAnyone can join.  Participants are encouraged to attend all lessons but drop-ins are always welcome.\nLight snacks provided.\nQuestions?  Call Peetanacoot at 204-940-6000
URL:https://ninecircles.ca/event/indigenous-traditional-drumming-singing-2017-06-28/2018-04-04/
LOCATION:Manitoba
CATEGORIES:Client Events
END:VEVENT
BEGIN:VEVENT
DTSTART;TZID=America/Winnipeg:20180404T183000
DTEND;TZID=America/Winnipeg:20180404T193000
DTSTAMP:20260425T114152
CREATED:20170406T202411Z
LAST-MODIFIED:20190703T212055Z
UID:10001410-1522866600-1522870200@ninecircles.ca
SUMMARY:Coffee Talk - Men's Group
DESCRIPTION:Has HIV/AIDS affected your life?  This drop-in conversation group is a safe space where you can talk about the changes\, challenges\, inspirations\, and supports in your life as you move forward.  The first Wednesday of the month is Men’s only group.\nContact Sandra or Rosa for more information\, 204-940-6000
URL:https://ninecircles.ca/event/coffee-talk-msm/2018-04-04/
LOCATION:Manitoba
CATEGORIES:People living with HIV only
END:VEVENT
BEGIN:VEVENT
DTSTART;TZID=America/Winnipeg:20180405T110000
DTEND;TZID=America/Winnipeg:20180405T120000
DTSTAMP:20260425T114152
CREATED:20170406T194835Z
LAST-MODIFIED:20180817T162404Z
UID:10001375-1522926000-1522929600@ninecircles.ca
SUMMARY:Viral Videos
DESCRIPTION:You are welcome to come and watch a short video with us in the Gathering Place while you wait for your food bank!
URL:https://ninecircles.ca/event/viral-videos-2017-08-10/2018-04-05/
LOCATION:Manitoba
CATEGORIES:Client Events
END:VEVENT
BEGIN:VEVENT
DTSTART;TZID=America/Winnipeg:20180405T120000
DTEND;TZID=America/Winnipeg:20180405T130000
DTSTAMP:20260425T114153
CREATED:20161212T214203Z
LAST-MODIFIED:20180720T212253Z
UID:10001044-1522929600-1522933200@ninecircles.ca
SUMMARY:Food Bank   L-Z Members
DESCRIPTION:Food Bank is available for members only.  Please phone 204-940-6000 and ask to speak with Tania for assistance.
URL:https://ninecircles.ca/event/food-bank-l-z-members-2017-06-08/2018-04-05/
LOCATION:Manitoba
CATEGORIES:People living with HIV only
END:VEVENT
BEGIN:VEVENT
DTSTART;TZID=America/Winnipeg:20180406T143000
DTEND;TZID=America/Winnipeg:20180406T153000
DTSTAMP:20260425T114153
CREATED:20161219T182627Z
LAST-MODIFIED:20190220T174831Z
UID:10001241-1523025000-1523028600@ninecircles.ca
SUMMARY:What's Your Goal?
DESCRIPTION:Join us for our monthly group dedicated to goal-setting on the first Friday of every month at 2:30! \nDuring the group we will: \n-Set our own personal action plans – something you would like to accomplish\n-Learn problem solving techniques\n-Check in on our progress\n-Share successes\n-Brainstorm ideas for next time! \nYour goal can be anything that you would like.  Would you like to work on your health\, diet\, communication skills\, your home\, your habits… you name it! \nRefreshments Provided\, All Welcome!
URL:https://ninecircles.ca/event/whats-your-goal/2018-04-06/
LOCATION:Manitoba
CATEGORIES:Client Events
END:VEVENT
BEGIN:VEVENT
DTSTART;TZID=America/Winnipeg:20180411T120000
DTEND;TZID=America/Winnipeg:20180411T130000
DTSTAMP:20260425T114153
CREATED:20170124T185027Z
LAST-MODIFIED:20180420T143532Z
UID:10001317-1523448000-1523451600@ninecircles.ca
SUMMARY:Indigenous Traditional Drumming and Singing
DESCRIPTION:Come and sing a song and learn a song!\nAnyone can join.  Participants are encouraged to attend all lessons but drop-ins are always welcome.\nLight snacks provided.\nQuestions?  Call Peetanacoot at 204-940-6000
URL:https://ninecircles.ca/event/indigenous-traditional-drumming-singing-2017-06-28/2018-04-11/
LOCATION:Manitoba
CATEGORIES:Client Events
END:VEVENT
BEGIN:VEVENT
DTSTART;TZID=America/Winnipeg:20180411T183000
DTEND;TZID=America/Winnipeg:20180411T193000
DTSTAMP:20260425T114153
CREATED:20230206T210451Z
LAST-MODIFIED:20230206T210451Z
UID:10001495-1523471400-1523475000@ninecircles.ca
SUMMARY:Coffee Talk - All Welcome
DESCRIPTION:Has HIV/AIDS affected your life? This drop-in conversation group is a safe space where you can talk about the changes\, challenges\, inspirations\, and supports in your life as you move forward. The third Wednesday of the month is a group for everyone\, all welcome!\nContact Sandra or Rosa for more information\, 204-940-6000
URL:https://ninecircles.ca/event/coffee-talk-welcome/2018-04-11/
LOCATION:Manitoba
CATEGORIES:People living with HIV only
END:VEVENT
BEGIN:VEVENT
DTSTART;TZID=America/Winnipeg:20180411T183000
DTEND;TZID=America/Winnipeg:20180411T193000
DTSTAMP:20260425T114153
CREATED:20170406T203156Z
LAST-MODIFIED:20180816T214257Z
UID:10001444-1523471400-1523475000@ninecircles.ca
SUMMARY:Coffee Talk - Women's Group
DESCRIPTION:Has HIV/AIDS affected your life? This drop-in conversation group is a safe space where you can talk about the changes\, challenges\, inspirations\, and supports in your life as you move forward. The second Wednesday of the month is a Women’s only group.\nContact Sandra or Rosa for more information\, 204-940-6000
URL:https://ninecircles.ca/event/coffee-talk-women/2018-04-11/
LOCATION:Manitoba
CATEGORIES:People living with HIV only
END:VEVENT
END:VCALENDAR