BEGIN:VCALENDAR
VERSION:2.0
PRODID:-//Nine Circles Community Health Centre - ECPv6.15.18//NONSGML v1.0//EN
CALSCALE:GREGORIAN
METHOD:PUBLISH
X-WR-CALNAME:Nine Circles Community Health Centre
X-ORIGINAL-URL:https://ninecircles.ca
X-WR-CALDESC:Events for Nine Circles Community Health Centre
REFRESH-INTERVAL;VALUE=DURATION:PT1H
X-Robots-Tag:noindex
X-PUBLISHED-TTL:PT1H
BEGIN:VTIMEZONE
TZID:America/Winnipeg
BEGIN:DAYLIGHT
TZOFFSETFROM:-0600
TZOFFSETTO:-0500
TZNAME:CDT
DTSTART:20170312T080000
END:DAYLIGHT
BEGIN:STANDARD
TZOFFSETFROM:-0500
TZOFFSETTO:-0600
TZNAME:CST
DTSTART:20171105T070000
END:STANDARD
BEGIN:DAYLIGHT
TZOFFSETFROM:-0600
TZOFFSETTO:-0500
TZNAME:CDT
DTSTART:20180311T080000
END:DAYLIGHT
BEGIN:STANDARD
TZOFFSETFROM:-0500
TZOFFSETTO:-0600
TZNAME:CST
DTSTART:20181104T070000
END:STANDARD
BEGIN:DAYLIGHT
TZOFFSETFROM:-0600
TZOFFSETTO:-0500
TZNAME:CDT
DTSTART:20190310T080000
END:DAYLIGHT
BEGIN:STANDARD
TZOFFSETFROM:-0500
TZOFFSETTO:-0600
TZNAME:CST
DTSTART:20191103T070000
END:STANDARD
END:VTIMEZONE
BEGIN:VEVENT
DTSTART;VALUE=DATE:20180330
DTEND;VALUE=DATE:20180331
DTSTAMP:20260424T105753
CREATED:20180226T161422Z
LAST-MODIFIED:20180226T161422Z
UID:10001571-1522368000-1522454399@ninecircles.ca
SUMMARY:Nine Circles Closed
DESCRIPTION:Nine Circles is closed for Good Friday today.
URL:https://ninecircles.ca/event/nine-circles-closed-6/
LOCATION:Manitoba
CATEGORIES:Announcements
END:VEVENT
BEGIN:VEVENT
DTSTART;VALUE=DATE:20180402
DTEND;VALUE=DATE:20180403
DTSTAMP:20260424T105753
CREATED:20180226T161457Z
LAST-MODIFIED:20180226T161457Z
UID:10001572-1522627200-1522713599@ninecircles.ca
SUMMARY:Nine Circles Closed
DESCRIPTION:Nine Circles is closed for Easter Monday today.
URL:https://ninecircles.ca/event/nine-circles-closed-7/
LOCATION:Manitoba
CATEGORIES:Announcements
END:VEVENT
BEGIN:VEVENT
DTSTART;TZID=America/Winnipeg:20180404T120000
DTEND;TZID=America/Winnipeg:20180404T130000
DTSTAMP:20260424T105753
CREATED:20170124T185027Z
LAST-MODIFIED:20180420T143532Z
UID:10001316-1522843200-1522846800@ninecircles.ca
SUMMARY:Indigenous Traditional Drumming and Singing
DESCRIPTION:Come and sing a song and learn a song!\nAnyone can join.  Participants are encouraged to attend all lessons but drop-ins are always welcome.\nLight snacks provided.\nQuestions?  Call Peetanacoot at 204-940-6000
URL:https://ninecircles.ca/event/indigenous-traditional-drumming-singing-2017-06-28/2018-04-04/
LOCATION:Manitoba
CATEGORIES:Client Events
END:VEVENT
BEGIN:VEVENT
DTSTART;TZID=America/Winnipeg:20180404T183000
DTEND;TZID=America/Winnipeg:20180404T193000
DTSTAMP:20260424T105753
CREATED:20170406T202411Z
LAST-MODIFIED:20190703T212055Z
UID:10001410-1522866600-1522870200@ninecircles.ca
SUMMARY:Coffee Talk - Men's Group
DESCRIPTION:Has HIV/AIDS affected your life?  This drop-in conversation group is a safe space where you can talk about the changes\, challenges\, inspirations\, and supports in your life as you move forward.  The first Wednesday of the month is Men’s only group.\nContact Sandra or Rosa for more information\, 204-940-6000
URL:https://ninecircles.ca/event/coffee-talk-msm/2018-04-04/
LOCATION:Manitoba
CATEGORIES:People living with HIV only
END:VEVENT
BEGIN:VEVENT
DTSTART;TZID=America/Winnipeg:20180405T110000
DTEND;TZID=America/Winnipeg:20180405T120000
DTSTAMP:20260424T105753
CREATED:20170406T194835Z
LAST-MODIFIED:20180817T162404Z
UID:10001375-1522926000-1522929600@ninecircles.ca
SUMMARY:Viral Videos
DESCRIPTION:You are welcome to come and watch a short video with us in the Gathering Place while you wait for your food bank!
URL:https://ninecircles.ca/event/viral-videos-2017-08-10/2018-04-05/
LOCATION:Manitoba
CATEGORIES:Client Events
END:VEVENT
BEGIN:VEVENT
DTSTART;TZID=America/Winnipeg:20180405T120000
DTEND;TZID=America/Winnipeg:20180405T130000
DTSTAMP:20260424T105753
CREATED:20161212T214203Z
LAST-MODIFIED:20180720T212253Z
UID:10001044-1522929600-1522933200@ninecircles.ca
SUMMARY:Food Bank   L-Z Members
DESCRIPTION:Food Bank is available for members only.  Please phone 204-940-6000 and ask to speak with Tania for assistance.
URL:https://ninecircles.ca/event/food-bank-l-z-members-2017-06-08/2018-04-05/
LOCATION:Manitoba
CATEGORIES:People living with HIV only
END:VEVENT
BEGIN:VEVENT
DTSTART;TZID=America/Winnipeg:20180406T143000
DTEND;TZID=America/Winnipeg:20180406T153000
DTSTAMP:20260424T105753
CREATED:20161219T182627Z
LAST-MODIFIED:20190220T174831Z
UID:10001241-1523025000-1523028600@ninecircles.ca
SUMMARY:What's Your Goal?
DESCRIPTION:Join us for our monthly group dedicated to goal-setting on the first Friday of every month at 2:30! \nDuring the group we will: \n-Set our own personal action plans – something you would like to accomplish\n-Learn problem solving techniques\n-Check in on our progress\n-Share successes\n-Brainstorm ideas for next time! \nYour goal can be anything that you would like.  Would you like to work on your health\, diet\, communication skills\, your home\, your habits… you name it! \nRefreshments Provided\, All Welcome!
URL:https://ninecircles.ca/event/whats-your-goal/2018-04-06/
LOCATION:Manitoba
CATEGORIES:Client Events
END:VEVENT
BEGIN:VEVENT
DTSTART;TZID=America/Winnipeg:20180411T120000
DTEND;TZID=America/Winnipeg:20180411T130000
DTSTAMP:20260424T105753
CREATED:20170124T185027Z
LAST-MODIFIED:20180420T143532Z
UID:10001317-1523448000-1523451600@ninecircles.ca
SUMMARY:Indigenous Traditional Drumming and Singing
DESCRIPTION:Come and sing a song and learn a song!\nAnyone can join.  Participants are encouraged to attend all lessons but drop-ins are always welcome.\nLight snacks provided.\nQuestions?  Call Peetanacoot at 204-940-6000
URL:https://ninecircles.ca/event/indigenous-traditional-drumming-singing-2017-06-28/2018-04-11/
LOCATION:Manitoba
CATEGORIES:Client Events
END:VEVENT
BEGIN:VEVENT
DTSTART;TZID=America/Winnipeg:20180411T183000
DTEND;TZID=America/Winnipeg:20180411T193000
DTSTAMP:20260424T105753
CREATED:20230206T210451Z
LAST-MODIFIED:20230206T210451Z
UID:10001495-1523471400-1523475000@ninecircles.ca
SUMMARY:Coffee Talk - All Welcome
DESCRIPTION:Has HIV/AIDS affected your life? This drop-in conversation group is a safe space where you can talk about the changes\, challenges\, inspirations\, and supports in your life as you move forward. The third Wednesday of the month is a group for everyone\, all welcome!\nContact Sandra or Rosa for more information\, 204-940-6000
URL:https://ninecircles.ca/event/coffee-talk-welcome/2018-04-11/
LOCATION:Manitoba
CATEGORIES:People living with HIV only
END:VEVENT
BEGIN:VEVENT
DTSTART;TZID=America/Winnipeg:20180411T183000
DTEND;TZID=America/Winnipeg:20180411T193000
DTSTAMP:20260424T105753
CREATED:20170406T203156Z
LAST-MODIFIED:20180816T214257Z
UID:10001444-1523471400-1523475000@ninecircles.ca
SUMMARY:Coffee Talk - Women's Group
DESCRIPTION:Has HIV/AIDS affected your life? This drop-in conversation group is a safe space where you can talk about the changes\, challenges\, inspirations\, and supports in your life as you move forward. The second Wednesday of the month is a Women’s only group.\nContact Sandra or Rosa for more information\, 204-940-6000
URL:https://ninecircles.ca/event/coffee-talk-women/2018-04-11/
LOCATION:Manitoba
CATEGORIES:People living with HIV only
END:VEVENT
BEGIN:VEVENT
DTSTART;TZID=America/Winnipeg:20180412T110000
DTEND;TZID=America/Winnipeg:20180412T120000
DTSTAMP:20260424T105753
CREATED:20170406T194835Z
LAST-MODIFIED:20180817T162404Z
UID:10001376-1523530800-1523534400@ninecircles.ca
SUMMARY:Viral Videos
DESCRIPTION:You are welcome to come and watch a short video with us in the Gathering Place while you wait for your food bank!
URL:https://ninecircles.ca/event/viral-videos-2017-08-10/2018-04-12/
LOCATION:Manitoba
CATEGORIES:Client Events
END:VEVENT
BEGIN:VEVENT
DTSTART;TZID=America/Winnipeg:20180412T120000
DTEND;TZID=America/Winnipeg:20180412T130000
DTSTAMP:20260424T105753
CREATED:20161212T214527Z
LAST-MODIFIED:20180618T151112Z
UID:10001087-1523534400-1523538000@ninecircles.ca
SUMMARY:Food Bank   A-K Members
DESCRIPTION:Food Bank is available for members only.  Please phone 204-940-6000 and ask to speak with Tania for assistance.
URL:https://ninecircles.ca/event/food-bank-k-members-2017-06-29/2018-04-12/
LOCATION:Manitoba
CATEGORIES:People living with HIV only
END:VEVENT
BEGIN:VEVENT
DTSTART;TZID=America/Winnipeg:20180417T133000
DTEND;TZID=America/Winnipeg:20180417T163000
DTSTAMP:20260424T105753
CREATED:20161219T175846Z
LAST-MODIFIED:20180226T155316Z
UID:10001122-1523971800-1523982600@ninecircles.ca
SUMMARY:Dream Big
DESCRIPTION:Because sometimes dreaming big can help us figure out what we really want from life!\nDuring this 2-session group we will dream big about our hopes for the future and make a vision board.  \nThis is your chance to set aside limits\, doubts\, and worries and take the time to think about what you love! \nOver two sessions we will reflect on what we’d love in life – your health\, your reality\, and then show you how to make a vision board and do other creative exercises with those thoughts and dreams! \nSnacks provided and bus tokens provided if needed.   \nTo sign up please speak with Sri or Shauna\, 204-940-6000.  Looking forward to hearing from you! \nParticipants should plan to attend both days\, this group takes place on Tuesday April 17 and Wednesday April 18\, 2018.
URL:https://ninecircles.ca/event/dream-big/2018-04-17/
LOCATION:Manitoba
CATEGORIES:Community / Public Events
END:VEVENT
BEGIN:VEVENT
DTSTART;TZID=America/Winnipeg:20180418T120000
DTEND;TZID=America/Winnipeg:20180418T130000
DTSTAMP:20260424T105753
CREATED:20170124T185027Z
LAST-MODIFIED:20180420T143532Z
UID:10001318-1524052800-1524056400@ninecircles.ca
SUMMARY:Indigenous Traditional Drumming and Singing
DESCRIPTION:Come and sing a song and learn a song!\nAnyone can join.  Participants are encouraged to attend all lessons but drop-ins are always welcome.\nLight snacks provided.\nQuestions?  Call Peetanacoot at 204-940-6000
URL:https://ninecircles.ca/event/indigenous-traditional-drumming-singing-2017-06-28/2018-04-18/
LOCATION:Manitoba
CATEGORIES:Client Events
END:VEVENT
BEGIN:VEVENT
DTSTART;TZID=America/Winnipeg:20180418T133000
DTEND;TZID=America/Winnipeg:20180418T163000
DTSTAMP:20260424T105753
CREATED:20161219T175846Z
LAST-MODIFIED:20180226T155316Z
UID:10001123-1524058200-1524069000@ninecircles.ca
SUMMARY:Dream Big
DESCRIPTION:Because sometimes dreaming big can help us figure out what we really want from life!\nDuring this 2-session group we will dream big about our hopes for the future and make a vision board.  \nThis is your chance to set aside limits\, doubts\, and worries and take the time to think about what you love! \nOver two sessions we will reflect on what we’d love in life – your health\, your reality\, and then show you how to make a vision board and do other creative exercises with those thoughts and dreams! \nSnacks provided and bus tokens provided if needed.   \nTo sign up please speak with Sri or Shauna\, 204-940-6000.  Looking forward to hearing from you! \nParticipants should plan to attend both days\, this group takes place on Tuesday April 17 and Wednesday April 18\, 2018.
URL:https://ninecircles.ca/event/dream-big/2018-04-18/
LOCATION:Manitoba
CATEGORIES:Community / Public Events
END:VEVENT
BEGIN:VEVENT
DTSTART;TZID=America/Winnipeg:20180418T183000
DTEND;TZID=America/Winnipeg:20180418T193000
DTSTAMP:20260424T105753
CREATED:20170406T203449Z
LAST-MODIFIED:20200316T211103Z
UID:10001461-1524076200-1524079800@ninecircles.ca
SUMMARY:Coffee Talk - All Welcome
DESCRIPTION:Has HIV/AIDS affected your life? This drop-in conversation group is a safe space where you can talk about the changes\, challenges\, inspirations\, and supports in your life as you move forward. The third Wednesday of the month is a group for everyone\, all welcome!\nContact Sandra or Rosa for more information\, 204-940-6000
URL:https://ninecircles.ca/event/coffee-talk-welcome/2018-04-18/
LOCATION:Manitoba
CATEGORIES:People living with HIV only
END:VEVENT
BEGIN:VEVENT
DTSTART;TZID=America/Winnipeg:20180419T110000
DTEND;TZID=America/Winnipeg:20180419T120000
DTSTAMP:20260424T105753
CREATED:20170406T194835Z
LAST-MODIFIED:20180817T162404Z
UID:10001377-1524135600-1524139200@ninecircles.ca
SUMMARY:Viral Videos
DESCRIPTION:You are welcome to come and watch a short video with us in the Gathering Place while you wait for your food bank!
URL:https://ninecircles.ca/event/viral-videos-2017-08-10/2018-04-19/
LOCATION:Manitoba
CATEGORIES:Client Events
END:VEVENT
BEGIN:VEVENT
DTSTART;TZID=America/Winnipeg:20180419T120000
DTEND;TZID=America/Winnipeg:20180419T130000
DTSTAMP:20260424T105753
CREATED:20161212T214203Z
LAST-MODIFIED:20180720T212253Z
UID:10001045-1524139200-1524142800@ninecircles.ca
SUMMARY:Food Bank   L-Z Members
DESCRIPTION:Food Bank is available for members only.  Please phone 204-940-6000 and ask to speak with Tania for assistance.
URL:https://ninecircles.ca/event/food-bank-l-z-members-2017-06-08/2018-04-19/
LOCATION:Manitoba
CATEGORIES:People living with HIV only
END:VEVENT
BEGIN:VEVENT
DTSTART;TZID=America/Winnipeg:20180425T090000
DTEND;TZID=America/Winnipeg:20180425T120000
DTSTAMP:20260424T105753
CREATED:20180226T161924Z
LAST-MODIFIED:20180720T210238Z
UID:10001573-1524646800-1524657600@ninecircles.ca
SUMMARY:Massage Appointments Available
DESCRIPTION:Roberston College will be sending massage therapy students to provide free massages to Nine Circles Primary Care and Manitoba HIV Program clients. To book an appointment\, call 204-940-6000.
URL:https://ninecircles.ca/event/massage-appointments-available-2/
LOCATION:Manitoba
CATEGORIES:Client Events
END:VEVENT
BEGIN:VEVENT
DTSTART;TZID=America/Winnipeg:20180425T120000
DTEND;TZID=America/Winnipeg:20180425T130000
DTSTAMP:20260424T105753
CREATED:20170124T185027Z
LAST-MODIFIED:20180420T143532Z
UID:10001319-1524657600-1524661200@ninecircles.ca
SUMMARY:Indigenous Traditional Drumming and Singing
DESCRIPTION:Come and sing a song and learn a song!\nAnyone can join.  Participants are encouraged to attend all lessons but drop-ins are always welcome.\nLight snacks provided.\nQuestions?  Call Peetanacoot at 204-940-6000
URL:https://ninecircles.ca/event/indigenous-traditional-drumming-singing-2017-06-28/2018-04-25/
LOCATION:Manitoba
CATEGORIES:Client Events
END:VEVENT
BEGIN:VEVENT
DTSTART;TZID=America/Winnipeg:20180425T183000
DTEND;TZID=America/Winnipeg:20180425T193000
DTSTAMP:20260424T105753
CREATED:20180226T160659Z
LAST-MODIFIED:20200316T215030Z
UID:10001551-1524681000-1524684600@ninecircles.ca
SUMMARY:Coffee Talk - HIV and Employment Group
DESCRIPTION:Has HIV/AIDS affected your life? This drop-in conversation group is a safe space where you can talk about the changes\, challenges\, inspirations\, and supports in your life as you move forward.  \nThe fourth Wednesday of the month is a group for HIV positive individuals who are currently working or are in school\, part time or full time.  We will discuss issues around juggling the demands of working\, studying and achieving wellness at the same time.  Issues such as disclosure\, managing side effects of meds\, and health challenges will also be discussed. \nContact Sandra or Rosa for more information\, 204-940-6000
URL:https://ninecircles.ca/event/2431/2018-04-25/
LOCATION:Manitoba
CATEGORIES:People living with HIV only
END:VEVENT
BEGIN:VEVENT
DTSTART;TZID=America/Winnipeg:20180426T110000
DTEND;TZID=America/Winnipeg:20180426T120000
DTSTAMP:20260424T105753
CREATED:20170406T194835Z
LAST-MODIFIED:20180817T162404Z
UID:10001378-1524740400-1524744000@ninecircles.ca
SUMMARY:Viral Videos
DESCRIPTION:You are welcome to come and watch a short video with us in the Gathering Place while you wait for your food bank!
URL:https://ninecircles.ca/event/viral-videos-2017-08-10/2018-04-26/
LOCATION:Manitoba
CATEGORIES:Client Events
END:VEVENT
BEGIN:VEVENT
DTSTART;TZID=America/Winnipeg:20180426T120000
DTEND;TZID=America/Winnipeg:20180426T130000
DTSTAMP:20260424T105753
CREATED:20161212T214527Z
LAST-MODIFIED:20180618T151112Z
UID:10001088-1524744000-1524747600@ninecircles.ca
SUMMARY:Food Bank   A-K Members
DESCRIPTION:Food Bank is available for members only.  Please phone 204-940-6000 and ask to speak with Tania for assistance.
URL:https://ninecircles.ca/event/food-bank-k-members-2017-06-29/2018-04-26/
LOCATION:Manitoba
CATEGORIES:People living with HIV only
END:VEVENT
BEGIN:VEVENT
DTSTART;TZID=America/Winnipeg:20180502T120000
DTEND;TZID=America/Winnipeg:20180502T130000
DTSTAMP:20260424T105753
CREATED:20170124T185027Z
LAST-MODIFIED:20180420T143532Z
UID:10001320-1525262400-1525266000@ninecircles.ca
SUMMARY:Indigenous Traditional Drumming and Singing
DESCRIPTION:Come and sing a song and learn a song!\nAnyone can join.  Participants are encouraged to attend all lessons but drop-ins are always welcome.\nLight snacks provided.\nQuestions?  Call Peetanacoot at 204-940-6000
URL:https://ninecircles.ca/event/indigenous-traditional-drumming-singing-2017-06-28/2018-05-02/
LOCATION:Manitoba
CATEGORIES:Client Events
END:VEVENT
BEGIN:VEVENT
DTSTART;TZID=America/Winnipeg:20180502T170000
DTEND;TZID=America/Winnipeg:20180502T193000
DTSTAMP:20260424T105753
CREATED:20180420T145217Z
LAST-MODIFIED:20180427T165245Z
UID:10001579-1525280400-1525289400@ninecircles.ca
SUMMARY:Positive Self-Management Program starts today!
DESCRIPTION:Our 6 week program to help you take control of your health begins today! \nThe group runs Wednesdays May 2 – June 6\, 2018\n5:00-7:30 pm \nTopics include:\n-Managing HIV medications (ART)\n-Disclosure\n-Dealing with fatigue and frustration\n-Monitoring symptoms\n-Starting an exercise program\n-Managing pain\n-Eating well to live well\n-Working with your doctor\n-Setting and meeting your health goals \nPeople living with HIV and their supports are welcome to attend!\nThis group is full\, but registration is ongoing!  Sign up with Shauna or Sri at 204-940-6000
URL:https://ninecircles.ca/event/positive-self-management-program-starts-today/
LOCATION:Manitoba
CATEGORIES:Client Events
END:VEVENT
BEGIN:VEVENT
DTSTART;TZID=America/Winnipeg:20180502T183000
DTEND;TZID=America/Winnipeg:20180502T193000
DTSTAMP:20260424T105753
CREATED:20170406T202411Z
LAST-MODIFIED:20190703T212055Z
UID:10001411-1525285800-1525289400@ninecircles.ca
SUMMARY:Coffee Talk - Men's Group
DESCRIPTION:Has HIV/AIDS affected your life?  This drop-in conversation group is a safe space where you can talk about the changes\, challenges\, inspirations\, and supports in your life as you move forward.  The first Wednesday of the month is Men’s only group.\nContact Sandra or Rosa for more information\, 204-940-6000
URL:https://ninecircles.ca/event/coffee-talk-msm/2018-05-02/
LOCATION:Manitoba
CATEGORIES:People living with HIV only
END:VEVENT
BEGIN:VEVENT
DTSTART;TZID=America/Winnipeg:20180503T110000
DTEND;TZID=America/Winnipeg:20180503T120000
DTSTAMP:20260424T105753
CREATED:20170406T194835Z
LAST-MODIFIED:20180817T162404Z
UID:10001379-1525345200-1525348800@ninecircles.ca
SUMMARY:Viral Videos
DESCRIPTION:You are welcome to come and watch a short video with us in the Gathering Place while you wait for your food bank!
URL:https://ninecircles.ca/event/viral-videos-2017-08-10/2018-05-03/
LOCATION:Manitoba
CATEGORIES:Client Events
END:VEVENT
BEGIN:VEVENT
DTSTART;TZID=America/Winnipeg:20180503T120000
DTEND;TZID=America/Winnipeg:20180503T130000
DTSTAMP:20260424T105753
CREATED:20161212T214203Z
LAST-MODIFIED:20180720T212253Z
UID:10001046-1525348800-1525352400@ninecircles.ca
SUMMARY:Food Bank   L-Z Members
DESCRIPTION:Food Bank is available for members only.  Please phone 204-940-6000 and ask to speak with Tania for assistance.
URL:https://ninecircles.ca/event/food-bank-l-z-members-2017-06-08/2018-05-03/
LOCATION:Manitoba
CATEGORIES:People living with HIV only
END:VEVENT
BEGIN:VEVENT
DTSTART;TZID=America/Winnipeg:20180504T143000
DTEND;TZID=America/Winnipeg:20180504T153000
DTSTAMP:20260424T105753
CREATED:20161219T182627Z
LAST-MODIFIED:20190220T174831Z
UID:10001242-1525444200-1525447800@ninecircles.ca
SUMMARY:What's Your Goal?
DESCRIPTION:Join us for our monthly group dedicated to goal-setting on the first Friday of every month at 2:30! \nDuring the group we will: \n-Set our own personal action plans – something you would like to accomplish\n-Learn problem solving techniques\n-Check in on our progress\n-Share successes\n-Brainstorm ideas for next time! \nYour goal can be anything that you would like.  Would you like to work on your health\, diet\, communication skills\, your home\, your habits… you name it! \nRefreshments Provided\, All Welcome!
URL:https://ninecircles.ca/event/whats-your-goal/2018-05-04/
LOCATION:Manitoba
CATEGORIES:Client Events
END:VEVENT
BEGIN:VEVENT
DTSTART;TZID=America/Winnipeg:20180509T090000
DTEND;TZID=America/Winnipeg:20180509T120000
DTSTAMP:20260424T105753
CREATED:20180226T161924Z
LAST-MODIFIED:20180720T210304Z
UID:10001574-1525856400-1525867200@ninecircles.ca
SUMMARY:Massage Appointments Available
DESCRIPTION:Roberston College will be sending massage therapy students to provide free massages to Nine Circles Primary Care and Manitoba HIV Program clients. To book an appointment\, call 204-940-6000.
URL:https://ninecircles.ca/event/massage-appointments-available-2-2018-05-09/2018-05-09/
LOCATION:Manitoba
CATEGORIES:Client Events
END:VEVENT
END:VCALENDAR