BEGIN:VCALENDAR
VERSION:2.0
PRODID:-//Nine Circles Community Health Centre - ECPv6.15.18//NONSGML v1.0//EN
CALSCALE:GREGORIAN
METHOD:PUBLISH
X-WR-CALNAME:Nine Circles Community Health Centre
X-ORIGINAL-URL:https://ninecircles.ca
X-WR-CALDESC:Events for Nine Circles Community Health Centre
REFRESH-INTERVAL;VALUE=DURATION:PT1H
X-Robots-Tag:noindex
X-PUBLISHED-TTL:PT1H
BEGIN:VTIMEZONE
TZID:America/Winnipeg
BEGIN:DAYLIGHT
TZOFFSETFROM:-0600
TZOFFSETTO:-0500
TZNAME:CDT
DTSTART:20160313T080000
END:DAYLIGHT
BEGIN:STANDARD
TZOFFSETFROM:-0500
TZOFFSETTO:-0600
TZNAME:CST
DTSTART:20161106T070000
END:STANDARD
BEGIN:DAYLIGHT
TZOFFSETFROM:-0600
TZOFFSETTO:-0500
TZNAME:CDT
DTSTART:20170312T080000
END:DAYLIGHT
BEGIN:STANDARD
TZOFFSETFROM:-0500
TZOFFSETTO:-0600
TZNAME:CST
DTSTART:20171105T070000
END:STANDARD
BEGIN:DAYLIGHT
TZOFFSETFROM:-0600
TZOFFSETTO:-0500
TZNAME:CDT
DTSTART:20180311T080000
END:DAYLIGHT
BEGIN:STANDARD
TZOFFSETFROM:-0500
TZOFFSETTO:-0600
TZNAME:CST
DTSTART:20181104T070000
END:STANDARD
END:VTIMEZONE
BEGIN:VEVENT
DTSTART;TZID=America/Winnipeg:20170329T183000
DTEND;TZID=America/Winnipeg:20170329T193000
DTSTAMP:20260420T183337
CREATED:20161212T210142Z
LAST-MODIFIED:20161216T203759Z
UID:10001012-1490812200-1490815800@ninecircles.ca
SUMMARY:Coffee Talk
DESCRIPTION:Has HIV/AIDS affected your life?  In this safe space we talk about changes\, challenges\, inspirations\, and supports we are using as we move forward.  This group is for people living with HIV only.
URL:https://ninecircles.ca/event/coffee-talk/2017-03-29/
LOCATION:Manitoba
CATEGORIES:People living with HIV only
END:VEVENT
BEGIN:VEVENT
DTSTART;TZID=America/Winnipeg:20170330T120000
DTEND;TZID=America/Winnipeg:20170330T130000
DTSTAMP:20260420T183337
CREATED:20161212T214203Z
LAST-MODIFIED:20171002T162926Z
UID:10001019-1490875200-1490878800@ninecircles.ca
SUMMARY:Food Bank   L-Z Members
DESCRIPTION:Food Bank is available for members only.  Please phone 204-940-6000 and ask to speak with Tania for assistance.
URL:https://ninecircles.ca/event/food-bank-l-z-members/2017-03-30/
LOCATION:Manitoba
CATEGORIES:People living with HIV only
END:VEVENT
BEGIN:VEVENT
DTSTART;TZID=America/Winnipeg:20170405T183000
DTEND;TZID=America/Winnipeg:20170405T193000
DTSTAMP:20260420T183337
CREATED:20170406T202411Z
LAST-MODIFIED:20190703T212055Z
UID:10001398-1491417000-1491420600@ninecircles.ca
SUMMARY:Coffee Talk - Men's Group
DESCRIPTION:Has HIV/AIDS affected your life?  This drop-in conversation group is a safe space where you can talk about the changes\, challenges\, inspirations\, and supports in your life as you move forward.  The first Wednesday of the month is Men’s only group.\nContact Sandra or Rosa for more information\, 204-940-6000
URL:https://ninecircles.ca/event/coffee-talk-msm/2017-04-05/
LOCATION:Manitoba
CATEGORIES:People living with HIV only
END:VEVENT
BEGIN:VEVENT
DTSTART;TZID=America/Winnipeg:20170406T110000
DTEND;TZID=America/Winnipeg:20170406T120000
DTSTAMP:20260420T183337
CREATED:20170406T194835Z
LAST-MODIFIED:20170406T194917Z
UID:10001327-1491476400-1491480000@ninecircles.ca
SUMMARY:Viral Videos
DESCRIPTION:You are welcome to come and watch a short video with us in the Gathering Place while you wait for your food bank!
URL:https://ninecircles.ca/event/viral-videos/2017-04-06/
LOCATION:Manitoba
CATEGORIES:Client Events
END:VEVENT
BEGIN:VEVENT
DTSTART;TZID=America/Winnipeg:20170406T120000
DTEND;TZID=America/Winnipeg:20170406T130000
DTSTAMP:20260420T183337
CREATED:20161212T214527Z
LAST-MODIFIED:20171002T162823Z
UID:10001062-1491480000-1491483600@ninecircles.ca
SUMMARY:Food Bank   A-K Members
DESCRIPTION:Food Bank is available for members only.  Please phone 204-940-6000 and ask to speak with Tania for assistance.
URL:https://ninecircles.ca/event/food-bank-k-members/2017-04-06/
LOCATION:Manitoba
CATEGORIES:People living with HIV only
END:VEVENT
BEGIN:VEVENT
DTSTART;TZID=America/Winnipeg:20170407T143000
DTEND;TZID=America/Winnipeg:20170407T153000
DTSTAMP:20260420T183337
CREATED:20161219T182627Z
LAST-MODIFIED:20190220T174831Z
UID:10001229-1491575400-1491579000@ninecircles.ca
SUMMARY:What's Your Goal?
DESCRIPTION:Join us for our monthly group dedicated to goal-setting on the first Friday of every month at 2:30! \nDuring the group we will: \n-Set our own personal action plans – something you would like to accomplish\n-Learn problem solving techniques\n-Check in on our progress\n-Share successes\n-Brainstorm ideas for next time! \nYour goal can be anything that you would like.  Would you like to work on your health\, diet\, communication skills\, your home\, your habits… you name it! \nRefreshments Provided\, All Welcome!
URL:https://ninecircles.ca/event/whats-your-goal/2017-04-07/
LOCATION:Manitoba
CATEGORIES:Client Events
END:VEVENT
BEGIN:VEVENT
DTSTART;TZID=America/Winnipeg:20170412T183000
DTEND;TZID=America/Winnipeg:20170412T193000
DTSTAMP:20260420T183337
CREATED:20170406T203156Z
LAST-MODIFIED:20180816T214257Z
UID:10001432-1492021800-1492025400@ninecircles.ca
SUMMARY:Coffee Talk - Women's Group
DESCRIPTION:Has HIV/AIDS affected your life? This drop-in conversation group is a safe space where you can talk about the changes\, challenges\, inspirations\, and supports in your life as you move forward. The second Wednesday of the month is a Women’s only group.\nContact Sandra or Rosa for more information\, 204-940-6000
URL:https://ninecircles.ca/event/coffee-talk-women/2017-04-12/
LOCATION:Manitoba
CATEGORIES:People living with HIV only
END:VEVENT
BEGIN:VEVENT
DTSTART;TZID=America/Winnipeg:20170413T110000
DTEND;TZID=America/Winnipeg:20170413T120000
DTSTAMP:20260420T183337
CREATED:20170406T194835Z
LAST-MODIFIED:20170406T194917Z
UID:10001328-1492081200-1492084800@ninecircles.ca
SUMMARY:Viral Videos
DESCRIPTION:You are welcome to come and watch a short video with us in the Gathering Place while you wait for your food bank!
URL:https://ninecircles.ca/event/viral-videos/2017-04-13/
LOCATION:Manitoba
CATEGORIES:Client Events
END:VEVENT
BEGIN:VEVENT
DTSTART;TZID=America/Winnipeg:20170413T120000
DTEND;TZID=America/Winnipeg:20170413T130000
DTSTAMP:20260420T183337
CREATED:20161212T214203Z
LAST-MODIFIED:20171002T162926Z
UID:10001020-1492084800-1492088400@ninecircles.ca
SUMMARY:Food Bank   L-Z Members
DESCRIPTION:Food Bank is available for members only.  Please phone 204-940-6000 and ask to speak with Tania for assistance.
URL:https://ninecircles.ca/event/food-bank-l-z-members/2017-04-13/
LOCATION:Manitoba
CATEGORIES:People living with HIV only
END:VEVENT
BEGIN:VEVENT
DTSTART;TZID=America/Winnipeg:20170418T133000
DTEND;TZID=America/Winnipeg:20170418T143000
DTSTAMP:20260420T183337
CREATED:20170406T213428Z
LAST-MODIFIED:20170406T213511Z
UID:10000979-1492522200-1492525800@ninecircles.ca
SUMMARY:HIV 101 Workshop
DESCRIPTION:Health Educators from Nine Circles will lead this workshop and answer your questions about HIV \nTopics Include: \nWhat is HIV?\nNational and local HIV trends\nHIV testing and treatment\nTransmission\nHow to reduce risk\nPreventing HIV stigma in the community \nWho should attend? \nPeople living with HIV\, family\, friends\, partners of someone living with HIV\, and anyone who wants to learn more about the topic! \nRegistration is preferred but not necessary.  Talk with Sri or Shauna to attend\, 204-940-6000.
URL:https://ninecircles.ca/event/hiv-101-workshop/
LOCATION:Manitoba
CATEGORIES:Community / Public Events
END:VEVENT
BEGIN:VEVENT
DTSTART;TZID=America/Winnipeg:20170419T100000
DTEND;TZID=America/Winnipeg:20170419T140000
DTSTAMP:20260420T183337
CREATED:20161219T175202Z
LAST-MODIFIED:20170406T212711Z
UID:10001110-1492596000-1492610400@ninecircles.ca
SUMMARY:Massage Appointments Available
DESCRIPTION:Roberston College will be sending massage therapy students to provide free massages to Nine Circles Primary Care and Manitoba HIV Program clients.  To book an appointment\, call 204-940-6000.
URL:https://ninecircles.ca/event/massage-appointments-available/2017-04-19/
LOCATION:Manitoba
CATEGORIES:Client Events
END:VEVENT
BEGIN:VEVENT
DTSTART;TZID=America/Winnipeg:20170419T183000
DTEND;TZID=America/Winnipeg:20170419T193000
DTSTAMP:20260420T183337
CREATED:20170406T203449Z
LAST-MODIFIED:20200316T211103Z
UID:10001449-1492626600-1492630200@ninecircles.ca
SUMMARY:Coffee Talk - All Welcome
DESCRIPTION:Has HIV/AIDS affected your life? This drop-in conversation group is a safe space where you can talk about the changes\, challenges\, inspirations\, and supports in your life as you move forward. The third Wednesday of the month is a group for everyone\, all welcome!\nContact Sandra or Rosa for more information\, 204-940-6000
URL:https://ninecircles.ca/event/coffee-talk-welcome/2017-04-19/
LOCATION:Manitoba
CATEGORIES:People living with HIV only
END:VEVENT
BEGIN:VEVENT
DTSTART;TZID=America/Winnipeg:20170420T110000
DTEND;TZID=America/Winnipeg:20170420T120000
DTSTAMP:20260420T183337
CREATED:20170406T194835Z
LAST-MODIFIED:20170406T194917Z
UID:10001329-1492686000-1492689600@ninecircles.ca
SUMMARY:Viral Videos
DESCRIPTION:You are welcome to come and watch a short video with us in the Gathering Place while you wait for your food bank!
URL:https://ninecircles.ca/event/viral-videos/2017-04-20/
LOCATION:Manitoba
CATEGORIES:Client Events
END:VEVENT
BEGIN:VEVENT
DTSTART;TZID=America/Winnipeg:20170420T120000
DTEND;TZID=America/Winnipeg:20170420T130000
DTSTAMP:20260420T183337
CREATED:20161212T214527Z
LAST-MODIFIED:20171002T162823Z
UID:10001063-1492689600-1492693200@ninecircles.ca
SUMMARY:Food Bank   A-K Members
DESCRIPTION:Food Bank is available for members only.  Please phone 204-940-6000 and ask to speak with Tania for assistance.
URL:https://ninecircles.ca/event/food-bank-k-members/2017-04-20/
LOCATION:Manitoba
CATEGORIES:People living with HIV only
END:VEVENT
BEGIN:VEVENT
DTSTART;TZID=America/Winnipeg:20170426T120000
DTEND;TZID=America/Winnipeg:20170426T130000
DTSTAMP:20260420T183337
CREATED:20170124T185027Z
LAST-MODIFIED:20170516T210401Z
UID:10001291-1493208000-1493211600@ninecircles.ca
SUMMARY:Indigenous Traditional Drumming and Singing
DESCRIPTION:Come and sing a song and learn a song!\nAnyone is welcome.\nSnacks provided.\nQuestions?  Call Peetanacoot at 204-940-6000
URL:https://ninecircles.ca/event/indigenous-traditional-drumming-singing/2017-04-26/
LOCATION:Manitoba
CATEGORIES:Client Events
END:VEVENT
BEGIN:VEVENT
DTSTART;TZID=America/Winnipeg:20170426T183000
DTEND;TZID=America/Winnipeg:20170426T193000
DTSTAMP:20260420T183337
CREATED:20170406T204415Z
LAST-MODIFIED:20171002T165057Z
UID:10001519-1493231400-1493235000@ninecircles.ca
SUMMARY:Coffee Talk - HIV +1
DESCRIPTION:Has HIV/AIDS affected your life? This drop-in conversation group is a safe space where you can talk about the changes\, challenges\, inspirations\, and supports in your life as you move forward. The fourth Wednesday of the month is a week for HIV positive people and a plus one!  Your plus one could be anyone in your life that supports you\, like a partner\, a family member\, a friend or a caregiver.\nContact Sandra or Rosa for more information\, 204-940-6000
URL:https://ninecircles.ca/event/coffee-talk-hiv-1/2017-04-26/
LOCATION:Manitoba
CATEGORIES:People living with HIV only
END:VEVENT
BEGIN:VEVENT
DTSTART;TZID=America/Winnipeg:20170427T110000
DTEND;TZID=America/Winnipeg:20170427T120000
DTSTAMP:20260420T183337
CREATED:20170406T194835Z
LAST-MODIFIED:20170406T194917Z
UID:10001330-1493290800-1493294400@ninecircles.ca
SUMMARY:Viral Videos
DESCRIPTION:You are welcome to come and watch a short video with us in the Gathering Place while you wait for your food bank!
URL:https://ninecircles.ca/event/viral-videos/2017-04-27/
LOCATION:Manitoba
CATEGORIES:Client Events
END:VEVENT
BEGIN:VEVENT
DTSTART;TZID=America/Winnipeg:20170427T120000
DTEND;TZID=America/Winnipeg:20170427T130000
DTSTAMP:20260420T183337
CREATED:20161212T214203Z
LAST-MODIFIED:20171002T162926Z
UID:10001021-1493294400-1493298000@ninecircles.ca
SUMMARY:Food Bank   L-Z Members
DESCRIPTION:Food Bank is available for members only.  Please phone 204-940-6000 and ask to speak with Tania for assistance.
URL:https://ninecircles.ca/event/food-bank-l-z-members/2017-04-27/
LOCATION:Manitoba
CATEGORIES:People living with HIV only
END:VEVENT
BEGIN:VEVENT
DTSTART;TZID=America/Winnipeg:20170503T120000
DTEND;TZID=America/Winnipeg:20170503T130000
DTSTAMP:20260420T183337
CREATED:20170425T160039Z
LAST-MODIFIED:20170425T160106Z
UID:10000980-1493812800-1493816400@ninecircles.ca
SUMMARY:Anishinaabemowin Language Lessons
DESCRIPTION:Join us to learn basic day to day phrases!  We’ll meet in the Gathering Place at Nine Circles. \nParticipants are encouraged to join in for all lessons – anyone is welcome! \nLight snacks provided. \nCall Peetanacoot at 204-940-6000 with questions or to register.
URL:https://ninecircles.ca/event/anishinaabemowin-language-lessons/2017-05-03/
LOCATION:Manitoba
CATEGORIES:Client Events
END:VEVENT
BEGIN:VEVENT
DTSTART;TZID=America/Winnipeg:20170503T183000
DTEND;TZID=America/Winnipeg:20170503T193000
DTSTAMP:20260420T183337
CREATED:20170406T202411Z
LAST-MODIFIED:20190703T212055Z
UID:10001399-1493836200-1493839800@ninecircles.ca
SUMMARY:Coffee Talk - Men's Group
DESCRIPTION:Has HIV/AIDS affected your life?  This drop-in conversation group is a safe space where you can talk about the changes\, challenges\, inspirations\, and supports in your life as you move forward.  The first Wednesday of the month is Men’s only group.\nContact Sandra or Rosa for more information\, 204-940-6000
URL:https://ninecircles.ca/event/coffee-talk-msm/2017-05-03/
LOCATION:Manitoba
CATEGORIES:People living with HIV only
END:VEVENT
BEGIN:VEVENT
DTSTART;TZID=America/Winnipeg:20170504T110000
DTEND;TZID=America/Winnipeg:20170504T120000
DTSTAMP:20260420T183337
CREATED:20170406T194835Z
LAST-MODIFIED:20170406T194917Z
UID:10001331-1493895600-1493899200@ninecircles.ca
SUMMARY:Viral Videos
DESCRIPTION:You are welcome to come and watch a short video with us in the Gathering Place while you wait for your food bank!
URL:https://ninecircles.ca/event/viral-videos/2017-05-04/
LOCATION:Manitoba
CATEGORIES:Client Events
END:VEVENT
BEGIN:VEVENT
DTSTART;TZID=America/Winnipeg:20170504T120000
DTEND;TZID=America/Winnipeg:20170504T130000
DTSTAMP:20260420T183337
CREATED:20161212T214527Z
LAST-MODIFIED:20171002T162823Z
UID:10001064-1493899200-1493902800@ninecircles.ca
SUMMARY:Food Bank   A-K Members
DESCRIPTION:Food Bank is available for members only.  Please phone 204-940-6000 and ask to speak with Tania for assistance.
URL:https://ninecircles.ca/event/food-bank-k-members/2017-05-04/
LOCATION:Manitoba
CATEGORIES:People living with HIV only
END:VEVENT
BEGIN:VEVENT
DTSTART;TZID=America/Winnipeg:20170505T143000
DTEND;TZID=America/Winnipeg:20170505T153000
DTSTAMP:20260420T183337
CREATED:20161219T182627Z
LAST-MODIFIED:20190220T174831Z
UID:10001230-1493994600-1493998200@ninecircles.ca
SUMMARY:What's Your Goal?
DESCRIPTION:Join us for our monthly group dedicated to goal-setting on the first Friday of every month at 2:30! \nDuring the group we will: \n-Set our own personal action plans – something you would like to accomplish\n-Learn problem solving techniques\n-Check in on our progress\n-Share successes\n-Brainstorm ideas for next time! \nYour goal can be anything that you would like.  Would you like to work on your health\, diet\, communication skills\, your home\, your habits… you name it! \nRefreshments Provided\, All Welcome!
URL:https://ninecircles.ca/event/whats-your-goal/2017-05-05/
LOCATION:Manitoba
CATEGORIES:Client Events
END:VEVENT
BEGIN:VEVENT
DTSTART;TZID=America/Winnipeg:20170510T120000
DTEND;TZID=America/Winnipeg:20170510T130000
DTSTAMP:20260420T183337
CREATED:20170425T160039Z
LAST-MODIFIED:20170425T160106Z
UID:10000981-1494417600-1494421200@ninecircles.ca
SUMMARY:Anishinaabemowin Language Lessons
DESCRIPTION:Join us to learn basic day to day phrases!  We’ll meet in the Gathering Place at Nine Circles. \nParticipants are encouraged to join in for all lessons – anyone is welcome! \nLight snacks provided. \nCall Peetanacoot at 204-940-6000 with questions or to register.
URL:https://ninecircles.ca/event/anishinaabemowin-language-lessons/2017-05-10/
LOCATION:Manitoba
CATEGORIES:Client Events
END:VEVENT
BEGIN:VEVENT
DTSTART;TZID=America/Winnipeg:20170510T183000
DTEND;TZID=America/Winnipeg:20170510T193000
DTSTAMP:20260420T183337
CREATED:20230206T210451Z
LAST-MODIFIED:20230206T210451Z
UID:10001484-1494441000-1494444600@ninecircles.ca
SUMMARY:Coffee Talk - All Welcome
DESCRIPTION:Has HIV/AIDS affected your life? This drop-in conversation group is a safe space where you can talk about the changes\, challenges\, inspirations\, and supports in your life as you move forward. The third Wednesday of the month is a group for everyone\, all welcome!\nContact Sandra or Rosa for more information\, 204-940-6000
URL:https://ninecircles.ca/event/coffee-talk-welcome/2017-05-10/
LOCATION:Manitoba
CATEGORIES:People living with HIV only
END:VEVENT
BEGIN:VEVENT
DTSTART;TZID=America/Winnipeg:20170510T183000
DTEND;TZID=America/Winnipeg:20170510T193000
DTSTAMP:20260420T183337
CREATED:20170406T203156Z
LAST-MODIFIED:20180816T214257Z
UID:10001433-1494441000-1494444600@ninecircles.ca
SUMMARY:Coffee Talk - Women's Group
DESCRIPTION:Has HIV/AIDS affected your life? This drop-in conversation group is a safe space where you can talk about the changes\, challenges\, inspirations\, and supports in your life as you move forward. The second Wednesday of the month is a Women’s only group.\nContact Sandra or Rosa for more information\, 204-940-6000
URL:https://ninecircles.ca/event/coffee-talk-women/2017-05-10/
LOCATION:Manitoba
CATEGORIES:People living with HIV only
END:VEVENT
BEGIN:VEVENT
DTSTART;TZID=America/Winnipeg:20170511T110000
DTEND;TZID=America/Winnipeg:20170511T120000
DTSTAMP:20260420T183337
CREATED:20170406T194835Z
LAST-MODIFIED:20170406T194917Z
UID:10001332-1494500400-1494504000@ninecircles.ca
SUMMARY:Viral Videos
DESCRIPTION:You are welcome to come and watch a short video with us in the Gathering Place while you wait for your food bank!
URL:https://ninecircles.ca/event/viral-videos/2017-05-11/
LOCATION:Manitoba
CATEGORIES:Client Events
END:VEVENT
BEGIN:VEVENT
DTSTART;TZID=America/Winnipeg:20170511T120000
DTEND;TZID=America/Winnipeg:20170511T130000
DTSTAMP:20260420T183337
CREATED:20161212T214203Z
LAST-MODIFIED:20171002T162926Z
UID:10001022-1494504000-1494507600@ninecircles.ca
SUMMARY:Food Bank   L-Z Members
DESCRIPTION:Food Bank is available for members only.  Please phone 204-940-6000 and ask to speak with Tania for assistance.
URL:https://ninecircles.ca/event/food-bank-l-z-members/2017-05-11/
LOCATION:Manitoba
CATEGORIES:People living with HIV only
END:VEVENT
BEGIN:VEVENT
DTSTART;TZID=America/Winnipeg:20170517T133000
DTEND;TZID=America/Winnipeg:20170517T163000
DTSTAMP:20260420T183337
CREATED:20170512T134440Z
LAST-MODIFIED:20170512T134657Z
UID:10000985-1495027800-1495038600@ninecircles.ca
SUMMARY:Client Survey Drop-In Day!
DESCRIPTION:We want to hear from you! \nJoin us in the Gathering Place to fill out your 2017 client survey\, either on paper or online.  There will be assistants on hand to help you fill out your survey and coffee and cookies will be served!  Portuguese translation will be available. \nThe survey closes May 18th so be sure to fill one out and have your say! \n(surveys are also available in our reception area\, drop by anytime to fill one out)
URL:https://ninecircles.ca/event/client-survey-drop-day/
LOCATION:Manitoba
CATEGORIES:Client Events
END:VEVENT
BEGIN:VEVENT
DTSTART;TZID=America/Winnipeg:20170517T183000
DTEND;TZID=America/Winnipeg:20170517T193000
DTSTAMP:20260420T183337
CREATED:20170406T203449Z
LAST-MODIFIED:20200316T211103Z
UID:10001450-1495045800-1495049400@ninecircles.ca
SUMMARY:Coffee Talk - All Welcome
DESCRIPTION:Has HIV/AIDS affected your life? This drop-in conversation group is a safe space where you can talk about the changes\, challenges\, inspirations\, and supports in your life as you move forward. The third Wednesday of the month is a group for everyone\, all welcome!\nContact Sandra or Rosa for more information\, 204-940-6000
URL:https://ninecircles.ca/event/coffee-talk-welcome/2017-05-17/
LOCATION:Manitoba
CATEGORIES:People living with HIV only
END:VEVENT
END:VCALENDAR