BEGIN:VCALENDAR
VERSION:2.0
PRODID:-//Nine Circles Community Health Centre - ECPv6.15.18//NONSGML v1.0//EN
CALSCALE:GREGORIAN
METHOD:PUBLISH
X-ORIGINAL-URL:https://ninecircles.ca
X-WR-CALDESC:Events for Nine Circles Community Health Centre
REFRESH-INTERVAL;VALUE=DURATION:PT1H
X-Robots-Tag:noindex
X-PUBLISHED-TTL:PT1H
BEGIN:VTIMEZONE
TZID:America/Winnipeg
BEGIN:DAYLIGHT
TZOFFSETFROM:-0600
TZOFFSETTO:-0500
TZNAME:CDT
DTSTART:20180311T080000
END:DAYLIGHT
BEGIN:STANDARD
TZOFFSETFROM:-0500
TZOFFSETTO:-0600
TZNAME:CST
DTSTART:20181104T070000
END:STANDARD
BEGIN:DAYLIGHT
TZOFFSETFROM:-0600
TZOFFSETTO:-0500
TZNAME:CDT
DTSTART:20190310T080000
END:DAYLIGHT
BEGIN:STANDARD
TZOFFSETFROM:-0500
TZOFFSETTO:-0600
TZNAME:CST
DTSTART:20191103T070000
END:STANDARD
BEGIN:DAYLIGHT
TZOFFSETFROM:-0600
TZOFFSETTO:-0500
TZNAME:CDT
DTSTART:20200308T080000
END:DAYLIGHT
BEGIN:STANDARD
TZOFFSETFROM:-0500
TZOFFSETTO:-0600
TZNAME:CST
DTSTART:20201101T070000
END:STANDARD
BEGIN:DAYLIGHT
TZOFFSETFROM:-0600
TZOFFSETTO:-0500
TZNAME:CDT
DTSTART:20210314T080000
END:DAYLIGHT
BEGIN:STANDARD
TZOFFSETFROM:-0500
TZOFFSETTO:-0600
TZNAME:CST
DTSTART:20211107T070000
END:STANDARD
END:VTIMEZONE
BEGIN:VEVENT
DTSTART;VALUE=DATE:20200217
DTEND;VALUE=DATE:20200218
DTSTAMP:20260420T185051
CREATED:20200115T162618Z
LAST-MODIFIED:20200115T162618Z
UID:10001819-1581897600-1581983999@ninecircles.ca
SUMMARY:Nine Circles Closed
DESCRIPTION:Nine Circles is closed for Louis Riel Day.
URL:https://ninecircles.ca/event/nine-circles-closed-16/
LOCATION:Nine Circles Community Centre\, 705 Broadway Winnipeg\, Winnipeg\, Manitoba\, R3G 0X2\, Canada
CATEGORIES:Announcements
END:VEVENT
BEGIN:VEVENT
DTSTART;TZID=America/Winnipeg:20200213T120000
DTEND;TZID=America/Winnipeg:20200213T130000
DTSTAMP:20260420T185051
CREATED:20190719T161356Z
LAST-MODIFIED:20200326T183924Z
UID:10001767-1581595200-1581598800@ninecircles.ca
SUMMARY:Food Bank L-Z Members
DESCRIPTION:Food Bank is available for members only.  Please phone 204-940-6000 and ask to speak with Tania for assistance.
URL:https://ninecircles.ca/event/food-bank-l-z-members-4/2020-02-13/
LOCATION:Nine Circles Community Centre\, 705 Broadway Winnipeg\, Winnipeg\, Manitoba\, R3G 0X2\, Canada
CATEGORIES:People living with HIV only
END:VEVENT
BEGIN:VEVENT
DTSTART;TZID=America/Winnipeg:20200212T183000
DTEND;TZID=America/Winnipeg:20200212T193000
DTSTAMP:20260420T185051
CREATED:20230206T210451Z
LAST-MODIFIED:20230206T210451Z
UID:10001517-1581532200-1581535800@ninecircles.ca
SUMMARY:Coffee Talk - All Welcome
DESCRIPTION:Has HIV/AIDS affected your life? This drop-in conversation group is a safe space where you can talk about the changes\, challenges\, inspirations\, and supports in your life as you move forward. The third Wednesday of the month is a group for everyone\, all welcome!\nContact Sandra or Rosa for more information\, 204-940-6000
URL:https://ninecircles.ca/event/coffee-talk-welcome/2020-02-12/
LOCATION:Manitoba
CATEGORIES:People living with HIV only
END:VEVENT
BEGIN:VEVENT
DTSTART;TZID=America/Winnipeg:20200212T120000
DTEND;TZID=America/Winnipeg:20200212T130000
DTSTAMP:20260420T185051
CREATED:20190823T152927Z
LAST-MODIFIED:20200115T170510Z
UID:10001783-1581508800-1581512400@ninecircles.ca
SUMMARY:Indigenous Drumming and Singing
DESCRIPTION:Share a song\, learn a song\, or sing along.  In the Round Room at Nine Circles.   \nEveryone is welcome!  Snacks provided. \nCall Sharon for more information\, 204-940-6000.
URL:https://ninecircles.ca/event/indigenous-drumming-and-singing/2020-02-12/
LOCATION:Nine Circles Community Centre\, 705 Broadway Winnipeg\, Winnipeg\, Manitoba\, R3G 0X2\, Canada
CATEGORIES:Client Events
END:VEVENT
BEGIN:VEVENT
DTSTART;TZID=America/Winnipeg:20200211T133000
DTEND;TZID=America/Winnipeg:20200211T153000
DTSTAMP:20260420T185051
CREATED:20200115T162344Z
LAST-MODIFIED:20200115T162344Z
UID:10001822-1581427800-1581435000@ninecircles.ca
SUMMARY:Women's Resiliency Toolbox - closed group
DESCRIPTION:For more information talk to Sandra or Rosa.
URL:https://ninecircles.ca/event/womens-resiliency-toolbox-closed-group/2020-02-11/
LOCATION:Nine Circles Community Centre\, 705 Broadway Winnipeg\, Winnipeg\, Manitoba\, R3G 0X2\, Canada
CATEGORIES:Client Events
END:VEVENT
BEGIN:VEVENT
DTSTART;TZID=America/Winnipeg:20200207T143000
DTEND;TZID=America/Winnipeg:20200207T153000
DTSTAMP:20260420T185051
CREATED:20161219T182627Z
LAST-MODIFIED:20190220T174831Z
UID:10001261-1581085800-1581089400@ninecircles.ca
SUMMARY:What's Your Goal?
DESCRIPTION:Join us for our monthly group dedicated to goal-setting on the first Friday of every month at 2:30! \nDuring the group we will: \n-Set our own personal action plans – something you would like to accomplish\n-Learn problem solving techniques\n-Check in on our progress\n-Share successes\n-Brainstorm ideas for next time! \nYour goal can be anything that you would like.  Would you like to work on your health\, diet\, communication skills\, your home\, your habits… you name it! \nRefreshments Provided\, All Welcome!
URL:https://ninecircles.ca/event/whats-your-goal/2020-02-07/
LOCATION:Manitoba
CATEGORIES:Client Events
END:VEVENT
BEGIN:VEVENT
DTSTART;TZID=America/Winnipeg:20200206T080000
DTEND;TZID=America/Winnipeg:20200206T170000
DTSTAMP:20260420T185051
CREATED:20190719T161515Z
LAST-MODIFIED:20200326T193230Z
UID:10001773-1580976000-1581008400@ninecircles.ca
SUMMARY:Food Bank A-K Members
DESCRIPTION:Food Bank is available for members only.  Please phone 204-940-6000 and ask to speak with Tania for assistance.
URL:https://ninecircles.ca/event/food-bank-a-k-members-3/2020-02-06/
LOCATION:Nine Circles Community Centre\, 705 Broadway Winnipeg\, Winnipeg\, Manitoba\, R3G 0X2\, Canada
CATEGORIES:People living with HIV only
END:VEVENT
BEGIN:VEVENT
DTSTART;TZID=America/Winnipeg:20200205T183000
DTEND;TZID=America/Winnipeg:20200205T193000
DTSTAMP:20260420T185051
CREATED:20170406T202411Z
LAST-MODIFIED:20190703T212055Z
UID:10001430-1580927400-1580931000@ninecircles.ca
SUMMARY:Coffee Talk - Men's Group
DESCRIPTION:Has HIV/AIDS affected your life?  This drop-in conversation group is a safe space where you can talk about the changes\, challenges\, inspirations\, and supports in your life as you move forward.  The first Wednesday of the month is Men’s only group.\nContact Sandra or Rosa for more information\, 204-940-6000
URL:https://ninecircles.ca/event/coffee-talk-msm/2020-02-05/
LOCATION:Manitoba
CATEGORIES:People living with HIV only
END:VEVENT
BEGIN:VEVENT
DTSTART;TZID=America/Winnipeg:20200205T120000
DTEND;TZID=America/Winnipeg:20200205T130000
DTSTAMP:20260420T185051
CREATED:20190823T152927Z
LAST-MODIFIED:20200115T170510Z
UID:10001782-1580904000-1580907600@ninecircles.ca
SUMMARY:Indigenous Drumming and Singing
DESCRIPTION:Share a song\, learn a song\, or sing along.  In the Round Room at Nine Circles.   \nEveryone is welcome!  Snacks provided. \nCall Sharon for more information\, 204-940-6000.
URL:https://ninecircles.ca/event/indigenous-drumming-and-singing/2020-02-05/
LOCATION:Nine Circles Community Centre\, 705 Broadway Winnipeg\, Winnipeg\, Manitoba\, R3G 0X2\, Canada
CATEGORIES:Client Events
END:VEVENT
BEGIN:VEVENT
DTSTART;TZID=America/Winnipeg:20200204T133000
DTEND;TZID=America/Winnipeg:20200204T153000
DTSTAMP:20260420T185051
CREATED:20200115T162344Z
LAST-MODIFIED:20200115T162344Z
UID:10001821-1580823000-1580830200@ninecircles.ca
SUMMARY:Women's Resiliency Toolbox - closed group
DESCRIPTION:For more information talk to Sandra or Rosa.
URL:https://ninecircles.ca/event/womens-resiliency-toolbox-closed-group/2020-02-04/
LOCATION:Nine Circles Community Centre\, 705 Broadway Winnipeg\, Winnipeg\, Manitoba\, R3G 0X2\, Canada
CATEGORIES:Client Events
END:VEVENT
BEGIN:VEVENT
DTSTART;TZID=America/Winnipeg:20200130T120000
DTEND;TZID=America/Winnipeg:20200130T130000
DTSTAMP:20260420T185051
CREATED:20190719T161356Z
LAST-MODIFIED:20200326T183924Z
UID:10001766-1580385600-1580389200@ninecircles.ca
SUMMARY:Food Bank L-Z Members
DESCRIPTION:Food Bank is available for members only.  Please phone 204-940-6000 and ask to speak with Tania for assistance.
URL:https://ninecircles.ca/event/food-bank-l-z-members-4/2020-01-30/
LOCATION:Nine Circles Community Centre\, 705 Broadway Winnipeg\, Winnipeg\, Manitoba\, R3G 0X2\, Canada
CATEGORIES:People living with HIV only
END:VEVENT
BEGIN:VEVENT
DTSTART;TZID=America/Winnipeg:20200128T133000
DTEND;TZID=America/Winnipeg:20200128T153000
DTSTAMP:20260420T185051
CREATED:20171002T170519Z
LAST-MODIFIED:20191211T214143Z
UID:10001542-1580218200-1580225400@ninecircles.ca
SUMMARY:Resilience Tool Box - Women's Group starts today
DESCRIPTION:We will work on mindfulness\, cognitive behavioral techniques\, emotional self regulation and interpersonal effectiveness. \nThis group takes place over six sessions\, once per week on Tuesdays\, starting January 28. \nThis is a closed group for women\, participants should plan to attend each day. \nIf you would like to register or if you have questions please phone Sandra or Rosa at 204-940-6000. \nA light snack is provided.
URL:https://ninecircles.ca/event/resilience-tool-box-womens-group/2020-01-28/
LOCATION:Manitoba
CATEGORIES:Client Events
END:VEVENT
BEGIN:VEVENT
DTSTART;TZID=America/Winnipeg:20200123T080000
DTEND;TZID=America/Winnipeg:20200123T170000
DTSTAMP:20260420T185051
CREATED:20190719T161515Z
LAST-MODIFIED:20200326T193230Z
UID:10001772-1579766400-1579798800@ninecircles.ca
SUMMARY:Food Bank A-K Members
DESCRIPTION:Food Bank is available for members only.  Please phone 204-940-6000 and ask to speak with Tania for assistance.
URL:https://ninecircles.ca/event/food-bank-a-k-members-3/2020-01-23/
LOCATION:Nine Circles Community Centre\, 705 Broadway Winnipeg\, Winnipeg\, Manitoba\, R3G 0X2\, Canada
CATEGORIES:People living with HIV only
END:VEVENT
BEGIN:VEVENT
DTSTART;TZID=America/Winnipeg:20200122T183000
DTEND;TZID=America/Winnipeg:20200122T193000
DTSTAMP:20260420T185051
CREATED:20180226T160659Z
LAST-MODIFIED:20200316T215030Z
UID:10001569-1579717800-1579721400@ninecircles.ca
SUMMARY:Coffee Talk - HIV and Employment Group
DESCRIPTION:Has HIV/AIDS affected your life? This drop-in conversation group is a safe space where you can talk about the changes\, challenges\, inspirations\, and supports in your life as you move forward.  \nThe fourth Wednesday of the month is a group for HIV positive individuals who are currently working or are in school\, part time or full time.  We will discuss issues around juggling the demands of working\, studying and achieving wellness at the same time.  Issues such as disclosure\, managing side effects of meds\, and health challenges will also be discussed. \nContact Sandra or Rosa for more information\, 204-940-6000
URL:https://ninecircles.ca/event/2431/2020-01-22/
LOCATION:Manitoba
CATEGORIES:People living with HIV only
END:VEVENT
BEGIN:VEVENT
DTSTART;TZID=America/Winnipeg:20200116T120000
DTEND;TZID=America/Winnipeg:20200116T130000
DTSTAMP:20260420T185051
CREATED:20190719T161356Z
LAST-MODIFIED:20200326T183924Z
UID:10001765-1579176000-1579179600@ninecircles.ca
SUMMARY:Food Bank L-Z Members
DESCRIPTION:Food Bank is available for members only.  Please phone 204-940-6000 and ask to speak with Tania for assistance.
URL:https://ninecircles.ca/event/food-bank-l-z-members-4/2020-01-16/
LOCATION:Nine Circles Community Centre\, 705 Broadway Winnipeg\, Winnipeg\, Manitoba\, R3G 0X2\, Canada
CATEGORIES:People living with HIV only
END:VEVENT
BEGIN:VEVENT
DTSTART;TZID=America/Winnipeg:20200115T183000
DTEND;TZID=America/Winnipeg:20200115T193000
DTSTAMP:20260420T185051
CREATED:20170406T203449Z
LAST-MODIFIED:20200316T211103Z
UID:10001482-1579113000-1579116600@ninecircles.ca
SUMMARY:Coffee Talk - All Welcome
DESCRIPTION:Has HIV/AIDS affected your life? This drop-in conversation group is a safe space where you can talk about the changes\, challenges\, inspirations\, and supports in your life as you move forward. The third Wednesday of the month is a group for everyone\, all welcome!\nContact Sandra or Rosa for more information\, 204-940-6000
URL:https://ninecircles.ca/event/coffee-talk-welcome/2020-01-15/
LOCATION:Manitoba
CATEGORIES:People living with HIV only
END:VEVENT
BEGIN:VEVENT
DTSTART;TZID=America/Winnipeg:20200109T080000
DTEND;TZID=America/Winnipeg:20200109T170000
DTSTAMP:20260420T185051
CREATED:20190719T161515Z
LAST-MODIFIED:20200326T193230Z
UID:10001771-1578556800-1578589200@ninecircles.ca
SUMMARY:Food Bank A-K Members
DESCRIPTION:Food Bank is available for members only.  Please phone 204-940-6000 and ask to speak with Tania for assistance.
URL:https://ninecircles.ca/event/food-bank-a-k-members-3/2020-01-09/
LOCATION:Nine Circles Community Centre\, 705 Broadway Winnipeg\, Winnipeg\, Manitoba\, R3G 0X2\, Canada
CATEGORIES:People living with HIV only
END:VEVENT
BEGIN:VEVENT
DTSTART;TZID=America/Winnipeg:20200108T183000
DTEND;TZID=America/Winnipeg:20200108T193000
DTSTAMP:20260420T185051
CREATED:20230206T210451Z
LAST-MODIFIED:20230206T210451Z
UID:10001516-1578508200-1578511800@ninecircles.ca
SUMMARY:Coffee Talk - All Welcome
DESCRIPTION:Has HIV/AIDS affected your life? This drop-in conversation group is a safe space where you can talk about the changes\, challenges\, inspirations\, and supports in your life as you move forward. The third Wednesday of the month is a group for everyone\, all welcome!\nContact Sandra or Rosa for more information\, 204-940-6000
URL:https://ninecircles.ca/event/coffee-talk-welcome/2020-01-08/
LOCATION:Manitoba
CATEGORIES:People living with HIV only
END:VEVENT
BEGIN:VEVENT
DTSTART;TZID=America/Winnipeg:20200103T143000
DTEND;TZID=America/Winnipeg:20200103T153000
DTSTAMP:20260420T185051
CREATED:20161219T182627Z
LAST-MODIFIED:20190220T174831Z
UID:10001260-1578061800-1578065400@ninecircles.ca
SUMMARY:What's Your Goal?
DESCRIPTION:Join us for our monthly group dedicated to goal-setting on the first Friday of every month at 2:30! \nDuring the group we will: \n-Set our own personal action plans – something you would like to accomplish\n-Learn problem solving techniques\n-Check in on our progress\n-Share successes\n-Brainstorm ideas for next time! \nYour goal can be anything that you would like.  Would you like to work on your health\, diet\, communication skills\, your home\, your habits… you name it! \nRefreshments Provided\, All Welcome!
URL:https://ninecircles.ca/event/whats-your-goal/2020-01-03/
LOCATION:Manitoba
CATEGORIES:Client Events
END:VEVENT
BEGIN:VEVENT
DTSTART;TZID=America/Winnipeg:20200102T120000
DTEND;TZID=America/Winnipeg:20200102T130000
DTSTAMP:20260420T185051
CREATED:20190719T161356Z
LAST-MODIFIED:20200326T183924Z
UID:10001764-1577966400-1577970000@ninecircles.ca
SUMMARY:Food Bank L-Z Members
DESCRIPTION:Food Bank is available for members only.  Please phone 204-940-6000 and ask to speak with Tania for assistance.
URL:https://ninecircles.ca/event/food-bank-l-z-members-4/2020-01-02/
LOCATION:Nine Circles Community Centre\, 705 Broadway Winnipeg\, Winnipeg\, Manitoba\, R3G 0X2\, Canada
CATEGORIES:People living with HIV only
END:VEVENT
BEGIN:VEVENT
DTSTART;VALUE=DATE:20200101
DTEND;VALUE=DATE:20200102
DTSTAMP:20260420T185051
CREATED:20191211T212706Z
LAST-MODIFIED:20191211T212736Z
UID:10001820-1577836800-1577923199@ninecircles.ca
SUMMARY:Nine Circles Closed
DESCRIPTION:Nine Circles will be closed for New Years Day.
URL:https://ninecircles.ca/event/nine-circles-closed-15/
LOCATION:Nine Circles Community Centre\, 705 Broadway Winnipeg\, Winnipeg\, Manitoba\, R3G 0X2\, Canada
CATEGORIES:Announcements
END:VEVENT
BEGIN:VEVENT
DTSTART;VALUE=DATE:20191226
DTEND;VALUE=DATE:20191227
DTSTAMP:20260420T185051
CREATED:20190329T152013Z
LAST-MODIFIED:20190329T152013Z
UID:10001759-1577318400-1577404799@ninecircles.ca
SUMMARY:Nine Circles Closed
DESCRIPTION:
URL:https://ninecircles.ca/event/nine-circles-closed-12/2019-12-26/
LOCATION:Nine Circles Community Centre\, 705 Broadway Winnipeg\, Winnipeg\, Manitoba\, R3G 0X2\, Canada
CATEGORIES:Announcements
END:VEVENT
BEGIN:VEVENT
DTSTART;VALUE=DATE:20191225
DTEND;VALUE=DATE:20191226
DTSTAMP:20260420T185051
CREATED:20190329T152013Z
LAST-MODIFIED:20190329T152013Z
UID:10001758-1577232000-1577318399@ninecircles.ca
SUMMARY:Nine Circles Closed
DESCRIPTION:
URL:https://ninecircles.ca/event/nine-circles-closed-12/2019-12-25/
LOCATION:Nine Circles Community Centre\, 705 Broadway Winnipeg\, Winnipeg\, Manitoba\, R3G 0X2\, Canada
CATEGORIES:Announcements
END:VEVENT
BEGIN:VEVENT
DTSTART;TZID=America/Winnipeg:20191219T120000
DTEND;TZID=America/Winnipeg:20191219T120000
DTSTAMP:20260420T185051
CREATED:20180723T143440Z
LAST-MODIFIED:20190703T211424Z
UID:10001696-1576756800-1576756800@ninecircles.ca
SUMMARY:Food Bank A-K Members
DESCRIPTION:Food Bank is available for members only.  Please phone 204-940-6000 and ask to speak with Tania for assistance.
URL:https://ninecircles.ca/event/food-bank-a-k-members-2/2019-12-19/
LOCATION:Manitoba
CATEGORIES:People living with HIV only
END:VEVENT
BEGIN:VEVENT
DTSTART;TZID=America/Winnipeg:20191218T183000
DTEND;TZID=America/Winnipeg:20191218T193000
DTSTAMP:20260420T185051
CREATED:20170406T203449Z
LAST-MODIFIED:20200316T211103Z
UID:10001481-1576693800-1576697400@ninecircles.ca
SUMMARY:Coffee Talk - All Welcome
DESCRIPTION:Has HIV/AIDS affected your life? This drop-in conversation group is a safe space where you can talk about the changes\, challenges\, inspirations\, and supports in your life as you move forward. The third Wednesday of the month is a group for everyone\, all welcome!\nContact Sandra or Rosa for more information\, 204-940-6000
URL:https://ninecircles.ca/event/coffee-talk-welcome/2019-12-18/
LOCATION:Manitoba
CATEGORIES:People living with HIV only
END:VEVENT
BEGIN:VEVENT
DTSTART;TZID=America/Winnipeg:20191212T120000
DTEND;TZID=America/Winnipeg:20191212T130000
DTSTAMP:20260420T185051
CREATED:20180723T143608Z
LAST-MODIFIED:20190703T211515Z
UID:10001721-1576152000-1576155600@ninecircles.ca
SUMMARY:Food Bank L-Z Members
DESCRIPTION:Food Bank is available for members only.  Please phone 204-940-6000 and ask to speak with Tania for assistance.
URL:https://ninecircles.ca/event/food-bank-l-z-members-3/2019-12-12/
LOCATION:Manitoba
CATEGORIES:People living with HIV only
END:VEVENT
BEGIN:VEVENT
DTSTART;TZID=America/Winnipeg:20191211T183000
DTEND;TZID=America/Winnipeg:20191211T193000
DTSTAMP:20260420T185051
CREATED:20230206T210451Z
LAST-MODIFIED:20230206T210451Z
UID:10001515-1576089000-1576092600@ninecircles.ca
SUMMARY:Coffee Talk - All Welcome
DESCRIPTION:Has HIV/AIDS affected your life? This drop-in conversation group is a safe space where you can talk about the changes\, challenges\, inspirations\, and supports in your life as you move forward. The third Wednesday of the month is a group for everyone\, all welcome!\nContact Sandra or Rosa for more information\, 204-940-6000
URL:https://ninecircles.ca/event/coffee-talk-welcome/2019-12-11/
LOCATION:Manitoba
CATEGORIES:People living with HIV only
END:VEVENT
BEGIN:VEVENT
DTSTART;TZID=America/Winnipeg:20191206T200000
DTEND;TZID=America/Winnipeg:20191206T220000
DTSTAMP:20260420T185051
CREATED:20191120T221205Z
LAST-MODIFIED:20191120T221205Z
UID:10001816-1575662400-1575669600@ninecircles.ca
SUMMARY:STILL BEGINNING: The 30th Annual Day With(out) Art
DESCRIPTION:You’re invited to mark World AIDS Day & Aboriginal AIDS Awareness Week with Nine Circles Community Health Centre & Video Pool Media Arts Centre! \nJoin us for the opening of STILL BEGINNING: The 30th Annual Day With(out) Art on Friday\, December 6\, 2019 from 8pm-10pm. \nVideo Pool and Nine Circles Community Health Centre are proud to partner with Visual AIDS for the thirtieth annual Day With(out) Art by presenting STILL BEGINNING\, a program of seven newly commissioned videos responding to the ongoing HIV/AIDS epidemic by Shanti Avirgan\, Nguyen Tan Hoang\, Carl George\, Viva Ruiz\, Iman Shervington\, Jack Waters/Victor F.M. Torres\, and Derrick Woods-Morrow.
URL:https://ninecircles.ca/event/still-beginning-the-30th-annual-day-without-art/
LOCATION:Video Pool Media Arts Centre\, 100 Arthur St # 300\, Winnipeg\, Manitoba\, R3B 1H3\, Canada
CATEGORIES:Community / Public Events
ORGANIZER;CN="Nine Circles Community Health":MAILTO:ninecircles@ninecircles.ca
END:VEVENT
BEGIN:VEVENT
DTSTART;TZID=America/Winnipeg:20191206T143000
DTEND;TZID=America/Winnipeg:20191206T153000
DTSTAMP:20260420T185051
CREATED:20161219T182627Z
LAST-MODIFIED:20190220T174831Z
UID:10001259-1575642600-1575646200@ninecircles.ca
SUMMARY:What's Your Goal?
DESCRIPTION:Join us for our monthly group dedicated to goal-setting on the first Friday of every month at 2:30! \nDuring the group we will: \n-Set our own personal action plans – something you would like to accomplish\n-Learn problem solving techniques\n-Check in on our progress\n-Share successes\n-Brainstorm ideas for next time! \nYour goal can be anything that you would like.  Would you like to work on your health\, diet\, communication skills\, your home\, your habits… you name it! \nRefreshments Provided\, All Welcome!
URL:https://ninecircles.ca/event/whats-your-goal/2019-12-06/
LOCATION:Manitoba
CATEGORIES:Client Events
END:VEVENT
BEGIN:VEVENT
DTSTART;TZID=America/Winnipeg:20191205T120000
DTEND;TZID=America/Winnipeg:20191205T120000
DTSTAMP:20260420T185051
CREATED:20180723T143440Z
LAST-MODIFIED:20190703T211424Z
UID:10001695-1575547200-1575547200@ninecircles.ca
SUMMARY:Food Bank A-K Members
DESCRIPTION:Food Bank is available for members only.  Please phone 204-940-6000 and ask to speak with Tania for assistance.
URL:https://ninecircles.ca/event/food-bank-a-k-members-2/2019-12-05/
LOCATION:Manitoba
CATEGORIES:People living with HIV only
END:VEVENT
END:VCALENDAR