BEGIN:VCALENDAR
VERSION:2.0
PRODID:-//Nine Circles Community Health Centre - ECPv6.15.18//NONSGML v1.0//EN
CALSCALE:GREGORIAN
METHOD:PUBLISH
X-WR-CALNAME:Nine Circles Community Health Centre
X-ORIGINAL-URL:https://ninecircles.ca
X-WR-CALDESC:Events for Nine Circles Community Health Centre
REFRESH-INTERVAL;VALUE=DURATION:PT1H
X-Robots-Tag:noindex
X-PUBLISHED-TTL:PT1H
BEGIN:VTIMEZONE
TZID:America/Winnipeg
BEGIN:DAYLIGHT
TZOFFSETFROM:-0600
TZOFFSETTO:-0500
TZNAME:CDT
DTSTART:20180311T080000
END:DAYLIGHT
BEGIN:STANDARD
TZOFFSETFROM:-0500
TZOFFSETTO:-0600
TZNAME:CST
DTSTART:20181104T070000
END:STANDARD
BEGIN:DAYLIGHT
TZOFFSETFROM:-0600
TZOFFSETTO:-0500
TZNAME:CDT
DTSTART:20190310T080000
END:DAYLIGHT
BEGIN:STANDARD
TZOFFSETFROM:-0500
TZOFFSETTO:-0600
TZNAME:CST
DTSTART:20191103T070000
END:STANDARD
BEGIN:DAYLIGHT
TZOFFSETFROM:-0600
TZOFFSETTO:-0500
TZNAME:CDT
DTSTART:20200308T080000
END:DAYLIGHT
BEGIN:STANDARD
TZOFFSETFROM:-0500
TZOFFSETTO:-0600
TZNAME:CST
DTSTART:20201101T070000
END:STANDARD
END:VTIMEZONE
BEGIN:VEVENT
DTSTART;TZID=America/Winnipeg:20190906T143000
DTEND;TZID=America/Winnipeg:20190906T153000
DTSTAMP:20260421T201745
CREATED:20161219T182627Z
LAST-MODIFIED:20190220T174831Z
UID:10001256-1567780200-1567783800@ninecircles.ca
SUMMARY:What's Your Goal?
DESCRIPTION:Join us for our monthly group dedicated to goal-setting on the first Friday of every month at 2:30! \nDuring the group we will: \n-Set our own personal action plans – something you would like to accomplish\n-Learn problem solving techniques\n-Check in on our progress\n-Share successes\n-Brainstorm ideas for next time! \nYour goal can be anything that you would like.  Would you like to work on your health\, diet\, communication skills\, your home\, your habits… you name it! \nRefreshments Provided\, All Welcome!
URL:https://ninecircles.ca/event/whats-your-goal/2019-09-06/
LOCATION:Manitoba
CATEGORIES:Client Events
END:VEVENT
BEGIN:VEVENT
DTSTART;TZID=America/Winnipeg:20190905T120000
DTEND;TZID=America/Winnipeg:20190905T130000
DTSTAMP:20260421T201745
CREATED:20180723T143608Z
LAST-MODIFIED:20190703T211515Z
UID:10001714-1567684800-1567688400@ninecircles.ca
SUMMARY:Food Bank L-Z Members
DESCRIPTION:Food Bank is available for members only.  Please phone 204-940-6000 and ask to speak with Tania for assistance.
URL:https://ninecircles.ca/event/food-bank-l-z-members-3/2019-09-05/
LOCATION:Manitoba
CATEGORIES:People living with HIV only
END:VEVENT
BEGIN:VEVENT
DTSTART;TZID=America/Winnipeg:20190904T183000
DTEND;TZID=America/Winnipeg:20190904T193000
DTSTAMP:20260421T201745
CREATED:20170406T202411Z
LAST-MODIFIED:20190703T212055Z
UID:10001426-1567621800-1567625400@ninecircles.ca
SUMMARY:Coffee Talk - Men's Group
DESCRIPTION:Has HIV/AIDS affected your life?  This drop-in conversation group is a safe space where you can talk about the changes\, challenges\, inspirations\, and supports in your life as you move forward.  The first Wednesday of the month is Men’s only group.\nContact Sandra or Rosa for more information\, 204-940-6000
URL:https://ninecircles.ca/event/coffee-talk-msm/2019-09-04/
LOCATION:Manitoba
CATEGORIES:People living with HIV only
END:VEVENT
BEGIN:VEVENT
DTSTART;TZID=America/Winnipeg:20190904T120000
DTEND;TZID=America/Winnipeg:20190904T130000
DTSTAMP:20260421T201745
CREATED:20190823T152927Z
LAST-MODIFIED:20200115T170510Z
UID:10001781-1567598400-1567602000@ninecircles.ca
SUMMARY:Indigenous Drumming and Singing
DESCRIPTION:Share a song\, learn a song\, or sing along.  In the Round Room at Nine Circles.   \nEveryone is welcome!  Snacks provided. \nCall Sharon for more information\, 204-940-6000.
URL:https://ninecircles.ca/event/indigenous-drumming-and-singing/2019-09-04/
LOCATION:Nine Circles Community Centre\, 705 Broadway Winnipeg\, Winnipeg\, Manitoba\, R3G 0X2\, Canada
CATEGORIES:Client Events
END:VEVENT
BEGIN:VEVENT
DTSTART;VALUE=DATE:20190902
DTEND;VALUE=DATE:20190903
DTSTAMP:20260421T201745
CREATED:20190329T152013Z
LAST-MODIFIED:20190329T152013Z
UID:10001755-1567382400-1567468799@ninecircles.ca
SUMMARY:Nine Circles Closed
DESCRIPTION:
URL:https://ninecircles.ca/event/nine-circles-closed-12/2019-09-02/
LOCATION:Nine Circles Community Centre\, 705 Broadway Winnipeg\, Winnipeg\, Manitoba\, R3G 0X2\, Canada
CATEGORIES:Announcements
END:VEVENT
BEGIN:VEVENT
DTSTART;TZID=America/Winnipeg:20190829T120000
DTEND;TZID=America/Winnipeg:20190829T120000
DTSTAMP:20260421T201745
CREATED:20180723T143440Z
LAST-MODIFIED:20190703T211424Z
UID:10001688-1567080000-1567080000@ninecircles.ca
SUMMARY:Food Bank A-K Members
DESCRIPTION:Food Bank is available for members only.  Please phone 204-940-6000 and ask to speak with Tania for assistance.
URL:https://ninecircles.ca/event/food-bank-a-k-members-2/2019-08-29/
LOCATION:Manitoba
CATEGORIES:People living with HIV only
END:VEVENT
BEGIN:VEVENT
DTSTART;TZID=America/Winnipeg:20190828T183000
DTEND;TZID=America/Winnipeg:20190828T193000
DTSTAMP:20260421T201745
CREATED:20180226T160659Z
LAST-MODIFIED:20200316T215030Z
UID:10001565-1567017000-1567020600@ninecircles.ca
SUMMARY:Coffee Talk - HIV and Employment Group
DESCRIPTION:Has HIV/AIDS affected your life? This drop-in conversation group is a safe space where you can talk about the changes\, challenges\, inspirations\, and supports in your life as you move forward.  \nThe fourth Wednesday of the month is a group for HIV positive individuals who are currently working or are in school\, part time or full time.  We will discuss issues around juggling the demands of working\, studying and achieving wellness at the same time.  Issues such as disclosure\, managing side effects of meds\, and health challenges will also be discussed. \nContact Sandra or Rosa for more information\, 204-940-6000
URL:https://ninecircles.ca/event/2431/2019-08-28/
LOCATION:Manitoba
CATEGORIES:People living with HIV only
END:VEVENT
BEGIN:VEVENT
DTSTART;TZID=America/Winnipeg:20190826T090000
DTEND;TZID=America/Winnipeg:20190826T120000
DTSTAMP:20260421T201745
CREATED:20190220T173729Z
LAST-MODIFIED:20190528T143346Z
UID:10001737-1566810000-1566820800@ninecircles.ca
SUMMARY:Massage Therapy
DESCRIPTION:Robertson College will be sending massage therapy students to provide free massages to Nine Circles Primary Care and Manitoba HIV Program clients. To book an appointment\, call 204-940-6000.
URL:https://ninecircles.ca/event/massage-therapy/2019-08-26/
LOCATION:Nine Circles Community Centre\, 705 Broadway Winnipeg\, Winnipeg\, Manitoba\, R3G 0X2\, Canada
CATEGORIES:Client Events
END:VEVENT
BEGIN:VEVENT
DTSTART;TZID=America/Winnipeg:20190822T120000
DTEND;TZID=America/Winnipeg:20190822T130000
DTSTAMP:20260421T201745
CREATED:20180723T143608Z
LAST-MODIFIED:20190703T211515Z
UID:10001713-1566475200-1566478800@ninecircles.ca
SUMMARY:Food Bank L-Z Members
DESCRIPTION:Food Bank is available for members only.  Please phone 204-940-6000 and ask to speak with Tania for assistance.
URL:https://ninecircles.ca/event/food-bank-l-z-members-3/2019-08-22/
LOCATION:Manitoba
CATEGORIES:People living with HIV only
END:VEVENT
BEGIN:VEVENT
DTSTART;TZID=America/Winnipeg:20190821T183000
DTEND;TZID=America/Winnipeg:20190821T193000
DTSTAMP:20260421T201745
CREATED:20170406T203449Z
LAST-MODIFIED:20200316T211103Z
UID:10001477-1566412200-1566415800@ninecircles.ca
SUMMARY:Coffee Talk - All Welcome
DESCRIPTION:Has HIV/AIDS affected your life? This drop-in conversation group is a safe space where you can talk about the changes\, challenges\, inspirations\, and supports in your life as you move forward. The third Wednesday of the month is a group for everyone\, all welcome!\nContact Sandra or Rosa for more information\, 204-940-6000
URL:https://ninecircles.ca/event/coffee-talk-welcome/2019-08-21/
LOCATION:Manitoba
CATEGORIES:People living with HIV only
END:VEVENT
BEGIN:VEVENT
DTSTART;TZID=America/Winnipeg:20190815T120000
DTEND;TZID=America/Winnipeg:20190815T120000
DTSTAMP:20260421T201745
CREATED:20180723T143440Z
LAST-MODIFIED:20190703T211424Z
UID:10001687-1565870400-1565870400@ninecircles.ca
SUMMARY:Food Bank A-K Members
DESCRIPTION:Food Bank is available for members only.  Please phone 204-940-6000 and ask to speak with Tania for assistance.
URL:https://ninecircles.ca/event/food-bank-a-k-members-2/2019-08-15/
LOCATION:Manitoba
CATEGORIES:People living with HIV only
END:VEVENT
BEGIN:VEVENT
DTSTART;TZID=America/Winnipeg:20190814T183000
DTEND;TZID=America/Winnipeg:20190814T193000
DTSTAMP:20260421T201745
CREATED:20230206T210451Z
LAST-MODIFIED:20230206T210451Z
UID:10001511-1565807400-1565811000@ninecircles.ca
SUMMARY:Coffee Talk - All Welcome
DESCRIPTION:Has HIV/AIDS affected your life? This drop-in conversation group is a safe space where you can talk about the changes\, challenges\, inspirations\, and supports in your life as you move forward. The third Wednesday of the month is a group for everyone\, all welcome!\nContact Sandra or Rosa for more information\, 204-940-6000
URL:https://ninecircles.ca/event/coffee-talk-welcome/2019-08-14/
LOCATION:Manitoba
CATEGORIES:People living with HIV only
END:VEVENT
BEGIN:VEVENT
DTSTART;TZID=America/Winnipeg:20190814T183000
DTEND;TZID=America/Winnipeg:20190814T193000
DTSTAMP:20260421T201745
CREATED:20190719T211105Z
LAST-MODIFIED:20190828T174801Z
UID:10001779-1565807400-1565811000@ninecircles.ca
SUMMARY:Coffee Talk - All Welcome
DESCRIPTION:Has HIV/AIDS affected your life? This drop-in conversation group is a safe space where you can talk about the changes\, challenges\, inspirations\, and supports in your life as you move forward. This Wednesday will be a group for everyone\, all welcome!\nContact Sandra or Rosa for more information\, 204-940-6000
URL:https://ninecircles.ca/event/coffee-talk-all-welcome/2019-08-14/
LOCATION:Nine Circles Community Centre\, 705 Broadway Winnipeg\, Winnipeg\, Manitoba\, R3G 0X2\, Canada
CATEGORIES:People living with HIV only
END:VEVENT
BEGIN:VEVENT
DTSTART;TZID=America/Winnipeg:20190814T134500
DTEND;TZID=America/Winnipeg:20190814T170000
DTSTAMP:20260421T201746
CREATED:20190220T174200Z
LAST-MODIFIED:20190528T143201Z
UID:10001745-1565790300-1565802000@ninecircles.ca
SUMMARY:Massage Therapy
DESCRIPTION:Robertson College will be sending massage therapy students to provide free massages to Nine Circles Primary Care and Manitoba HIV Program clients. To book an appointment\, call 204-940-6000.
URL:https://ninecircles.ca/event/3599/2019-08-14/
LOCATION:Nine Circles Community Centre\, 705 Broadway Winnipeg\, Winnipeg\, Manitoba\, R3G 0X2\, Canada
CATEGORIES:Client Events
END:VEVENT
BEGIN:VEVENT
DTSTART;TZID=America/Winnipeg:20190808T120000
DTEND;TZID=America/Winnipeg:20190808T130000
DTSTAMP:20260421T201746
CREATED:20180723T143608Z
LAST-MODIFIED:20190703T211515Z
UID:10001712-1565265600-1565269200@ninecircles.ca
SUMMARY:Food Bank L-Z Members
DESCRIPTION:Food Bank is available for members only.  Please phone 204-940-6000 and ask to speak with Tania for assistance.
URL:https://ninecircles.ca/event/food-bank-l-z-members-3/2019-08-08/
LOCATION:Manitoba
CATEGORIES:People living with HIV only
END:VEVENT
BEGIN:VEVENT
DTSTART;TZID=America/Winnipeg:20190807T183000
DTEND;TZID=America/Winnipeg:20190807T193000
DTSTAMP:20260421T201746
CREATED:20170406T202411Z
LAST-MODIFIED:20190703T212055Z
UID:10001425-1565202600-1565206200@ninecircles.ca
SUMMARY:Coffee Talk - Men's Group
DESCRIPTION:Has HIV/AIDS affected your life?  This drop-in conversation group is a safe space where you can talk about the changes\, challenges\, inspirations\, and supports in your life as you move forward.  The first Wednesday of the month is Men’s only group.\nContact Sandra or Rosa for more information\, 204-940-6000
URL:https://ninecircles.ca/event/coffee-talk-msm/2019-08-07/
LOCATION:Manitoba
CATEGORIES:People living with HIV only
END:VEVENT
BEGIN:VEVENT
DTSTART;VALUE=DATE:20190805
DTEND;VALUE=DATE:20190806
DTSTAMP:20260421T201746
CREATED:20190329T152013Z
LAST-MODIFIED:20190329T152013Z
UID:10001754-1564963200-1565049599@ninecircles.ca
SUMMARY:Nine Circles Closed
DESCRIPTION:
URL:https://ninecircles.ca/event/nine-circles-closed-12/2019-08-05/
LOCATION:Nine Circles Community Centre\, 705 Broadway Winnipeg\, Winnipeg\, Manitoba\, R3G 0X2\, Canada
CATEGORIES:Announcements
END:VEVENT
BEGIN:VEVENT
DTSTART;TZID=America/Winnipeg:20190802T143000
DTEND;TZID=America/Winnipeg:20190802T153000
DTSTAMP:20260421T201746
CREATED:20161219T182627Z
LAST-MODIFIED:20190220T174831Z
UID:10001255-1564756200-1564759800@ninecircles.ca
SUMMARY:What's Your Goal?
DESCRIPTION:Join us for our monthly group dedicated to goal-setting on the first Friday of every month at 2:30! \nDuring the group we will: \n-Set our own personal action plans – something you would like to accomplish\n-Learn problem solving techniques\n-Check in on our progress\n-Share successes\n-Brainstorm ideas for next time! \nYour goal can be anything that you would like.  Would you like to work on your health\, diet\, communication skills\, your home\, your habits… you name it! \nRefreshments Provided\, All Welcome!
URL:https://ninecircles.ca/event/whats-your-goal/2019-08-02/
LOCATION:Manitoba
CATEGORIES:Client Events
END:VEVENT
BEGIN:VEVENT
DTSTART;TZID=America/Winnipeg:20190801T120000
DTEND;TZID=America/Winnipeg:20190801T120000
DTSTAMP:20260421T201746
CREATED:20180723T143440Z
LAST-MODIFIED:20190703T211424Z
UID:10001686-1564660800-1564660800@ninecircles.ca
SUMMARY:Food Bank A-K Members
DESCRIPTION:Food Bank is available for members only.  Please phone 204-940-6000 and ask to speak with Tania for assistance.
URL:https://ninecircles.ca/event/food-bank-a-k-members-2/2019-08-01/
LOCATION:Manitoba
CATEGORIES:People living with HIV only
END:VEVENT
BEGIN:VEVENT
DTSTART;TZID=America/Winnipeg:20190731T180000
DTEND;TZID=America/Winnipeg:20190731T193000
DTSTAMP:20260421T201746
CREATED:20190110T222954Z
LAST-MODIFIED:20190621T134144Z
UID:10001724-1564596000-1564601400@ninecircles.ca
SUMMARY:Everyday Sexual Health
DESCRIPTION:Sex is normal\, natural\, and part of our health.\nJoin us to learn how to make sex safer\, avoid infections that can come along with sex\, and get information on how to get tested. \nEveryone is welcome! \nTalk to Shauna and Sri for details (204-940-6000)
URL:https://ninecircles.ca/event/everyday-sexual-health/2019-07-31/
LOCATION:Nine Circles Community Centre\, 705 Broadway Winnipeg\, Winnipeg\, Manitoba\, R3G 0X2\, Canada
CATEGORIES:Community / Public Events
END:VEVENT
BEGIN:VEVENT
DTSTART;TZID=America/Winnipeg:20190731T134500
DTEND;TZID=America/Winnipeg:20190731T170000
DTSTAMP:20260421T201746
CREATED:20190220T174200Z
LAST-MODIFIED:20190528T143201Z
UID:10001744-1564580700-1564592400@ninecircles.ca
SUMMARY:Massage Therapy
DESCRIPTION:Robertson College will be sending massage therapy students to provide free massages to Nine Circles Primary Care and Manitoba HIV Program clients. To book an appointment\, call 204-940-6000.
URL:https://ninecircles.ca/event/3599/2019-07-31/
LOCATION:Nine Circles Community Centre\, 705 Broadway Winnipeg\, Winnipeg\, Manitoba\, R3G 0X2\, Canada
CATEGORIES:Client Events
END:VEVENT
BEGIN:VEVENT
DTSTART;TZID=America/Winnipeg:20190725T120000
DTEND;TZID=America/Winnipeg:20190725T130000
DTSTAMP:20260421T201746
CREATED:20180723T143608Z
LAST-MODIFIED:20190703T211515Z
UID:10001711-1564056000-1564059600@ninecircles.ca
SUMMARY:Food Bank L-Z Members
DESCRIPTION:Food Bank is available for members only.  Please phone 204-940-6000 and ask to speak with Tania for assistance.
URL:https://ninecircles.ca/event/food-bank-l-z-members-3/2019-07-25/
LOCATION:Manitoba
CATEGORIES:People living with HIV only
END:VEVENT
BEGIN:VEVENT
DTSTART;TZID=America/Winnipeg:20190725T110000
DTEND;TZID=America/Winnipeg:20190725T120000
DTSTAMP:20260421T201746
CREATED:20180817T164256Z
LAST-MODIFIED:20181121T171101Z
UID:10001222-1564052400-1564056000@ninecircles.ca
SUMMARY:Viral Videos
DESCRIPTION:You are welcome to come and watch a short video with us in the Gathering Place while you wait for your food bank!
URL:https://ninecircles.ca/event/viral-videos-2/2019-07-25/
LOCATION:Manitoba
CATEGORIES:Client Events
END:VEVENT
BEGIN:VEVENT
DTSTART;TZID=America/Winnipeg:20190724T183000
DTEND;TZID=America/Winnipeg:20190724T193000
DTSTAMP:20260421T201746
CREATED:20180226T160659Z
LAST-MODIFIED:20200316T215030Z
UID:10001564-1563993000-1563996600@ninecircles.ca
SUMMARY:Coffee Talk - HIV and Employment Group
DESCRIPTION:Has HIV/AIDS affected your life? This drop-in conversation group is a safe space where you can talk about the changes\, challenges\, inspirations\, and supports in your life as you move forward.  \nThe fourth Wednesday of the month is a group for HIV positive individuals who are currently working or are in school\, part time or full time.  We will discuss issues around juggling the demands of working\, studying and achieving wellness at the same time.  Issues such as disclosure\, managing side effects of meds\, and health challenges will also be discussed. \nContact Sandra or Rosa for more information\, 204-940-6000
URL:https://ninecircles.ca/event/2431/2019-07-24/
LOCATION:Manitoba
CATEGORIES:People living with HIV only
END:VEVENT
BEGIN:VEVENT
DTSTART;TZID=America/Winnipeg:20190718T120000
DTEND;TZID=America/Winnipeg:20190718T120000
DTSTAMP:20260421T201746
CREATED:20180723T143440Z
LAST-MODIFIED:20190703T211424Z
UID:10001685-1563451200-1563451200@ninecircles.ca
SUMMARY:Food Bank A-K Members
DESCRIPTION:Food Bank is available for members only.  Please phone 204-940-6000 and ask to speak with Tania for assistance.
URL:https://ninecircles.ca/event/food-bank-a-k-members-2/2019-07-18/
LOCATION:Manitoba
CATEGORIES:People living with HIV only
END:VEVENT
BEGIN:VEVENT
DTSTART;TZID=America/Winnipeg:20190718T110000
DTEND;TZID=America/Winnipeg:20190718T120000
DTSTAMP:20260421T201746
CREATED:20180817T164256Z
LAST-MODIFIED:20181121T171101Z
UID:10001221-1563447600-1563451200@ninecircles.ca
SUMMARY:Viral Videos
DESCRIPTION:You are welcome to come and watch a short video with us in the Gathering Place while you wait for your food bank!
URL:https://ninecircles.ca/event/viral-videos-2/2019-07-18/
LOCATION:Manitoba
CATEGORIES:Client Events
END:VEVENT
BEGIN:VEVENT
DTSTART;TZID=America/Winnipeg:20190717T183000
DTEND;TZID=America/Winnipeg:20190717T193000
DTSTAMP:20260421T201746
CREATED:20170406T203449Z
LAST-MODIFIED:20200316T211103Z
UID:10001476-1563388200-1563391800@ninecircles.ca
SUMMARY:Coffee Talk - All Welcome
DESCRIPTION:Has HIV/AIDS affected your life? This drop-in conversation group is a safe space where you can talk about the changes\, challenges\, inspirations\, and supports in your life as you move forward. The third Wednesday of the month is a group for everyone\, all welcome!\nContact Sandra or Rosa for more information\, 204-940-6000
URL:https://ninecircles.ca/event/coffee-talk-welcome/2019-07-17/
LOCATION:Manitoba
CATEGORIES:People living with HIV only
END:VEVENT
BEGIN:VEVENT
DTSTART;TZID=America/Winnipeg:20190715T090000
DTEND;TZID=America/Winnipeg:20190715T120000
DTSTAMP:20260421T201746
CREATED:20190220T174200Z
LAST-MODIFIED:20190528T143201Z
UID:10001743-1563181200-1563192000@ninecircles.ca
SUMMARY:Massage Therapy
DESCRIPTION:Robertson College will be sending massage therapy students to provide free massages to Nine Circles Primary Care and Manitoba HIV Program clients. To book an appointment\, call 204-940-6000.
URL:https://ninecircles.ca/event/3599/2019-07-15/
LOCATION:Nine Circles Community Centre\, 705 Broadway Winnipeg\, Winnipeg\, Manitoba\, R3G 0X2\, Canada
CATEGORIES:Client Events
END:VEVENT
BEGIN:VEVENT
DTSTART;TZID=America/Winnipeg:20190711T120000
DTEND;TZID=America/Winnipeg:20190711T130000
DTSTAMP:20260421T201746
CREATED:20180723T143608Z
LAST-MODIFIED:20190703T211515Z
UID:10001710-1562846400-1562850000@ninecircles.ca
SUMMARY:Food Bank L-Z Members
DESCRIPTION:Food Bank is available for members only.  Please phone 204-940-6000 and ask to speak with Tania for assistance.
URL:https://ninecircles.ca/event/food-bank-l-z-members-3/2019-07-11/
LOCATION:Manitoba
CATEGORIES:People living with HIV only
END:VEVENT
BEGIN:VEVENT
DTSTART;TZID=America/Winnipeg:20190711T110000
DTEND;TZID=America/Winnipeg:20190711T120000
DTSTAMP:20260421T201746
CREATED:20180817T164256Z
LAST-MODIFIED:20181121T171101Z
UID:10001220-1562842800-1562846400@ninecircles.ca
SUMMARY:Viral Videos
DESCRIPTION:You are welcome to come and watch a short video with us in the Gathering Place while you wait for your food bank!
URL:https://ninecircles.ca/event/viral-videos-2/2019-07-11/
LOCATION:Manitoba
CATEGORIES:Client Events
END:VEVENT
END:VCALENDAR