BEGIN:VCALENDAR
VERSION:2.0
PRODID:-//Nine Circles Community Health Centre - ECPv6.15.18//NONSGML v1.0//EN
CALSCALE:GREGORIAN
METHOD:PUBLISH
X-WR-CALNAME:Nine Circles Community Health Centre
X-ORIGINAL-URL:https://ninecircles.ca
X-WR-CALDESC:Events for Nine Circles Community Health Centre
REFRESH-INTERVAL;VALUE=DURATION:PT1H
X-Robots-Tag:noindex
X-PUBLISHED-TTL:PT1H
BEGIN:VTIMEZONE
TZID:America/Winnipeg
BEGIN:DAYLIGHT
TZOFFSETFROM:-0600
TZOFFSETTO:-0500
TZNAME:CDT
DTSTART:20180311T080000
END:DAYLIGHT
BEGIN:STANDARD
TZOFFSETFROM:-0500
TZOFFSETTO:-0600
TZNAME:CST
DTSTART:20181104T070000
END:STANDARD
BEGIN:DAYLIGHT
TZOFFSETFROM:-0600
TZOFFSETTO:-0500
TZNAME:CDT
DTSTART:20190310T080000
END:DAYLIGHT
BEGIN:STANDARD
TZOFFSETFROM:-0500
TZOFFSETTO:-0600
TZNAME:CST
DTSTART:20191103T070000
END:STANDARD
BEGIN:DAYLIGHT
TZOFFSETFROM:-0600
TZOFFSETTO:-0500
TZNAME:CDT
DTSTART:20200308T080000
END:DAYLIGHT
BEGIN:STANDARD
TZOFFSETFROM:-0500
TZOFFSETTO:-0600
TZNAME:CST
DTSTART:20201101T070000
END:STANDARD
END:VTIMEZONE
BEGIN:VEVENT
DTSTART;TZID=America/Winnipeg:20190626T183000
DTEND;TZID=America/Winnipeg:20190626T193000
DTSTAMP:20260422T033733
CREATED:20180226T160659Z
LAST-MODIFIED:20200316T215030Z
UID:10001563-1561573800-1561577400@ninecircles.ca
SUMMARY:Coffee Talk - HIV and Employment Group
DESCRIPTION:Has HIV/AIDS affected your life? This drop-in conversation group is a safe space where you can talk about the changes\, challenges\, inspirations\, and supports in your life as you move forward.  \nThe fourth Wednesday of the month is a group for HIV positive individuals who are currently working or are in school\, part time or full time.  We will discuss issues around juggling the demands of working\, studying and achieving wellness at the same time.  Issues such as disclosure\, managing side effects of meds\, and health challenges will also be discussed. \nContact Sandra or Rosa for more information\, 204-940-6000
URL:https://ninecircles.ca/event/2431/2019-06-26/
LOCATION:Manitoba
CATEGORIES:People living with HIV only
END:VEVENT
BEGIN:VEVENT
DTSTART;TZID=America/Winnipeg:20190620T120000
DTEND;TZID=America/Winnipeg:20190620T120000
DTSTAMP:20260422T033733
CREATED:20180723T143440Z
LAST-MODIFIED:20190703T211424Z
UID:10001683-1561032000-1561032000@ninecircles.ca
SUMMARY:Food Bank A-K Members
DESCRIPTION:Food Bank is available for members only.  Please phone 204-940-6000 and ask to speak with Tania for assistance.
URL:https://ninecircles.ca/event/food-bank-a-k-members-2/2019-06-20/
LOCATION:Manitoba
CATEGORIES:People living with HIV only
END:VEVENT
BEGIN:VEVENT
DTSTART;TZID=America/Winnipeg:20190620T110000
DTEND;TZID=America/Winnipeg:20190620T120000
DTSTAMP:20260422T033733
CREATED:20180817T164256Z
LAST-MODIFIED:20181121T171101Z
UID:10001217-1561028400-1561032000@ninecircles.ca
SUMMARY:Viral Videos
DESCRIPTION:You are welcome to come and watch a short video with us in the Gathering Place while you wait for your food bank!
URL:https://ninecircles.ca/event/viral-videos-2/2019-06-20/
LOCATION:Manitoba
CATEGORIES:Client Events
END:VEVENT
BEGIN:VEVENT
DTSTART;TZID=America/Winnipeg:20190619T183000
DTEND;TZID=America/Winnipeg:20190619T193000
DTSTAMP:20260422T033733
CREATED:20170406T203449Z
LAST-MODIFIED:20200316T211103Z
UID:10001475-1560969000-1560972600@ninecircles.ca
SUMMARY:Coffee Talk - All Welcome
DESCRIPTION:Has HIV/AIDS affected your life? This drop-in conversation group is a safe space where you can talk about the changes\, challenges\, inspirations\, and supports in your life as you move forward. The third Wednesday of the month is a group for everyone\, all welcome!\nContact Sandra or Rosa for more information\, 204-940-6000
URL:https://ninecircles.ca/event/coffee-talk-welcome/2019-06-19/
LOCATION:Manitoba
CATEGORIES:People living with HIV only
END:VEVENT
BEGIN:VEVENT
DTSTART;TZID=America/Winnipeg:20190619T170000
DTEND;TZID=America/Winnipeg:20190619T174500
DTSTAMP:20260422T033733
CREATED:20190220T171937Z
LAST-MODIFIED:20190605T151439Z
UID:10001734-1560963600-1560966300@ninecircles.ca
SUMMARY:Mindful Movement
DESCRIPTION:Come find ways to help manage anxiety and stress in your life while moving gently.  Learn to relax and increase flexibility with gentle movements and breath control. \nCall Sandra at 204-940-6000 for more information.
URL:https://ninecircles.ca/event/mindful-movement-3/2019-06-19/
LOCATION:Nine Circles Community Centre\, 705 Broadway Winnipeg\, Winnipeg\, Manitoba\, R3G 0X2\, Canada
CATEGORIES:Client Events
END:VEVENT
BEGIN:VEVENT
DTSTART;TZID=America/Winnipeg:20190617T173000
DTEND;TZID=America/Winnipeg:20190617T200000
DTSTAMP:20260422T033733
CREATED:20190516T195916Z
LAST-MODIFIED:20190516T200114Z
UID:10001762-1560792600-1560801600@ninecircles.ca
SUMMARY:Nine Circles AGM
DESCRIPTION:Join us for our AGM!  Sign up at the front desk or visit: https://www.eventbrite.ca/e/nine-circles-agm-2019-tickets-61953072307
URL:https://ninecircles.ca/event/nine-circles-agm/
LOCATION:Nine Circles Community Centre\, 705 Broadway Winnipeg\, Winnipeg\, Manitoba\, R3G 0X2\, Canada
CATEGORIES:Community / Public Events
END:VEVENT
BEGIN:VEVENT
DTSTART;TZID=America/Winnipeg:20190617T090000
DTEND;TZID=America/Winnipeg:20190617T120000
DTSTAMP:20260422T033733
CREATED:20190220T174200Z
LAST-MODIFIED:20190528T143201Z
UID:10001741-1560762000-1560772800@ninecircles.ca
SUMMARY:Massage Therapy
DESCRIPTION:Robertson College will be sending massage therapy students to provide free massages to Nine Circles Primary Care and Manitoba HIV Program clients. To book an appointment\, call 204-940-6000.
URL:https://ninecircles.ca/event/3599/2019-06-17/
LOCATION:Nine Circles Community Centre\, 705 Broadway Winnipeg\, Winnipeg\, Manitoba\, R3G 0X2\, Canada
CATEGORIES:Client Events
END:VEVENT
BEGIN:VEVENT
DTSTART;TZID=America/Winnipeg:20190613T120000
DTEND;TZID=America/Winnipeg:20190613T130000
DTSTAMP:20260422T033733
CREATED:20180723T143608Z
LAST-MODIFIED:20190703T211515Z
UID:10001708-1560427200-1560430800@ninecircles.ca
SUMMARY:Food Bank L-Z Members
DESCRIPTION:Food Bank is available for members only.  Please phone 204-940-6000 and ask to speak with Tania for assistance.
URL:https://ninecircles.ca/event/food-bank-l-z-members-3/2019-06-13/
LOCATION:Manitoba
CATEGORIES:People living with HIV only
END:VEVENT
BEGIN:VEVENT
DTSTART;TZID=America/Winnipeg:20190613T110000
DTEND;TZID=America/Winnipeg:20190613T120000
DTSTAMP:20260422T033733
CREATED:20180817T164256Z
LAST-MODIFIED:20181121T171101Z
UID:10001216-1560423600-1560427200@ninecircles.ca
SUMMARY:Viral Videos
DESCRIPTION:You are welcome to come and watch a short video with us in the Gathering Place while you wait for your food bank!
URL:https://ninecircles.ca/event/viral-videos-2/2019-06-13/
LOCATION:Manitoba
CATEGORIES:Client Events
END:VEVENT
BEGIN:VEVENT
DTSTART;TZID=America/Winnipeg:20190612T183000
DTEND;TZID=America/Winnipeg:20190612T193000
DTSTAMP:20260422T033733
CREATED:20230206T210451Z
LAST-MODIFIED:20230206T210451Z
UID:10001509-1560364200-1560367800@ninecircles.ca
SUMMARY:Coffee Talk - All Welcome
DESCRIPTION:Has HIV/AIDS affected your life? This drop-in conversation group is a safe space where you can talk about the changes\, challenges\, inspirations\, and supports in your life as you move forward. The third Wednesday of the month is a group for everyone\, all welcome!\nContact Sandra or Rosa for more information\, 204-940-6000
URL:https://ninecircles.ca/event/coffee-talk-welcome/2019-06-12/
LOCATION:Manitoba
CATEGORIES:People living with HIV only
END:VEVENT
BEGIN:VEVENT
DTSTART;TZID=America/Winnipeg:20190607T143000
DTEND;TZID=America/Winnipeg:20190607T153000
DTSTAMP:20260422T033733
CREATED:20161219T182627Z
LAST-MODIFIED:20190220T174831Z
UID:10001253-1559917800-1559921400@ninecircles.ca
SUMMARY:What's Your Goal?
DESCRIPTION:Join us for our monthly group dedicated to goal-setting on the first Friday of every month at 2:30! \nDuring the group we will: \n-Set our own personal action plans – something you would like to accomplish\n-Learn problem solving techniques\n-Check in on our progress\n-Share successes\n-Brainstorm ideas for next time! \nYour goal can be anything that you would like.  Would you like to work on your health\, diet\, communication skills\, your home\, your habits… you name it! \nRefreshments Provided\, All Welcome!
URL:https://ninecircles.ca/event/whats-your-goal/2019-06-07/
LOCATION:Manitoba
CATEGORIES:Client Events
END:VEVENT
BEGIN:VEVENT
DTSTART;TZID=America/Winnipeg:20190606T120000
DTEND;TZID=America/Winnipeg:20190606T120000
DTSTAMP:20260422T033733
CREATED:20180723T143440Z
LAST-MODIFIED:20190703T211424Z
UID:10001682-1559822400-1559822400@ninecircles.ca
SUMMARY:Food Bank A-K Members
DESCRIPTION:Food Bank is available for members only.  Please phone 204-940-6000 and ask to speak with Tania for assistance.
URL:https://ninecircles.ca/event/food-bank-a-k-members-2/2019-06-06/
LOCATION:Manitoba
CATEGORIES:People living with HIV only
END:VEVENT
BEGIN:VEVENT
DTSTART;TZID=America/Winnipeg:20190606T110000
DTEND;TZID=America/Winnipeg:20190606T120000
DTSTAMP:20260422T033733
CREATED:20180817T164256Z
LAST-MODIFIED:20181121T171101Z
UID:10001215-1559818800-1559822400@ninecircles.ca
SUMMARY:Viral Videos
DESCRIPTION:You are welcome to come and watch a short video with us in the Gathering Place while you wait for your food bank!
URL:https://ninecircles.ca/event/viral-videos-2/2019-06-06/
LOCATION:Manitoba
CATEGORIES:Client Events
END:VEVENT
BEGIN:VEVENT
DTSTART;TZID=America/Winnipeg:20190605T183000
DTEND;TZID=America/Winnipeg:20190605T193000
DTSTAMP:20260422T033733
CREATED:20170406T202411Z
LAST-MODIFIED:20190703T212055Z
UID:10001423-1559759400-1559763000@ninecircles.ca
SUMMARY:Coffee Talk - Men's Group
DESCRIPTION:Has HIV/AIDS affected your life?  This drop-in conversation group is a safe space where you can talk about the changes\, challenges\, inspirations\, and supports in your life as you move forward.  The first Wednesday of the month is Men’s only group.\nContact Sandra or Rosa for more information\, 204-940-6000
URL:https://ninecircles.ca/event/coffee-talk-msm/2019-06-05/
LOCATION:Manitoba
CATEGORIES:People living with HIV only
END:VEVENT
BEGIN:VEVENT
DTSTART;TZID=America/Winnipeg:20190605T170000
DTEND;TZID=America/Winnipeg:20190605T174500
DTSTAMP:20260422T033733
CREATED:20190220T171937Z
LAST-MODIFIED:20190605T151439Z
UID:10001733-1559754000-1559756700@ninecircles.ca
SUMMARY:Mindful Movement
DESCRIPTION:Come find ways to help manage anxiety and stress in your life while moving gently.  Learn to relax and increase flexibility with gentle movements and breath control. \nCall Sandra at 204-940-6000 for more information.
URL:https://ninecircles.ca/event/mindful-movement-3/2019-06-05/
LOCATION:Nine Circles Community Centre\, 705 Broadway Winnipeg\, Winnipeg\, Manitoba\, R3G 0X2\, Canada
CATEGORIES:Client Events
END:VEVENT
BEGIN:VEVENT
DTSTART;TZID=America/Winnipeg:20190530T120000
DTEND;TZID=America/Winnipeg:20190530T130000
DTSTAMP:20260422T033733
CREATED:20180723T143608Z
LAST-MODIFIED:20190703T211515Z
UID:10001707-1559217600-1559221200@ninecircles.ca
SUMMARY:Food Bank L-Z Members
DESCRIPTION:Food Bank is available for members only.  Please phone 204-940-6000 and ask to speak with Tania for assistance.
URL:https://ninecircles.ca/event/food-bank-l-z-members-3/2019-05-30/
LOCATION:Manitoba
CATEGORIES:People living with HIV only
END:VEVENT
BEGIN:VEVENT
DTSTART;TZID=America/Winnipeg:20190530T110000
DTEND;TZID=America/Winnipeg:20190530T120000
DTSTAMP:20260422T033733
CREATED:20180817T164256Z
LAST-MODIFIED:20181121T171101Z
UID:10001214-1559214000-1559217600@ninecircles.ca
SUMMARY:Viral Videos
DESCRIPTION:You are welcome to come and watch a short video with us in the Gathering Place while you wait for your food bank!
URL:https://ninecircles.ca/event/viral-videos-2/2019-05-30/
LOCATION:Manitoba
CATEGORIES:Client Events
END:VEVENT
BEGIN:VEVENT
DTSTART;TZID=America/Winnipeg:20190529T134500
DTEND;TZID=America/Winnipeg:20190529T170000
DTSTAMP:20260422T033733
CREATED:20190220T174200Z
LAST-MODIFIED:20190528T143201Z
UID:10001740-1559137500-1559149200@ninecircles.ca
SUMMARY:Massage Therapy
DESCRIPTION:Robertson College will be sending massage therapy students to provide free massages to Nine Circles Primary Care and Manitoba HIV Program clients. To book an appointment\, call 204-940-6000.
URL:https://ninecircles.ca/event/3599/2019-05-29/
LOCATION:Nine Circles Community Centre\, 705 Broadway Winnipeg\, Winnipeg\, Manitoba\, R3G 0X2\, Canada
CATEGORIES:Client Events
END:VEVENT
BEGIN:VEVENT
DTSTART;TZID=America/Winnipeg:20190523T120000
DTEND;TZID=America/Winnipeg:20190523T120000
DTSTAMP:20260422T033733
CREATED:20180723T143440Z
LAST-MODIFIED:20190703T211424Z
UID:10001681-1558612800-1558612800@ninecircles.ca
SUMMARY:Food Bank A-K Members
DESCRIPTION:Food Bank is available for members only.  Please phone 204-940-6000 and ask to speak with Tania for assistance.
URL:https://ninecircles.ca/event/food-bank-a-k-members-2/2019-05-23/
LOCATION:Manitoba
CATEGORIES:People living with HIV only
END:VEVENT
BEGIN:VEVENT
DTSTART;TZID=America/Winnipeg:20190523T110000
DTEND;TZID=America/Winnipeg:20190523T120000
DTSTAMP:20260422T033733
CREATED:20180817T164256Z
LAST-MODIFIED:20181121T171101Z
UID:10001213-1558609200-1558612800@ninecircles.ca
SUMMARY:Viral Videos
DESCRIPTION:You are welcome to come and watch a short video with us in the Gathering Place while you wait for your food bank!
URL:https://ninecircles.ca/event/viral-videos-2/2019-05-23/
LOCATION:Manitoba
CATEGORIES:Client Events
END:VEVENT
BEGIN:VEVENT
DTSTART;TZID=America/Winnipeg:20190522T183000
DTEND;TZID=America/Winnipeg:20190522T193000
DTSTAMP:20260422T033733
CREATED:20190417T205537Z
LAST-MODIFIED:20190417T205537Z
UID:10001760-1558549800-1558553400@ninecircles.ca
SUMMARY:Coffee Talk: Disclosing your HIV status at work
DESCRIPTION:Has HIV/AIDS affected your life? This drop-in conversation group is a safe space where you can talk about the changes\, challenges\, inspirations\, and supports in your life as you move forward.  \nThe fourth Wednesday of the month is a group for HIV positive individuals who are currently working or are in school\, part time or full time.  We will discuss issues around juggling the demands of working\, studying and achieving wellness at the same time.  Issues such as disclosure\, managing side effects of meds\, and health challenges will also be discussed. \nThis month we will have a workshop on disclosing your HIV status at work presented by Occupational Therapy students. \nContact Sandra or Rosa for more information\, 204-940-6000
URL:https://ninecircles.ca/event/coffee-talk-disclosing-your-hiv-status-at-work/
LOCATION:Nine Circles Community Centre\, 705 Broadway Winnipeg\, Winnipeg\, Manitoba\, R3G 0X2\, Canada
CATEGORIES:People living with HIV only
END:VEVENT
BEGIN:VEVENT
DTSTART;TZID=America/Winnipeg:20190522T120000
DTEND;TZID=America/Winnipeg:20190522T130000
DTSTAMP:20260422T033733
CREATED:20180817T154526Z
LAST-MODIFIED:20190417T210642Z
UID:10001164-1558526400-1558530000@ninecircles.ca
SUMMARY:Indigenous Traditional Singing and Drumming
DESCRIPTION:Share a song\, learn a song\, or sing along.  In the Round Room at Nine Circles.   \nEveryone is welcome!  Snacks provided. \nCall Peetanacoot for more information\, 204-940-6000.
URL:https://ninecircles.ca/event/indigenous-traditional-singing-and-drumming-2/2019-05-22/
LOCATION:Manitoba
CATEGORIES:Client Events
END:VEVENT
BEGIN:VEVENT
DTSTART;VALUE=DATE:20190520
DTEND;VALUE=DATE:20190521
DTSTAMP:20260422T033733
CREATED:20190329T152013Z
LAST-MODIFIED:20190329T152013Z
UID:10001752-1558310400-1558396799@ninecircles.ca
SUMMARY:Nine Circles Closed
DESCRIPTION:
URL:https://ninecircles.ca/event/nine-circles-closed-12/2019-05-20/
LOCATION:Nine Circles Community Centre\, 705 Broadway Winnipeg\, Winnipeg\, Manitoba\, R3G 0X2\, Canada
CATEGORIES:Announcements
END:VEVENT
BEGIN:VEVENT
DTSTART;TZID=America/Winnipeg:20190516T120000
DTEND;TZID=America/Winnipeg:20190516T130000
DTSTAMP:20260422T033733
CREATED:20180723T143608Z
LAST-MODIFIED:20190703T211515Z
UID:10001706-1558008000-1558011600@ninecircles.ca
SUMMARY:Food Bank L-Z Members
DESCRIPTION:Food Bank is available for members only.  Please phone 204-940-6000 and ask to speak with Tania for assistance.
URL:https://ninecircles.ca/event/food-bank-l-z-members-3/2019-05-16/
LOCATION:Manitoba
CATEGORIES:People living with HIV only
END:VEVENT
BEGIN:VEVENT
DTSTART;TZID=America/Winnipeg:20190516T110000
DTEND;TZID=America/Winnipeg:20190516T120000
DTSTAMP:20260422T033733
CREATED:20180817T164256Z
LAST-MODIFIED:20181121T171101Z
UID:10001212-1558004400-1558008000@ninecircles.ca
SUMMARY:Viral Videos
DESCRIPTION:You are welcome to come and watch a short video with us in the Gathering Place while you wait for your food bank!
URL:https://ninecircles.ca/event/viral-videos-2/2019-05-16/
LOCATION:Manitoba
CATEGORIES:Client Events
END:VEVENT
BEGIN:VEVENT
DTSTART;TZID=America/Winnipeg:20190515T183000
DTEND;TZID=America/Winnipeg:20190515T193000
DTSTAMP:20260422T033733
CREATED:20170406T203449Z
LAST-MODIFIED:20200316T211103Z
UID:10001474-1557945000-1557948600@ninecircles.ca
SUMMARY:Coffee Talk - All Welcome
DESCRIPTION:Has HIV/AIDS affected your life? This drop-in conversation group is a safe space where you can talk about the changes\, challenges\, inspirations\, and supports in your life as you move forward. The third Wednesday of the month is a group for everyone\, all welcome!\nContact Sandra or Rosa for more information\, 204-940-6000
URL:https://ninecircles.ca/event/coffee-talk-welcome/2019-05-15/
LOCATION:Manitoba
CATEGORIES:People living with HIV only
END:VEVENT
BEGIN:VEVENT
DTSTART;TZID=America/Winnipeg:20190515T170000
DTEND;TZID=America/Winnipeg:20190515T174500
DTSTAMP:20260422T033733
CREATED:20190220T171937Z
LAST-MODIFIED:20190605T151439Z
UID:10001732-1557939600-1557942300@ninecircles.ca
SUMMARY:Mindful Movement
DESCRIPTION:Come find ways to help manage anxiety and stress in your life while moving gently.  Learn to relax and increase flexibility with gentle movements and breath control. \nCall Sandra at 204-940-6000 for more information.
URL:https://ninecircles.ca/event/mindful-movement-3/2019-05-15/
LOCATION:Nine Circles Community Centre\, 705 Broadway Winnipeg\, Winnipeg\, Manitoba\, R3G 0X2\, Canada
CATEGORIES:Client Events
END:VEVENT
BEGIN:VEVENT
DTSTART;TZID=America/Winnipeg:20190515T140000
DTEND;TZID=America/Winnipeg:20190515T153000
DTSTAMP:20260422T033733
CREATED:20190417T212107Z
LAST-MODIFIED:20190417T212259Z
UID:10001761-1557928800-1557934200@ninecircles.ca
SUMMARY:Standing Strong: Support through thick and thin
DESCRIPTION:This is a group for people living with HIV (and their supportive family/friends) to discuss and better understand HIV stigma\, disclosure\, and fostering support. \nTalk to Sri or Shauna to register (204-940-6000).  Snacks provided. Bus tickets available if needed.
URL:https://ninecircles.ca/event/standing-strong-support-through-thick-and-thin/
LOCATION:Nine Circles Community Centre\, 705 Broadway Winnipeg\, Winnipeg\, Manitoba\, R3G 0X2\, Canada
CATEGORIES:People living with HIV only
END:VEVENT
BEGIN:VEVENT
DTSTART;TZID=America/Winnipeg:20190515T120000
DTEND;TZID=America/Winnipeg:20190515T130000
DTSTAMP:20260422T033733
CREATED:20180817T154526Z
LAST-MODIFIED:20190417T210642Z
UID:10001163-1557921600-1557925200@ninecircles.ca
SUMMARY:Indigenous Traditional Singing and Drumming
DESCRIPTION:Share a song\, learn a song\, or sing along.  In the Round Room at Nine Circles.   \nEveryone is welcome!  Snacks provided. \nCall Peetanacoot for more information\, 204-940-6000.
URL:https://ninecircles.ca/event/indigenous-traditional-singing-and-drumming-2/2019-05-15/
LOCATION:Manitoba
CATEGORIES:Client Events
END:VEVENT
BEGIN:VEVENT
DTSTART;TZID=America/Winnipeg:20190509T120000
DTEND;TZID=America/Winnipeg:20190509T120000
DTSTAMP:20260422T033733
CREATED:20180723T143440Z
LAST-MODIFIED:20190703T211424Z
UID:10001680-1557403200-1557403200@ninecircles.ca
SUMMARY:Food Bank A-K Members
DESCRIPTION:Food Bank is available for members only.  Please phone 204-940-6000 and ask to speak with Tania for assistance.
URL:https://ninecircles.ca/event/food-bank-a-k-members-2/2019-05-09/
LOCATION:Manitoba
CATEGORIES:People living with HIV only
END:VEVENT
END:VCALENDAR