BEGIN:VCALENDAR
VERSION:2.0
PRODID:-//Nine Circles Community Health Centre - ECPv6.15.18//NONSGML v1.0//EN
CALSCALE:GREGORIAN
METHOD:PUBLISH
X-WR-CALNAME:Nine Circles Community Health Centre
X-ORIGINAL-URL:https://ninecircles.ca
X-WR-CALDESC:Events for Nine Circles Community Health Centre
REFRESH-INTERVAL;VALUE=DURATION:PT1H
X-Robots-Tag:noindex
X-PUBLISHED-TTL:PT1H
BEGIN:VTIMEZONE
TZID:America/Winnipeg
BEGIN:DAYLIGHT
TZOFFSETFROM:-0600
TZOFFSETTO:-0500
TZNAME:CDT
DTSTART:20180311T080000
END:DAYLIGHT
BEGIN:STANDARD
TZOFFSETFROM:-0500
TZOFFSETTO:-0600
TZNAME:CST
DTSTART:20181104T070000
END:STANDARD
BEGIN:DAYLIGHT
TZOFFSETFROM:-0600
TZOFFSETTO:-0500
TZNAME:CDT
DTSTART:20190310T080000
END:DAYLIGHT
BEGIN:STANDARD
TZOFFSETFROM:-0500
TZOFFSETTO:-0600
TZNAME:CST
DTSTART:20191103T070000
END:STANDARD
BEGIN:DAYLIGHT
TZOFFSETFROM:-0600
TZOFFSETTO:-0500
TZNAME:CDT
DTSTART:20200308T080000
END:DAYLIGHT
BEGIN:STANDARD
TZOFFSETFROM:-0500
TZOFFSETTO:-0600
TZNAME:CST
DTSTART:20201101T070000
END:STANDARD
END:VTIMEZONE
BEGIN:VEVENT
DTSTART;TZID=America/Winnipeg:20190509T110000
DTEND;TZID=America/Winnipeg:20190509T120000
DTSTAMP:20260422T172643
CREATED:20180817T164256Z
LAST-MODIFIED:20181121T171101Z
UID:10001211-1557399600-1557403200@ninecircles.ca
SUMMARY:Viral Videos
DESCRIPTION:You are welcome to come and watch a short video with us in the Gathering Place while you wait for your food bank!
URL:https://ninecircles.ca/event/viral-videos-2/2019-05-09/
LOCATION:Manitoba
CATEGORIES:Client Events
END:VEVENT
BEGIN:VEVENT
DTSTART;TZID=America/Winnipeg:20190508T183000
DTEND;TZID=America/Winnipeg:20190508T193000
DTSTAMP:20260422T172643
CREATED:20230206T210451Z
LAST-MODIFIED:20230206T210451Z
UID:10001508-1557340200-1557343800@ninecircles.ca
SUMMARY:Coffee Talk - All Welcome
DESCRIPTION:Has HIV/AIDS affected your life? This drop-in conversation group is a safe space where you can talk about the changes\, challenges\, inspirations\, and supports in your life as you move forward. The third Wednesday of the month is a group for everyone\, all welcome!\nContact Sandra or Rosa for more information\, 204-940-6000
URL:https://ninecircles.ca/event/coffee-talk-welcome/2019-05-08/
LOCATION:Manitoba
CATEGORIES:People living with HIV only
END:VEVENT
BEGIN:VEVENT
DTSTART;TZID=America/Winnipeg:20190508T120000
DTEND;TZID=America/Winnipeg:20190508T130000
DTSTAMP:20260422T172643
CREATED:20180817T154526Z
LAST-MODIFIED:20190417T210642Z
UID:10001162-1557316800-1557320400@ninecircles.ca
SUMMARY:Indigenous Traditional Singing and Drumming
DESCRIPTION:Share a song\, learn a song\, or sing along.  In the Round Room at Nine Circles.   \nEveryone is welcome!  Snacks provided. \nCall Peetanacoot for more information\, 204-940-6000.
URL:https://ninecircles.ca/event/indigenous-traditional-singing-and-drumming-2/2019-05-08/
LOCATION:Manitoba
CATEGORIES:Client Events
END:VEVENT
BEGIN:VEVENT
DTSTART;TZID=America/Winnipeg:20190506T090000
DTEND;TZID=America/Winnipeg:20190506T120000
DTSTAMP:20260422T172643
CREATED:20190220T173729Z
LAST-MODIFIED:20190528T143346Z
UID:10001736-1557133200-1557144000@ninecircles.ca
SUMMARY:Massage Therapy
DESCRIPTION:Robertson College will be sending massage therapy students to provide free massages to Nine Circles Primary Care and Manitoba HIV Program clients. To book an appointment\, call 204-940-6000.
URL:https://ninecircles.ca/event/massage-therapy/2019-05-06/
LOCATION:Nine Circles Community Centre\, 705 Broadway Winnipeg\, Winnipeg\, Manitoba\, R3G 0X2\, Canada
CATEGORIES:Client Events
END:VEVENT
BEGIN:VEVENT
DTSTART;TZID=America/Winnipeg:20190503T143000
DTEND;TZID=America/Winnipeg:20190503T153000
DTSTAMP:20260422T172643
CREATED:20161219T182627Z
LAST-MODIFIED:20190220T174831Z
UID:10001252-1556893800-1556897400@ninecircles.ca
SUMMARY:What's Your Goal?
DESCRIPTION:Join us for our monthly group dedicated to goal-setting on the first Friday of every month at 2:30! \nDuring the group we will: \n-Set our own personal action plans – something you would like to accomplish\n-Learn problem solving techniques\n-Check in on our progress\n-Share successes\n-Brainstorm ideas for next time! \nYour goal can be anything that you would like.  Would you like to work on your health\, diet\, communication skills\, your home\, your habits… you name it! \nRefreshments Provided\, All Welcome!
URL:https://ninecircles.ca/event/whats-your-goal/2019-05-03/
LOCATION:Manitoba
CATEGORIES:Client Events
END:VEVENT
BEGIN:VEVENT
DTSTART;TZID=America/Winnipeg:20190502T120000
DTEND;TZID=America/Winnipeg:20190502T130000
DTSTAMP:20260422T172643
CREATED:20180723T143608Z
LAST-MODIFIED:20190703T211515Z
UID:10001705-1556798400-1556802000@ninecircles.ca
SUMMARY:Food Bank L-Z Members
DESCRIPTION:Food Bank is available for members only.  Please phone 204-940-6000 and ask to speak with Tania for assistance.
URL:https://ninecircles.ca/event/food-bank-l-z-members-3/2019-05-02/
LOCATION:Manitoba
CATEGORIES:People living with HIV only
END:VEVENT
BEGIN:VEVENT
DTSTART;TZID=America/Winnipeg:20190502T110000
DTEND;TZID=America/Winnipeg:20190502T120000
DTSTAMP:20260422T172643
CREATED:20180817T164256Z
LAST-MODIFIED:20181121T171101Z
UID:10001210-1556794800-1556798400@ninecircles.ca
SUMMARY:Viral Videos
DESCRIPTION:You are welcome to come and watch a short video with us in the Gathering Place while you wait for your food bank!
URL:https://ninecircles.ca/event/viral-videos-2/2019-05-02/
LOCATION:Manitoba
CATEGORIES:Client Events
END:VEVENT
BEGIN:VEVENT
DTSTART;TZID=America/Winnipeg:20190501T183000
DTEND;TZID=America/Winnipeg:20190501T193000
DTSTAMP:20260422T172643
CREATED:20170406T202411Z
LAST-MODIFIED:20190703T212055Z
UID:10001422-1556735400-1556739000@ninecircles.ca
SUMMARY:Coffee Talk - Men's Group
DESCRIPTION:Has HIV/AIDS affected your life?  This drop-in conversation group is a safe space where you can talk about the changes\, challenges\, inspirations\, and supports in your life as you move forward.  The first Wednesday of the month is Men’s only group.\nContact Sandra or Rosa for more information\, 204-940-6000
URL:https://ninecircles.ca/event/coffee-talk-msm/2019-05-01/
LOCATION:Manitoba
CATEGORIES:People living with HIV only
END:VEVENT
BEGIN:VEVENT
DTSTART;TZID=America/Winnipeg:20190501T170000
DTEND;TZID=America/Winnipeg:20190501T174500
DTSTAMP:20260422T172643
CREATED:20190220T171937Z
LAST-MODIFIED:20190605T151439Z
UID:10001731-1556730000-1556732700@ninecircles.ca
SUMMARY:Mindful Movement
DESCRIPTION:Come find ways to help manage anxiety and stress in your life while moving gently.  Learn to relax and increase flexibility with gentle movements and breath control. \nCall Sandra at 204-940-6000 for more information.
URL:https://ninecircles.ca/event/mindful-movement-3/2019-05-01/
LOCATION:Nine Circles Community Centre\, 705 Broadway Winnipeg\, Winnipeg\, Manitoba\, R3G 0X2\, Canada
CATEGORIES:Client Events
END:VEVENT
BEGIN:VEVENT
DTSTART;TZID=America/Winnipeg:20190501T120000
DTEND;TZID=America/Winnipeg:20190501T130000
DTSTAMP:20260422T172643
CREATED:20180817T154526Z
LAST-MODIFIED:20190417T210642Z
UID:10001161-1556712000-1556715600@ninecircles.ca
SUMMARY:Indigenous Traditional Singing and Drumming
DESCRIPTION:Share a song\, learn a song\, or sing along.  In the Round Room at Nine Circles.   \nEveryone is welcome!  Snacks provided. \nCall Peetanacoot for more information\, 204-940-6000.
URL:https://ninecircles.ca/event/indigenous-traditional-singing-and-drumming-2/2019-05-01/
LOCATION:Manitoba
CATEGORIES:Client Events
END:VEVENT
BEGIN:VEVENT
DTSTART;TZID=America/Winnipeg:20190425T120000
DTEND;TZID=America/Winnipeg:20190425T120000
DTSTAMP:20260422T172643
CREATED:20180723T143440Z
LAST-MODIFIED:20190703T211424Z
UID:10001679-1556193600-1556193600@ninecircles.ca
SUMMARY:Food Bank A-K Members
DESCRIPTION:Food Bank is available for members only.  Please phone 204-940-6000 and ask to speak with Tania for assistance.
URL:https://ninecircles.ca/event/food-bank-a-k-members-2/2019-04-25/
LOCATION:Manitoba
CATEGORIES:People living with HIV only
END:VEVENT
BEGIN:VEVENT
DTSTART;TZID=America/Winnipeg:20190425T110000
DTEND;TZID=America/Winnipeg:20190425T120000
DTSTAMP:20260422T172643
CREATED:20180817T164256Z
LAST-MODIFIED:20181121T171101Z
UID:10001209-1556190000-1556193600@ninecircles.ca
SUMMARY:Viral Videos
DESCRIPTION:You are welcome to come and watch a short video with us in the Gathering Place while you wait for your food bank!
URL:https://ninecircles.ca/event/viral-videos-2/2019-04-25/
LOCATION:Manitoba
CATEGORIES:Client Events
END:VEVENT
BEGIN:VEVENT
DTSTART;TZID=America/Winnipeg:20190424T183000
DTEND;TZID=America/Winnipeg:20190424T193000
DTSTAMP:20260422T172643
CREATED:20180226T160659Z
LAST-MODIFIED:20200316T215030Z
UID:10001562-1556130600-1556134200@ninecircles.ca
SUMMARY:Coffee Talk - HIV and Employment Group
DESCRIPTION:Has HIV/AIDS affected your life? This drop-in conversation group is a safe space where you can talk about the changes\, challenges\, inspirations\, and supports in your life as you move forward.  \nThe fourth Wednesday of the month is a group for HIV positive individuals who are currently working or are in school\, part time or full time.  We will discuss issues around juggling the demands of working\, studying and achieving wellness at the same time.  Issues such as disclosure\, managing side effects of meds\, and health challenges will also be discussed. \nContact Sandra or Rosa for more information\, 204-940-6000
URL:https://ninecircles.ca/event/2431/2019-04-24/
LOCATION:Manitoba
CATEGORIES:People living with HIV only
END:VEVENT
BEGIN:VEVENT
DTSTART;TZID=America/Winnipeg:20190424T134500
DTEND;TZID=America/Winnipeg:20190424T170000
DTSTAMP:20260422T172643
CREATED:20190220T174200Z
LAST-MODIFIED:20190528T143201Z
UID:10001739-1556113500-1556125200@ninecircles.ca
SUMMARY:Massage Therapy
DESCRIPTION:Robertson College will be sending massage therapy students to provide free massages to Nine Circles Primary Care and Manitoba HIV Program clients. To book an appointment\, call 204-940-6000.
URL:https://ninecircles.ca/event/3599/2019-04-24/
LOCATION:Nine Circles Community Centre\, 705 Broadway Winnipeg\, Winnipeg\, Manitoba\, R3G 0X2\, Canada
CATEGORIES:Client Events
END:VEVENT
BEGIN:VEVENT
DTSTART;TZID=America/Winnipeg:20190424T120000
DTEND;TZID=America/Winnipeg:20190424T130000
DTSTAMP:20260422T172643
CREATED:20180817T154526Z
LAST-MODIFIED:20190417T210642Z
UID:10001160-1556107200-1556110800@ninecircles.ca
SUMMARY:Indigenous Traditional Singing and Drumming
DESCRIPTION:Share a song\, learn a song\, or sing along.  In the Round Room at Nine Circles.   \nEveryone is welcome!  Snacks provided. \nCall Peetanacoot for more information\, 204-940-6000.
URL:https://ninecircles.ca/event/indigenous-traditional-singing-and-drumming-2/2019-04-24/
LOCATION:Manitoba
CATEGORIES:Client Events
END:VEVENT
BEGIN:VEVENT
DTSTART;VALUE=DATE:20190422
DTEND;VALUE=DATE:20190423
DTSTAMP:20260422T172643
CREATED:20190329T152013Z
LAST-MODIFIED:20190329T152013Z
UID:10001751-1555891200-1555977599@ninecircles.ca
SUMMARY:Nine Circles Closed
DESCRIPTION:
URL:https://ninecircles.ca/event/nine-circles-closed-12/2019-04-22/
LOCATION:Nine Circles Community Centre\, 705 Broadway Winnipeg\, Winnipeg\, Manitoba\, R3G 0X2\, Canada
CATEGORIES:Announcements
END:VEVENT
BEGIN:VEVENT
DTSTART;VALUE=DATE:20190419
DTEND;VALUE=DATE:20190420
DTSTAMP:20260422T172643
CREATED:20190329T151348Z
LAST-MODIFIED:20190329T151348Z
UID:10001750-1555632000-1555718399@ninecircles.ca
SUMMARY:Nine Circles Closed
DESCRIPTION:Nine Circles is closed for Good Friday.
URL:https://ninecircles.ca/event/nine-circles-closed-11/
LOCATION:Nine Circles Community Centre\, 705 Broadway Winnipeg\, Winnipeg\, Manitoba\, R3G 0X2\, Canada
CATEGORIES:Announcements
END:VEVENT
BEGIN:VEVENT
DTSTART;TZID=America/Winnipeg:20190418T120000
DTEND;TZID=America/Winnipeg:20190418T130000
DTSTAMP:20260422T172643
CREATED:20180723T143608Z
LAST-MODIFIED:20190703T211515Z
UID:10001704-1555588800-1555592400@ninecircles.ca
SUMMARY:Food Bank L-Z Members
DESCRIPTION:Food Bank is available for members only.  Please phone 204-940-6000 and ask to speak with Tania for assistance.
URL:https://ninecircles.ca/event/food-bank-l-z-members-3/2019-04-18/
LOCATION:Manitoba
CATEGORIES:People living with HIV only
END:VEVENT
BEGIN:VEVENT
DTSTART;TZID=America/Winnipeg:20190418T110000
DTEND;TZID=America/Winnipeg:20190418T120000
DTSTAMP:20260422T172643
CREATED:20180817T164256Z
LAST-MODIFIED:20181121T171101Z
UID:10001208-1555585200-1555588800@ninecircles.ca
SUMMARY:Viral Videos
DESCRIPTION:You are welcome to come and watch a short video with us in the Gathering Place while you wait for your food bank!
URL:https://ninecircles.ca/event/viral-videos-2/2019-04-18/
LOCATION:Manitoba
CATEGORIES:Client Events
END:VEVENT
BEGIN:VEVENT
DTSTART;TZID=America/Winnipeg:20190417T183000
DTEND;TZID=America/Winnipeg:20190417T193000
DTSTAMP:20260422T172643
CREATED:20170406T203449Z
LAST-MODIFIED:20200316T211103Z
UID:10001473-1555525800-1555529400@ninecircles.ca
SUMMARY:Coffee Talk - All Welcome
DESCRIPTION:Has HIV/AIDS affected your life? This drop-in conversation group is a safe space where you can talk about the changes\, challenges\, inspirations\, and supports in your life as you move forward. The third Wednesday of the month is a group for everyone\, all welcome!\nContact Sandra or Rosa for more information\, 204-940-6000
URL:https://ninecircles.ca/event/coffee-talk-welcome/2019-04-17/
LOCATION:Manitoba
CATEGORIES:People living with HIV only
END:VEVENT
BEGIN:VEVENT
DTSTART;TZID=America/Winnipeg:20190417T170000
DTEND;TZID=America/Winnipeg:20190417T174500
DTSTAMP:20260422T172643
CREATED:20190220T171937Z
LAST-MODIFIED:20190605T151439Z
UID:10001730-1555520400-1555523100@ninecircles.ca
SUMMARY:Mindful Movement
DESCRIPTION:Come find ways to help manage anxiety and stress in your life while moving gently.  Learn to relax and increase flexibility with gentle movements and breath control. \nCall Sandra at 204-940-6000 for more information.
URL:https://ninecircles.ca/event/mindful-movement-3/2019-04-17/
LOCATION:Nine Circles Community Centre\, 705 Broadway Winnipeg\, Winnipeg\, Manitoba\, R3G 0X2\, Canada
CATEGORIES:Client Events
END:VEVENT
BEGIN:VEVENT
DTSTART;TZID=America/Winnipeg:20190417T133000
DTEND;TZID=America/Winnipeg:20190417T163000
DTSTAMP:20260422T172643
CREATED:20190225T165153Z
LAST-MODIFIED:20190225T165329Z
UID:10001749-1555507800-1555518600@ninecircles.ca
SUMMARY:Dream Big
DESCRIPTION:Because sometimes dreaming big can help us figure out what we really want from life!\nDuring this 2-session group we will dream big about our hopes for the future and make a vision board.  \nThis is your chance to set aside limits\, doubts\, and worries and take the time to think about what you love! \nOver two sessions we will reflect on what we’d love in life – your health\, your reality\, and then show you how to make a vision board and do other creative exercises with those thoughts and dreams! \nSnacks provided and bus tokens provided if needed.   \nTo sign up please speak with Sri or Shauna\, 204-940-6000.  Looking forward to hearing from you! \nParticipants should plan to attend both days\, this group takes place on Tuesday April 16 and Wednesday April 17\, 2019.
URL:https://ninecircles.ca/event/dream-big-2/2019-04-17/
LOCATION:Nine Circles Community Centre\, 705 Broadway Winnipeg\, Winnipeg\, Manitoba\, R3G 0X2\, Canada
CATEGORIES:Community / Public Events
END:VEVENT
BEGIN:VEVENT
DTSTART;TZID=America/Winnipeg:20190417T120000
DTEND;TZID=America/Winnipeg:20190417T130000
DTSTAMP:20260422T172643
CREATED:20180817T154526Z
LAST-MODIFIED:20190417T210642Z
UID:10001159-1555502400-1555506000@ninecircles.ca
SUMMARY:Indigenous Traditional Singing and Drumming
DESCRIPTION:Share a song\, learn a song\, or sing along.  In the Round Room at Nine Circles.   \nEveryone is welcome!  Snacks provided. \nCall Peetanacoot for more information\, 204-940-6000.
URL:https://ninecircles.ca/event/indigenous-traditional-singing-and-drumming-2/2019-04-17/
LOCATION:Manitoba
CATEGORIES:Client Events
END:VEVENT
BEGIN:VEVENT
DTSTART;TZID=America/Winnipeg:20190416T133000
DTEND;TZID=America/Winnipeg:20190416T163000
DTSTAMP:20260422T172643
CREATED:20190225T165153Z
LAST-MODIFIED:20190225T165329Z
UID:10001748-1555421400-1555432200@ninecircles.ca
SUMMARY:Dream Big
DESCRIPTION:Because sometimes dreaming big can help us figure out what we really want from life!\nDuring this 2-session group we will dream big about our hopes for the future and make a vision board.  \nThis is your chance to set aside limits\, doubts\, and worries and take the time to think about what you love! \nOver two sessions we will reflect on what we’d love in life – your health\, your reality\, and then show you how to make a vision board and do other creative exercises with those thoughts and dreams! \nSnacks provided and bus tokens provided if needed.   \nTo sign up please speak with Sri or Shauna\, 204-940-6000.  Looking forward to hearing from you! \nParticipants should plan to attend both days\, this group takes place on Tuesday April 16 and Wednesday April 17\, 2019.
URL:https://ninecircles.ca/event/dream-big-2/2019-04-16/
LOCATION:Nine Circles Community Centre\, 705 Broadway Winnipeg\, Winnipeg\, Manitoba\, R3G 0X2\, Canada
CATEGORIES:Community / Public Events
END:VEVENT
BEGIN:VEVENT
DTSTART;TZID=America/Winnipeg:20190411T120000
DTEND;TZID=America/Winnipeg:20190411T120000
DTSTAMP:20260422T172643
CREATED:20180723T143440Z
LAST-MODIFIED:20190703T211424Z
UID:10001678-1554984000-1554984000@ninecircles.ca
SUMMARY:Food Bank A-K Members
DESCRIPTION:Food Bank is available for members only.  Please phone 204-940-6000 and ask to speak with Tania for assistance.
URL:https://ninecircles.ca/event/food-bank-a-k-members-2/2019-04-11/
LOCATION:Manitoba
CATEGORIES:People living with HIV only
END:VEVENT
BEGIN:VEVENT
DTSTART;TZID=America/Winnipeg:20190411T110000
DTEND;TZID=America/Winnipeg:20190411T120000
DTSTAMP:20260422T172643
CREATED:20180817T164256Z
LAST-MODIFIED:20181121T171101Z
UID:10001207-1554980400-1554984000@ninecircles.ca
SUMMARY:Viral Videos
DESCRIPTION:You are welcome to come and watch a short video with us in the Gathering Place while you wait for your food bank!
URL:https://ninecircles.ca/event/viral-videos-2/2019-04-11/
LOCATION:Manitoba
CATEGORIES:Client Events
END:VEVENT
BEGIN:VEVENT
DTSTART;TZID=America/Winnipeg:20190410T183000
DTEND;TZID=America/Winnipeg:20190410T193000
DTSTAMP:20260422T172643
CREATED:20230206T210451Z
LAST-MODIFIED:20230206T210451Z
UID:10001507-1554921000-1554924600@ninecircles.ca
SUMMARY:Coffee Talk - All Welcome
DESCRIPTION:Has HIV/AIDS affected your life? This drop-in conversation group is a safe space where you can talk about the changes\, challenges\, inspirations\, and supports in your life as you move forward. The third Wednesday of the month is a group for everyone\, all welcome!\nContact Sandra or Rosa for more information\, 204-940-6000
URL:https://ninecircles.ca/event/coffee-talk-welcome/2019-04-10/
LOCATION:Manitoba
CATEGORIES:People living with HIV only
END:VEVENT
BEGIN:VEVENT
DTSTART;TZID=America/Winnipeg:20190410T170000
DTEND;TZID=America/Winnipeg:20190410T174500
DTSTAMP:20260422T172643
CREATED:20190220T171937Z
LAST-MODIFIED:20190605T151439Z
UID:10001729-1554915600-1554918300@ninecircles.ca
SUMMARY:Mindful Movement
DESCRIPTION:Come find ways to help manage anxiety and stress in your life while moving gently.  Learn to relax and increase flexibility with gentle movements and breath control. \nCall Sandra at 204-940-6000 for more information.
URL:https://ninecircles.ca/event/mindful-movement-3/2019-04-10/
LOCATION:Nine Circles Community Centre\, 705 Broadway Winnipeg\, Winnipeg\, Manitoba\, R3G 0X2\, Canada
CATEGORIES:Client Events
END:VEVENT
BEGIN:VEVENT
DTSTART;TZID=America/Winnipeg:20190410T120000
DTEND;TZID=America/Winnipeg:20190410T130000
DTSTAMP:20260422T172643
CREATED:20180817T154526Z
LAST-MODIFIED:20190417T210642Z
UID:10001158-1554897600-1554901200@ninecircles.ca
SUMMARY:Indigenous Traditional Singing and Drumming
DESCRIPTION:Share a song\, learn a song\, or sing along.  In the Round Room at Nine Circles.   \nEveryone is welcome!  Snacks provided. \nCall Peetanacoot for more information\, 204-940-6000.
URL:https://ninecircles.ca/event/indigenous-traditional-singing-and-drumming-2/2019-04-10/
LOCATION:Manitoba
CATEGORIES:Client Events
END:VEVENT
BEGIN:VEVENT
DTSTART;TZID=America/Winnipeg:20190408T090000
DTEND;TZID=America/Winnipeg:20190408T120000
DTSTAMP:20260422T172643
CREATED:20190220T173729Z
LAST-MODIFIED:20190528T143346Z
UID:10001735-1554714000-1554724800@ninecircles.ca
SUMMARY:Massage Therapy
DESCRIPTION:Robertson College will be sending massage therapy students to provide free massages to Nine Circles Primary Care and Manitoba HIV Program clients. To book an appointment\, call 204-940-6000.
URL:https://ninecircles.ca/event/massage-therapy/2019-04-08/
LOCATION:Nine Circles Community Centre\, 705 Broadway Winnipeg\, Winnipeg\, Manitoba\, R3G 0X2\, Canada
CATEGORIES:Client Events
END:VEVENT
END:VCALENDAR