BEGIN:VCALENDAR
VERSION:2.0
PRODID:-//Nine Circles Community Health Centre - ECPv6.15.18//NONSGML v1.0//EN
CALSCALE:GREGORIAN
METHOD:PUBLISH
X-ORIGINAL-URL:https://ninecircles.ca
X-WR-CALDESC:Events for Nine Circles Community Health Centre
REFRESH-INTERVAL;VALUE=DURATION:PT1H
X-Robots-Tag:noindex
X-PUBLISHED-TTL:PT1H
BEGIN:VTIMEZONE
TZID:America/Winnipeg
BEGIN:DAYLIGHT
TZOFFSETFROM:-0600
TZOFFSETTO:-0500
TZNAME:CDT
DTSTART:20180311T080000
END:DAYLIGHT
BEGIN:STANDARD
TZOFFSETFROM:-0500
TZOFFSETTO:-0600
TZNAME:CST
DTSTART:20181104T070000
END:STANDARD
BEGIN:DAYLIGHT
TZOFFSETFROM:-0600
TZOFFSETTO:-0500
TZNAME:CDT
DTSTART:20190310T080000
END:DAYLIGHT
BEGIN:STANDARD
TZOFFSETFROM:-0500
TZOFFSETTO:-0600
TZNAME:CST
DTSTART:20191103T070000
END:STANDARD
BEGIN:DAYLIGHT
TZOFFSETFROM:-0600
TZOFFSETTO:-0500
TZNAME:CDT
DTSTART:20200308T080000
END:DAYLIGHT
BEGIN:STANDARD
TZOFFSETFROM:-0500
TZOFFSETTO:-0600
TZNAME:CST
DTSTART:20201101T070000
END:STANDARD
END:VTIMEZONE
BEGIN:VEVENT
DTSTART;TZID=America/Winnipeg:20190227T183000
DTEND;TZID=America/Winnipeg:20190227T193000
DTSTAMP:20260423T172140
CREATED:20180226T160659Z
LAST-MODIFIED:20200316T215030Z
UID:10001560-1551292200-1551295800@ninecircles.ca
SUMMARY:Coffee Talk - HIV and Employment Group
DESCRIPTION:Has HIV/AIDS affected your life? This drop-in conversation group is a safe space where you can talk about the changes\, challenges\, inspirations\, and supports in your life as you move forward.  \nThe fourth Wednesday of the month is a group for HIV positive individuals who are currently working or are in school\, part time or full time.  We will discuss issues around juggling the demands of working\, studying and achieving wellness at the same time.  Issues such as disclosure\, managing side effects of meds\, and health challenges will also be discussed. \nContact Sandra or Rosa for more information\, 204-940-6000
URL:https://ninecircles.ca/event/2431/2019-02-27/
LOCATION:Manitoba
CATEGORIES:People living with HIV only
END:VEVENT
BEGIN:VEVENT
DTSTART;TZID=America/Winnipeg:20190227T163000
DTEND;TZID=America/Winnipeg:20190227T173000
DTSTAMP:20260423T172140
CREATED:20181207T152244Z
LAST-MODIFIED:20190110T221334Z
UID:10001275-1551285000-1551288600@ninecircles.ca
SUMMARY:Mindful Movement
DESCRIPTION:Come find ways to help manage anxiety and stress in your life while moving gently.  Learn to relax and increase flexibility with gentle movements and breath control. \nCall Sandra at 204-940-6000 for more information.
URL:https://ninecircles.ca/event/mindful-movement-2/2019-02-27/
LOCATION:Nine Circles Community Centre\, 705 Broadway Winnipeg\, Winnipeg\, Manitoba\, R3G 0X2\, Canada
CATEGORIES:Client Events
END:VEVENT
BEGIN:VEVENT
DTSTART;TZID=America/Winnipeg:20190227T140000
DTEND;TZID=America/Winnipeg:20190227T153000
DTSTAMP:20260423T172140
CREATED:20190110T222622Z
LAST-MODIFIED:20200115T171801Z
UID:10001283-1551276000-1551281400@ninecircles.ca
SUMMARY:Standing Strong:  A Positive Sex Life
DESCRIPTION:In this workshop we will discuss topics like:\nHIV Transmission\nSafer sex tools like PrEP\, PEP\, condoms\, lube…\nUndetectable = Untransmittable\nStarting/raising a family \nThe group is for people living with HIV (and their supportive family member or friend) who want to better understand HIV and having a healthy sex life. \nTalk to Shauna or Sri to register (204-940-6000).   \nSnacks provided\, bus tickets available if needed. \nPlease speak with us if childcare is a barrier for you.
URL:https://ninecircles.ca/event/standing-strong-a-positive-sex-life/2019-02-27/
LOCATION:Nine Circles Community Centre\, 705 Broadway Winnipeg\, Winnipeg\, Manitoba\, R3G 0X2\, Canada
CATEGORIES:People living with HIV only
END:VEVENT
BEGIN:VEVENT
DTSTART;TZID=America/Winnipeg:20190227T120000
DTEND;TZID=America/Winnipeg:20190227T130000
DTSTAMP:20260423T172140
CREATED:20180817T154526Z
LAST-MODIFIED:20190417T210642Z
UID:10001152-1551268800-1551272400@ninecircles.ca
SUMMARY:Indigenous Traditional Singing and Drumming
DESCRIPTION:Share a song\, learn a song\, or sing along.  In the Round Room at Nine Circles.   \nEveryone is welcome!  Snacks provided. \nCall Peetanacoot for more information\, 204-940-6000.
URL:https://ninecircles.ca/event/indigenous-traditional-singing-and-drumming-2/2019-02-27/
LOCATION:Manitoba
CATEGORIES:Client Events
END:VEVENT
BEGIN:VEVENT
DTSTART;TZID=America/Winnipeg:20190226T133000
DTEND;TZID=America/Winnipeg:20190226T170000
DTSTAMP:20260423T172141
CREATED:20180720T210705Z
LAST-MODIFIED:20181030T141229Z
UID:10001650-1551187800-1551200400@ninecircles.ca
SUMMARY:Massage Appointments Available
DESCRIPTION:Robertson College will be sending massage therapy students to provide free massages to Nine Circles Primary Care and Manitoba HIV Program clients. To book an appointment\, call 204-940-6000.
URL:https://ninecircles.ca/event/massage-appointments-available-4-2018-11-21/2019-02-26/
LOCATION:Manitoba
CATEGORIES:Client Events
END:VEVENT
BEGIN:VEVENT
DTSTART;TZID=America/Winnipeg:20190221T120000
DTEND;TZID=America/Winnipeg:20190221T130000
DTSTAMP:20260423T172141
CREATED:20180723T143608Z
LAST-MODIFIED:20190703T211515Z
UID:10001700-1550750400-1550754000@ninecircles.ca
SUMMARY:Food Bank L-Z Members
DESCRIPTION:Food Bank is available for members only.  Please phone 204-940-6000 and ask to speak with Tania for assistance.
URL:https://ninecircles.ca/event/food-bank-l-z-members-3/2019-02-21/
LOCATION:Manitoba
CATEGORIES:People living with HIV only
END:VEVENT
BEGIN:VEVENT
DTSTART;TZID=America/Winnipeg:20190221T110000
DTEND;TZID=America/Winnipeg:20190221T120000
DTSTAMP:20260423T172141
CREATED:20180817T164256Z
LAST-MODIFIED:20181121T171101Z
UID:10001200-1550746800-1550750400@ninecircles.ca
SUMMARY:Viral Videos
DESCRIPTION:You are welcome to come and watch a short video with us in the Gathering Place while you wait for your food bank!
URL:https://ninecircles.ca/event/viral-videos-2/2019-02-21/
LOCATION:Manitoba
CATEGORIES:Client Events
END:VEVENT
BEGIN:VEVENT
DTSTART;TZID=America/Winnipeg:20190220T183000
DTEND;TZID=America/Winnipeg:20190220T193000
DTSTAMP:20260423T172141
CREATED:20170406T203449Z
LAST-MODIFIED:20200316T211103Z
UID:10001471-1550687400-1550691000@ninecircles.ca
SUMMARY:Coffee Talk - All Welcome
DESCRIPTION:Has HIV/AIDS affected your life? This drop-in conversation group is a safe space where you can talk about the changes\, challenges\, inspirations\, and supports in your life as you move forward. The third Wednesday of the month is a group for everyone\, all welcome!\nContact Sandra or Rosa for more information\, 204-940-6000
URL:https://ninecircles.ca/event/coffee-talk-welcome/2019-02-20/
LOCATION:Manitoba
CATEGORIES:People living with HIV only
END:VEVENT
BEGIN:VEVENT
DTSTART;TZID=America/Winnipeg:20190220T163000
DTEND;TZID=America/Winnipeg:20190220T173000
DTSTAMP:20260423T172141
CREATED:20181207T152244Z
LAST-MODIFIED:20190110T221334Z
UID:10001274-1550680200-1550683800@ninecircles.ca
SUMMARY:Mindful Movement
DESCRIPTION:Come find ways to help manage anxiety and stress in your life while moving gently.  Learn to relax and increase flexibility with gentle movements and breath control. \nCall Sandra at 204-940-6000 for more information.
URL:https://ninecircles.ca/event/mindful-movement-2/2019-02-20/
LOCATION:Nine Circles Community Centre\, 705 Broadway Winnipeg\, Winnipeg\, Manitoba\, R3G 0X2\, Canada
CATEGORIES:Client Events
END:VEVENT
BEGIN:VEVENT
DTSTART;TZID=America/Winnipeg:20190220T120000
DTEND;TZID=America/Winnipeg:20190220T130000
DTSTAMP:20260423T172141
CREATED:20180817T154526Z
LAST-MODIFIED:20190417T210642Z
UID:10001151-1550664000-1550667600@ninecircles.ca
SUMMARY:Indigenous Traditional Singing and Drumming
DESCRIPTION:Share a song\, learn a song\, or sing along.  In the Round Room at Nine Circles.   \nEveryone is welcome!  Snacks provided. \nCall Peetanacoot for more information\, 204-940-6000.
URL:https://ninecircles.ca/event/indigenous-traditional-singing-and-drumming-2/2019-02-20/
LOCATION:Manitoba
CATEGORIES:Client Events
END:VEVENT
BEGIN:VEVENT
DTSTART;TZID=America/Winnipeg:20190214T120000
DTEND;TZID=America/Winnipeg:20190214T120000
DTSTAMP:20260423T172141
CREATED:20180723T143440Z
LAST-MODIFIED:20190703T211424Z
UID:10001674-1550145600-1550145600@ninecircles.ca
SUMMARY:Food Bank A-K Members
DESCRIPTION:Food Bank is available for members only.  Please phone 204-940-6000 and ask to speak with Tania for assistance.
URL:https://ninecircles.ca/event/food-bank-a-k-members-2/2019-02-14/
LOCATION:Manitoba
CATEGORIES:People living with HIV only
END:VEVENT
BEGIN:VEVENT
DTSTART;TZID=America/Winnipeg:20190214T110000
DTEND;TZID=America/Winnipeg:20190214T120000
DTSTAMP:20260423T172141
CREATED:20180817T164256Z
LAST-MODIFIED:20181121T171101Z
UID:10001199-1550142000-1550145600@ninecircles.ca
SUMMARY:Viral Videos
DESCRIPTION:You are welcome to come and watch a short video with us in the Gathering Place while you wait for your food bank!
URL:https://ninecircles.ca/event/viral-videos-2/2019-02-14/
LOCATION:Manitoba
CATEGORIES:Client Events
END:VEVENT
BEGIN:VEVENT
DTSTART;TZID=America/Winnipeg:20190213T183000
DTEND;TZID=America/Winnipeg:20190213T193000
DTSTAMP:20260423T172141
CREATED:20230206T210451Z
LAST-MODIFIED:20230206T210451Z
UID:10001505-1550082600-1550086200@ninecircles.ca
SUMMARY:Coffee Talk - All Welcome
DESCRIPTION:Has HIV/AIDS affected your life? This drop-in conversation group is a safe space where you can talk about the changes\, challenges\, inspirations\, and supports in your life as you move forward. The third Wednesday of the month is a group for everyone\, all welcome!\nContact Sandra or Rosa for more information\, 204-940-6000
URL:https://ninecircles.ca/event/coffee-talk-welcome/2019-02-13/
LOCATION:Manitoba
CATEGORIES:People living with HIV only
END:VEVENT
BEGIN:VEVENT
DTSTART;TZID=America/Winnipeg:20190213T163000
DTEND;TZID=America/Winnipeg:20190213T173000
DTSTAMP:20260423T172141
CREATED:20181207T152244Z
LAST-MODIFIED:20190110T221334Z
UID:10001273-1550075400-1550079000@ninecircles.ca
SUMMARY:Mindful Movement
DESCRIPTION:Come find ways to help manage anxiety and stress in your life while moving gently.  Learn to relax and increase flexibility with gentle movements and breath control. \nCall Sandra at 204-940-6000 for more information.
URL:https://ninecircles.ca/event/mindful-movement-2/2019-02-13/
LOCATION:Nine Circles Community Centre\, 705 Broadway Winnipeg\, Winnipeg\, Manitoba\, R3G 0X2\, Canada
CATEGORIES:Client Events
END:VEVENT
BEGIN:VEVENT
DTSTART;TZID=America/Winnipeg:20190213T143000
DTEND;TZID=America/Winnipeg:20190213T153000
DTSTAMP:20260423T172141
CREATED:20190110T222954Z
LAST-MODIFIED:20190621T134144Z
UID:10001723-1550068200-1550071800@ninecircles.ca
SUMMARY:Everyday Sexual Health
DESCRIPTION:Sex is normal\, natural\, and part of our health.\nJoin us to learn how to make sex safer\, avoid infections that can come along with sex\, and get information on how to get tested. \nEveryone is welcome! \nTalk to Shauna and Sri for details (204-940-6000)
URL:https://ninecircles.ca/event/everyday-sexual-health/2019-02-13/
LOCATION:Nine Circles Community Centre\, 705 Broadway Winnipeg\, Winnipeg\, Manitoba\, R3G 0X2\, Canada
CATEGORIES:Community / Public Events
END:VEVENT
BEGIN:VEVENT
DTSTART;TZID=America/Winnipeg:20190213T120000
DTEND;TZID=America/Winnipeg:20190213T130000
DTSTAMP:20260423T172141
CREATED:20180817T154526Z
LAST-MODIFIED:20190417T210642Z
UID:10001150-1550059200-1550062800@ninecircles.ca
SUMMARY:Indigenous Traditional Singing and Drumming
DESCRIPTION:Share a song\, learn a song\, or sing along.  In the Round Room at Nine Circles.   \nEveryone is welcome!  Snacks provided. \nCall Peetanacoot for more information\, 204-940-6000.
URL:https://ninecircles.ca/event/indigenous-traditional-singing-and-drumming-2/2019-02-13/
LOCATION:Manitoba
CATEGORIES:Client Events
END:VEVENT
BEGIN:VEVENT
DTSTART;TZID=America/Winnipeg:20190212T133000
DTEND;TZID=America/Winnipeg:20190212T170000
DTSTAMP:20260423T172141
CREATED:20180720T210705Z
LAST-MODIFIED:20181030T141229Z
UID:10001649-1549978200-1549990800@ninecircles.ca
SUMMARY:Massage Appointments Available
DESCRIPTION:Robertson College will be sending massage therapy students to provide free massages to Nine Circles Primary Care and Manitoba HIV Program clients. To book an appointment\, call 204-940-6000.
URL:https://ninecircles.ca/event/massage-appointments-available-4-2018-11-21/2019-02-12/
LOCATION:Manitoba
CATEGORIES:Client Events
END:VEVENT
BEGIN:VEVENT
DTSTART;TZID=America/Winnipeg:20190207T120000
DTEND;TZID=America/Winnipeg:20190207T130000
DTSTAMP:20260423T172141
CREATED:20180723T143608Z
LAST-MODIFIED:20190703T211515Z
UID:10001699-1549540800-1549544400@ninecircles.ca
SUMMARY:Food Bank L-Z Members
DESCRIPTION:Food Bank is available for members only.  Please phone 204-940-6000 and ask to speak with Tania for assistance.
URL:https://ninecircles.ca/event/food-bank-l-z-members-3/2019-02-07/
LOCATION:Manitoba
CATEGORIES:People living with HIV only
END:VEVENT
BEGIN:VEVENT
DTSTART;TZID=America/Winnipeg:20190207T110000
DTEND;TZID=America/Winnipeg:20190207T120000
DTSTAMP:20260423T172141
CREATED:20180817T164256Z
LAST-MODIFIED:20181121T171101Z
UID:10001198-1549537200-1549540800@ninecircles.ca
SUMMARY:Viral Videos
DESCRIPTION:You are welcome to come and watch a short video with us in the Gathering Place while you wait for your food bank!
URL:https://ninecircles.ca/event/viral-videos-2/2019-02-07/
LOCATION:Manitoba
CATEGORIES:Client Events
END:VEVENT
BEGIN:VEVENT
DTSTART;TZID=America/Winnipeg:20190206T183000
DTEND;TZID=America/Winnipeg:20190206T193000
DTSTAMP:20260423T172141
CREATED:20170406T202411Z
LAST-MODIFIED:20190703T212055Z
UID:10001419-1549477800-1549481400@ninecircles.ca
SUMMARY:Coffee Talk - Men's Group
DESCRIPTION:Has HIV/AIDS affected your life?  This drop-in conversation group is a safe space where you can talk about the changes\, challenges\, inspirations\, and supports in your life as you move forward.  The first Wednesday of the month is Men’s only group.\nContact Sandra or Rosa for more information\, 204-940-6000
URL:https://ninecircles.ca/event/coffee-talk-msm/2019-02-06/
LOCATION:Manitoba
CATEGORIES:People living with HIV only
END:VEVENT
BEGIN:VEVENT
DTSTART;TZID=America/Winnipeg:20190206T163000
DTEND;TZID=America/Winnipeg:20190206T173000
DTSTAMP:20260423T172141
CREATED:20181207T152244Z
LAST-MODIFIED:20190110T221334Z
UID:10001272-1549470600-1549474200@ninecircles.ca
SUMMARY:Mindful Movement
DESCRIPTION:Come find ways to help manage anxiety and stress in your life while moving gently.  Learn to relax and increase flexibility with gentle movements and breath control. \nCall Sandra at 204-940-6000 for more information.
URL:https://ninecircles.ca/event/mindful-movement-2/2019-02-06/
LOCATION:Nine Circles Community Centre\, 705 Broadway Winnipeg\, Winnipeg\, Manitoba\, R3G 0X2\, Canada
CATEGORIES:Client Events
END:VEVENT
BEGIN:VEVENT
DTSTART;TZID=America/Winnipeg:20190206T120000
DTEND;TZID=America/Winnipeg:20190206T130000
DTSTAMP:20260423T172141
CREATED:20180817T154526Z
LAST-MODIFIED:20190417T210642Z
UID:10001149-1549454400-1549458000@ninecircles.ca
SUMMARY:Indigenous Traditional Singing and Drumming
DESCRIPTION:Share a song\, learn a song\, or sing along.  In the Round Room at Nine Circles.   \nEveryone is welcome!  Snacks provided. \nCall Peetanacoot for more information\, 204-940-6000.
URL:https://ninecircles.ca/event/indigenous-traditional-singing-and-drumming-2/2019-02-06/
LOCATION:Manitoba
CATEGORIES:Client Events
END:VEVENT
BEGIN:VEVENT
DTSTART;TZID=America/Winnipeg:20190201T143000
DTEND;TZID=America/Winnipeg:20190201T153000
DTSTAMP:20260423T172141
CREATED:20161219T182627Z
LAST-MODIFIED:20190220T174831Z
UID:10001249-1549031400-1549035000@ninecircles.ca
SUMMARY:What's Your Goal?
DESCRIPTION:Join us for our monthly group dedicated to goal-setting on the first Friday of every month at 2:30! \nDuring the group we will: \n-Set our own personal action plans – something you would like to accomplish\n-Learn problem solving techniques\n-Check in on our progress\n-Share successes\n-Brainstorm ideas for next time! \nYour goal can be anything that you would like.  Would you like to work on your health\, diet\, communication skills\, your home\, your habits… you name it! \nRefreshments Provided\, All Welcome!
URL:https://ninecircles.ca/event/whats-your-goal/2019-02-01/
LOCATION:Manitoba
CATEGORIES:Client Events
END:VEVENT
BEGIN:VEVENT
DTSTART;TZID=America/Winnipeg:20190131T120000
DTEND;TZID=America/Winnipeg:20190131T120000
DTSTAMP:20260423T172141
CREATED:20180723T143440Z
LAST-MODIFIED:20190703T211424Z
UID:10001673-1548936000-1548936000@ninecircles.ca
SUMMARY:Food Bank A-K Members
DESCRIPTION:Food Bank is available for members only.  Please phone 204-940-6000 and ask to speak with Tania for assistance.
URL:https://ninecircles.ca/event/food-bank-a-k-members-2/2019-01-31/
LOCATION:Manitoba
CATEGORIES:People living with HIV only
END:VEVENT
BEGIN:VEVENT
DTSTART;TZID=America/Winnipeg:20190131T110000
DTEND;TZID=America/Winnipeg:20190131T120000
DTSTAMP:20260423T172141
CREATED:20180817T164256Z
LAST-MODIFIED:20181121T171101Z
UID:10001197-1548932400-1548936000@ninecircles.ca
SUMMARY:Viral Videos
DESCRIPTION:You are welcome to come and watch a short video with us in the Gathering Place while you wait for your food bank!
URL:https://ninecircles.ca/event/viral-videos-2/2019-01-31/
LOCATION:Manitoba
CATEGORIES:Client Events
END:VEVENT
BEGIN:VEVENT
DTSTART;TZID=America/Winnipeg:20190130T163000
DTEND;TZID=America/Winnipeg:20190130T173000
DTSTAMP:20260423T172141
CREATED:20181207T152244Z
LAST-MODIFIED:20190110T221334Z
UID:10001271-1548865800-1548869400@ninecircles.ca
SUMMARY:Mindful Movement
DESCRIPTION:Come find ways to help manage anxiety and stress in your life while moving gently.  Learn to relax and increase flexibility with gentle movements and breath control. \nCall Sandra at 204-940-6000 for more information.
URL:https://ninecircles.ca/event/mindful-movement-2/2019-01-30/
LOCATION:Nine Circles Community Centre\, 705 Broadway Winnipeg\, Winnipeg\, Manitoba\, R3G 0X2\, Canada
CATEGORIES:Client Events
END:VEVENT
BEGIN:VEVENT
DTSTART;TZID=America/Winnipeg:20190130T120000
DTEND;TZID=America/Winnipeg:20190130T130000
DTSTAMP:20260423T172141
CREATED:20180817T154526Z
LAST-MODIFIED:20190417T210642Z
UID:10001148-1548849600-1548853200@ninecircles.ca
SUMMARY:Indigenous Traditional Singing and Drumming
DESCRIPTION:Share a song\, learn a song\, or sing along.  In the Round Room at Nine Circles.   \nEveryone is welcome!  Snacks provided. \nCall Peetanacoot for more information\, 204-940-6000.
URL:https://ninecircles.ca/event/indigenous-traditional-singing-and-drumming-2/2019-01-30/
LOCATION:Manitoba
CATEGORIES:Client Events
END:VEVENT
BEGIN:VEVENT
DTSTART;TZID=America/Winnipeg:20190129T133000
DTEND;TZID=America/Winnipeg:20190129T170000
DTSTAMP:20260423T172141
CREATED:20180720T210705Z
LAST-MODIFIED:20181030T141229Z
UID:10001648-1548768600-1548781200@ninecircles.ca
SUMMARY:Massage Appointments Available
DESCRIPTION:Robertson College will be sending massage therapy students to provide free massages to Nine Circles Primary Care and Manitoba HIV Program clients. To book an appointment\, call 204-940-6000.
URL:https://ninecircles.ca/event/massage-appointments-available-4-2018-11-21/2019-01-29/
LOCATION:Manitoba
CATEGORIES:Client Events
END:VEVENT
BEGIN:VEVENT
DTSTART;TZID=America/Winnipeg:20190124T120000
DTEND;TZID=America/Winnipeg:20190124T130000
DTSTAMP:20260423T172141
CREATED:20180723T143608Z
LAST-MODIFIED:20190703T211515Z
UID:10001698-1548331200-1548334800@ninecircles.ca
SUMMARY:Food Bank L-Z Members
DESCRIPTION:Food Bank is available for members only.  Please phone 204-940-6000 and ask to speak with Tania for assistance.
URL:https://ninecircles.ca/event/food-bank-l-z-members-3/2019-01-24/
LOCATION:Manitoba
CATEGORIES:People living with HIV only
END:VEVENT
BEGIN:VEVENT
DTSTART;TZID=America/Winnipeg:20190124T110000
DTEND;TZID=America/Winnipeg:20190124T120000
DTSTAMP:20260423T172141
CREATED:20180817T164256Z
LAST-MODIFIED:20181121T171101Z
UID:10001196-1548327600-1548331200@ninecircles.ca
SUMMARY:Viral Videos
DESCRIPTION:You are welcome to come and watch a short video with us in the Gathering Place while you wait for your food bank!
URL:https://ninecircles.ca/event/viral-videos-2/2019-01-24/
LOCATION:Manitoba
CATEGORIES:Client Events
END:VEVENT
END:VCALENDAR