BEGIN:VCALENDAR
VERSION:2.0
PRODID:-//Nine Circles Community Health Centre - ECPv6.15.18//NONSGML v1.0//EN
CALSCALE:GREGORIAN
METHOD:PUBLISH
X-WR-CALNAME:Nine Circles Community Health Centre
X-ORIGINAL-URL:https://ninecircles.ca
X-WR-CALDESC:Events for Nine Circles Community Health Centre
REFRESH-INTERVAL;VALUE=DURATION:PT1H
X-Robots-Tag:noindex
X-PUBLISHED-TTL:PT1H
BEGIN:VTIMEZONE
TZID:America/Winnipeg
BEGIN:DAYLIGHT
TZOFFSETFROM:-0600
TZOFFSETTO:-0500
TZNAME:CDT
DTSTART:20170312T080000
END:DAYLIGHT
BEGIN:STANDARD
TZOFFSETFROM:-0500
TZOFFSETTO:-0600
TZNAME:CST
DTSTART:20171105T070000
END:STANDARD
BEGIN:DAYLIGHT
TZOFFSETFROM:-0600
TZOFFSETTO:-0500
TZNAME:CDT
DTSTART:20180311T080000
END:DAYLIGHT
BEGIN:STANDARD
TZOFFSETFROM:-0500
TZOFFSETTO:-0600
TZNAME:CST
DTSTART:20181104T070000
END:STANDARD
BEGIN:DAYLIGHT
TZOFFSETFROM:-0600
TZOFFSETTO:-0500
TZNAME:CDT
DTSTART:20190310T080000
END:DAYLIGHT
BEGIN:STANDARD
TZOFFSETFROM:-0500
TZOFFSETTO:-0600
TZNAME:CST
DTSTART:20191103T070000
END:STANDARD
END:VTIMEZONE
BEGIN:VEVENT
DTSTART;TZID=America/Winnipeg:20181227T120000
DTEND;TZID=America/Winnipeg:20181227T130000
DTSTAMP:20260424T074547
CREATED:20180723T143152Z
LAST-MODIFIED:20180723T143220Z
UID:10001670-1545912000-1545915600@ninecircles.ca
SUMMARY:No Food Bank Today
DESCRIPTION:There will be no food bank today.   \nFood bank resumes: \nJanuary 3 for A-K members\nJanuary 10 for L-Z members
URL:https://ninecircles.ca/event/no-food-bank-today-2/
LOCATION:Manitoba
CATEGORIES:Announcements
END:VEVENT
BEGIN:VEVENT
DTSTART;TZID=America/Winnipeg:20181226T120000
DTEND;TZID=America/Winnipeg:20181226T130000
DTSTAMP:20260424T074547
CREATED:20180817T154526Z
LAST-MODIFIED:20190417T210642Z
UID:10001143-1545825600-1545829200@ninecircles.ca
SUMMARY:Indigenous Traditional Singing and Drumming
DESCRIPTION:Share a song\, learn a song\, or sing along.  In the Round Room at Nine Circles.   \nEveryone is welcome!  Snacks provided. \nCall Peetanacoot for more information\, 204-940-6000.
URL:https://ninecircles.ca/event/indigenous-traditional-singing-and-drumming-2/2018-12-26/
LOCATION:Manitoba
CATEGORIES:Client Events
END:VEVENT
BEGIN:VEVENT
DTSTART;VALUE=DATE:20181226
DTEND;VALUE=DATE:20181227
DTSTAMP:20260424T074547
CREATED:20180618T151604Z
LAST-MODIFIED:20180618T152033Z
UID:10001600-1545782400-1545868799@ninecircles.ca
SUMMARY:Nine Circles Closed
DESCRIPTION:Nine Circles is closed today.
URL:https://ninecircles.ca/event/nine-circles-closed-10/2018-12-26/
LOCATION:Manitoba
CATEGORIES:Announcements
END:VEVENT
BEGIN:VEVENT
DTSTART;VALUE=DATE:20181225
DTEND;VALUE=DATE:20181226
DTSTAMP:20260424T074547
CREATED:20180618T151604Z
LAST-MODIFIED:20180618T152033Z
UID:10001599-1545696000-1545782399@ninecircles.ca
SUMMARY:Nine Circles Closed
DESCRIPTION:Nine Circles is closed today.
URL:https://ninecircles.ca/event/nine-circles-closed-10/2018-12-25/
LOCATION:Manitoba
CATEGORIES:Announcements
END:VEVENT
BEGIN:VEVENT
DTSTART;TZID=America/Winnipeg:20181220T120000
DTEND;TZID=America/Winnipeg:20181220T130000
DTSTAMP:20260424T074547
CREATED:20180720T212955Z
LAST-MODIFIED:20180720T214222Z
UID:10001669-1545307200-1545310800@ninecircles.ca
SUMMARY:Food Bank   L-Z Members
DESCRIPTION:Food Bank is available for members only.  Please phone 204-940-6000 and ask to speak with Tania for assistance.
URL:https://ninecircles.ca/event/food-bank-a-k-members/2018-12-20/
LOCATION:Manitoba
CATEGORIES:People living with HIV only
END:VEVENT
BEGIN:VEVENT
DTSTART;TZID=America/Winnipeg:20181220T110000
DTEND;TZID=America/Winnipeg:20181220T120000
DTSTAMP:20260424T074547
CREATED:20180817T164256Z
LAST-MODIFIED:20181121T171101Z
UID:10001192-1545303600-1545307200@ninecircles.ca
SUMMARY:Viral Videos
DESCRIPTION:You are welcome to come and watch a short video with us in the Gathering Place while you wait for your food bank!
URL:https://ninecircles.ca/event/viral-videos-2/2018-12-20/
LOCATION:Manitoba
CATEGORIES:Client Events
END:VEVENT
BEGIN:VEVENT
DTSTART;TZID=America/Winnipeg:20181219T183000
DTEND;TZID=America/Winnipeg:20181219T193000
DTSTAMP:20260424T074547
CREATED:20170406T203449Z
LAST-MODIFIED:20200316T211103Z
UID:10001469-1545244200-1545247800@ninecircles.ca
SUMMARY:Coffee Talk - All Welcome
DESCRIPTION:Has HIV/AIDS affected your life? This drop-in conversation group is a safe space where you can talk about the changes\, challenges\, inspirations\, and supports in your life as you move forward. The third Wednesday of the month is a group for everyone\, all welcome!\nContact Sandra or Rosa for more information\, 204-940-6000
URL:https://ninecircles.ca/event/coffee-talk-welcome/2018-12-19/
LOCATION:Manitoba
CATEGORIES:People living with HIV only
END:VEVENT
BEGIN:VEVENT
DTSTART;TZID=America/Winnipeg:20181219T133000
DTEND;TZID=America/Winnipeg:20181219T170000
DTSTAMP:20260424T074547
CREATED:20180720T210705Z
LAST-MODIFIED:20181030T141229Z
UID:10001646-1545226200-1545238800@ninecircles.ca
SUMMARY:Massage Appointments Available
DESCRIPTION:Robertson College will be sending massage therapy students to provide free massages to Nine Circles Primary Care and Manitoba HIV Program clients. To book an appointment\, call 204-940-6000.
URL:https://ninecircles.ca/event/massage-appointments-available-4-2018-11-21/2018-12-19/
LOCATION:Manitoba
CATEGORIES:Client Events
END:VEVENT
BEGIN:VEVENT
DTSTART;TZID=America/Winnipeg:20181219T120000
DTEND;TZID=America/Winnipeg:20181219T130000
DTSTAMP:20260424T074547
CREATED:20180817T154526Z
LAST-MODIFIED:20190417T210642Z
UID:10001142-1545220800-1545224400@ninecircles.ca
SUMMARY:Indigenous Traditional Singing and Drumming
DESCRIPTION:Share a song\, learn a song\, or sing along.  In the Round Room at Nine Circles.   \nEveryone is welcome!  Snacks provided. \nCall Peetanacoot for more information\, 204-940-6000.
URL:https://ninecircles.ca/event/indigenous-traditional-singing-and-drumming-2/2018-12-19/
LOCATION:Manitoba
CATEGORIES:Client Events
END:VEVENT
BEGIN:VEVENT
DTSTART;TZID=America/Winnipeg:20181219T110000
DTEND;TZID=America/Winnipeg:20181219T130000
DTSTAMP:20260424T074547
CREATED:20181121T170837Z
LAST-MODIFIED:20181121T170837Z
UID:10001265-1545217200-1545224400@ninecircles.ca
SUMMARY:Winter Solstice Ceremony
DESCRIPTION:Celebrate the beginning of Winter and the Festive Season.  Feast to follow in the Round Room at Nine Circles. \nAnyone welcome.  Bring tobacco for offering.  Register with Peetanactoot by calling 204-940-6000 or just come down on the 19th!
URL:https://ninecircles.ca/event/winter-solstice-ceremony/
LOCATION:Nine Circles Community Centre\, 705 Broadway Winnipeg\, Winnipeg\, Manitoba\, R3G 0X2\, Canada
CATEGORIES:Client Events
END:VEVENT
BEGIN:VEVENT
DTSTART;TZID=America/Winnipeg:20181213T120000
DTEND;TZID=America/Winnipeg:20181213T130000
DTSTAMP:20260424T074547
CREATED:20180720T212824Z
LAST-MODIFIED:20180720T214135Z
UID:10001662-1544702400-1544706000@ninecircles.ca
SUMMARY:Food Bank  A-K Members
DESCRIPTION:Food Bank is available for members only.  Please phone 204-940-6000 and ask to speak with Tania for assistance.
URL:https://ninecircles.ca/event/food-bank-l-z-members-2/2018-12-13/
LOCATION:Manitoba
CATEGORIES:People living with HIV only
END:VEVENT
BEGIN:VEVENT
DTSTART;TZID=America/Winnipeg:20181213T110000
DTEND;TZID=America/Winnipeg:20181213T120000
DTSTAMP:20260424T074547
CREATED:20180817T164256Z
LAST-MODIFIED:20181121T171101Z
UID:10001191-1544698800-1544702400@ninecircles.ca
SUMMARY:Viral Videos
DESCRIPTION:You are welcome to come and watch a short video with us in the Gathering Place while you wait for your food bank!
URL:https://ninecircles.ca/event/viral-videos-2/2018-12-13/
LOCATION:Manitoba
CATEGORIES:Client Events
END:VEVENT
BEGIN:VEVENT
DTSTART;TZID=America/Winnipeg:20181212T183000
DTEND;TZID=America/Winnipeg:20181212T193000
DTSTAMP:20260424T074547
CREATED:20230206T210451Z
LAST-MODIFIED:20230206T210451Z
UID:10001503-1544639400-1544643000@ninecircles.ca
SUMMARY:Coffee Talk - All Welcome
DESCRIPTION:Has HIV/AIDS affected your life? This drop-in conversation group is a safe space where you can talk about the changes\, challenges\, inspirations\, and supports in your life as you move forward. The third Wednesday of the month is a group for everyone\, all welcome!\nContact Sandra or Rosa for more information\, 204-940-6000
URL:https://ninecircles.ca/event/coffee-talk-welcome/2018-12-12/
LOCATION:Manitoba
CATEGORIES:People living with HIV only
END:VEVENT
BEGIN:VEVENT
DTSTART;TZID=America/Winnipeg:20181212T163000
DTEND;TZID=America/Winnipeg:20181212T173000
DTSTAMP:20260424T074547
CREATED:20180817T161716Z
LAST-MODIFIED:20180920T191509Z
UID:10001175-1544632200-1544635800@ninecircles.ca
SUMMARY:Mindful Movement
DESCRIPTION:Come find ways to help manage anxiety and stress in your life while moving gently.  Learn to relax and increase flexibility with gentle movements and breath control. \nCall Sandra at 204-940-6000 for more information.
URL:https://ninecircles.ca/event/mindful-movement/2018-12-12/
LOCATION:Manitoba
CATEGORIES:Client Events
END:VEVENT
BEGIN:VEVENT
DTSTART;TZID=America/Winnipeg:20181212T120000
DTEND;TZID=America/Winnipeg:20181212T130000
DTSTAMP:20260424T074547
CREATED:20180817T154526Z
LAST-MODIFIED:20190417T210642Z
UID:10001141-1544616000-1544619600@ninecircles.ca
SUMMARY:Indigenous Traditional Singing and Drumming
DESCRIPTION:Share a song\, learn a song\, or sing along.  In the Round Room at Nine Circles.   \nEveryone is welcome!  Snacks provided. \nCall Peetanacoot for more information\, 204-940-6000.
URL:https://ninecircles.ca/event/indigenous-traditional-singing-and-drumming-2/2018-12-12/
LOCATION:Manitoba
CATEGORIES:Client Events
END:VEVENT
BEGIN:VEVENT
DTSTART;TZID=America/Winnipeg:20181207T143000
DTEND;TZID=America/Winnipeg:20181207T153000
DTSTAMP:20260424T074547
CREATED:20161219T182627Z
LAST-MODIFIED:20190220T174831Z
UID:10001248-1544193000-1544196600@ninecircles.ca
SUMMARY:What's Your Goal?
DESCRIPTION:Join us for our monthly group dedicated to goal-setting on the first Friday of every month at 2:30! \nDuring the group we will: \n-Set our own personal action plans – something you would like to accomplish\n-Learn problem solving techniques\n-Check in on our progress\n-Share successes\n-Brainstorm ideas for next time! \nYour goal can be anything that you would like.  Would you like to work on your health\, diet\, communication skills\, your home\, your habits… you name it! \nRefreshments Provided\, All Welcome!
URL:https://ninecircles.ca/event/whats-your-goal/2018-12-07/
LOCATION:Manitoba
CATEGORIES:Client Events
END:VEVENT
BEGIN:VEVENT
DTSTART;TZID=America/Winnipeg:20181206T120000
DTEND;TZID=America/Winnipeg:20181206T130000
DTSTAMP:20260424T074547
CREATED:20180720T212955Z
LAST-MODIFIED:20180720T214222Z
UID:10001668-1544097600-1544101200@ninecircles.ca
SUMMARY:Food Bank   L-Z Members
DESCRIPTION:Food Bank is available for members only.  Please phone 204-940-6000 and ask to speak with Tania for assistance.
URL:https://ninecircles.ca/event/food-bank-a-k-members/2018-12-06/
LOCATION:Manitoba
CATEGORIES:People living with HIV only
END:VEVENT
BEGIN:VEVENT
DTSTART;TZID=America/Winnipeg:20181206T110000
DTEND;TZID=America/Winnipeg:20181206T120000
DTSTAMP:20260424T074547
CREATED:20180817T164256Z
LAST-MODIFIED:20181121T171101Z
UID:10001190-1544094000-1544097600@ninecircles.ca
SUMMARY:Viral Videos
DESCRIPTION:You are welcome to come and watch a short video with us in the Gathering Place while you wait for your food bank!
URL:https://ninecircles.ca/event/viral-videos-2/2018-12-06/
LOCATION:Manitoba
CATEGORIES:Client Events
END:VEVENT
BEGIN:VEVENT
DTSTART;TZID=America/Winnipeg:20181205T120000
DTEND;TZID=America/Winnipeg:20181205T130000
DTSTAMP:20260424T074547
CREATED:20180817T154526Z
LAST-MODIFIED:20190417T210642Z
UID:10001140-1544011200-1544014800@ninecircles.ca
SUMMARY:Indigenous Traditional Singing and Drumming
DESCRIPTION:Share a song\, learn a song\, or sing along.  In the Round Room at Nine Circles.   \nEveryone is welcome!  Snacks provided. \nCall Peetanacoot for more information\, 204-940-6000.
URL:https://ninecircles.ca/event/indigenous-traditional-singing-and-drumming-2/2018-12-05/
LOCATION:Manitoba
CATEGORIES:Client Events
END:VEVENT
BEGIN:VEVENT
DTSTART;TZID=America/Winnipeg:20181205T113000
DTEND;TZID=America/Winnipeg:20181205T130000
DTSTAMP:20260424T074547
CREATED:20181030T141911Z
LAST-MODIFIED:20181030T142336Z
UID:10001226-1544009400-1544014800@ninecircles.ca
SUMMARY:Holiday Meal
DESCRIPTION:You are invited to our Holiday Meal! \nWe will be serving a delicious hot lunch for Nine Circles and Manitoba HIV program clients\, volunteers\, and staff in the basement hall at WestEnd Commons\, 641 St Matthews Ave (on the corner of St. Matthews and Maryland St). \nWhile you are there\, you will be invited to create a small holiday craft to take home or give as a gift! \nSign up by Monday November 26th with Nine Circles at the reception desk or by calling 204-940-6000.   \nDoors open at 11:30. You may bring a family member or friend with you!
URL:https://ninecircles.ca/event/holiday-meal/
LOCATION:Nine Circles Community Centre\, 705 Broadway Winnipeg\, Winnipeg\, Manitoba\, R3G 0X2\, Canada
CATEGORIES:Client Events
END:VEVENT
BEGIN:VEVENT
DTSTART;TZID=America/Winnipeg:20181204T133000
DTEND;TZID=America/Winnipeg:20181204T170000
DTSTAMP:20260424T074547
CREATED:20180720T210705Z
LAST-MODIFIED:20181030T141229Z
UID:10001645-1543930200-1543942800@ninecircles.ca
SUMMARY:Massage Appointments Available
DESCRIPTION:Robertson College will be sending massage therapy students to provide free massages to Nine Circles Primary Care and Manitoba HIV Program clients. To book an appointment\, call 204-940-6000.
URL:https://ninecircles.ca/event/massage-appointments-available-4-2018-11-21/2018-12-04/
LOCATION:Manitoba
CATEGORIES:Client Events
END:VEVENT
BEGIN:VEVENT
DTSTART;TZID=America/Winnipeg:20181129T120000
DTEND;TZID=America/Winnipeg:20181129T130000
DTSTAMP:20260424T074547
CREATED:20180720T212824Z
LAST-MODIFIED:20180720T214135Z
UID:10001661-1543492800-1543496400@ninecircles.ca
SUMMARY:Food Bank  A-K Members
DESCRIPTION:Food Bank is available for members only.  Please phone 204-940-6000 and ask to speak with Tania for assistance.
URL:https://ninecircles.ca/event/food-bank-l-z-members-2/2018-11-29/
LOCATION:Manitoba
CATEGORIES:People living with HIV only
END:VEVENT
BEGIN:VEVENT
DTSTART;TZID=America/Winnipeg:20181129T110000
DTEND;TZID=America/Winnipeg:20181129T120000
DTSTAMP:20260424T074547
CREATED:20180817T164256Z
LAST-MODIFIED:20181121T171101Z
UID:10001189-1543489200-1543492800@ninecircles.ca
SUMMARY:Viral Videos
DESCRIPTION:You are welcome to come and watch a short video with us in the Gathering Place while you wait for your food bank!
URL:https://ninecircles.ca/event/viral-videos-2/2018-11-29/
LOCATION:Manitoba
CATEGORIES:Client Events
END:VEVENT
BEGIN:VEVENT
DTSTART;TZID=America/Winnipeg:20181128T183000
DTEND;TZID=America/Winnipeg:20181128T193000
DTSTAMP:20260424T074547
CREATED:20180226T160659Z
LAST-MODIFIED:20200316T215030Z
UID:10001558-1543429800-1543433400@ninecircles.ca
SUMMARY:Coffee Talk - HIV and Employment Group
DESCRIPTION:Has HIV/AIDS affected your life? This drop-in conversation group is a safe space where you can talk about the changes\, challenges\, inspirations\, and supports in your life as you move forward.  \nThe fourth Wednesday of the month is a group for HIV positive individuals who are currently working or are in school\, part time or full time.  We will discuss issues around juggling the demands of working\, studying and achieving wellness at the same time.  Issues such as disclosure\, managing side effects of meds\, and health challenges will also be discussed. \nContact Sandra or Rosa for more information\, 204-940-6000
URL:https://ninecircles.ca/event/2431/2018-11-28/
LOCATION:Manitoba
CATEGORIES:People living with HIV only
END:VEVENT
BEGIN:VEVENT
DTSTART;TZID=America/Winnipeg:20181128T163000
DTEND;TZID=America/Winnipeg:20181128T173000
DTSTAMP:20260424T074547
CREATED:20180817T161716Z
LAST-MODIFIED:20180920T191509Z
UID:10001174-1543422600-1543426200@ninecircles.ca
SUMMARY:Mindful Movement
DESCRIPTION:Come find ways to help manage anxiety and stress in your life while moving gently.  Learn to relax and increase flexibility with gentle movements and breath control. \nCall Sandra at 204-940-6000 for more information.
URL:https://ninecircles.ca/event/mindful-movement/2018-11-28/
LOCATION:Manitoba
CATEGORIES:Client Events
END:VEVENT
BEGIN:VEVENT
DTSTART;TZID=America/Winnipeg:20181128T120000
DTEND;TZID=America/Winnipeg:20181128T130000
DTSTAMP:20260424T074547
CREATED:20180817T154526Z
LAST-MODIFIED:20190417T210642Z
UID:10001139-1543406400-1543410000@ninecircles.ca
SUMMARY:Indigenous Traditional Singing and Drumming
DESCRIPTION:Share a song\, learn a song\, or sing along.  In the Round Room at Nine Circles.   \nEveryone is welcome!  Snacks provided. \nCall Peetanacoot for more information\, 204-940-6000.
URL:https://ninecircles.ca/event/indigenous-traditional-singing-and-drumming-2/2018-11-28/
LOCATION:Manitoba
CATEGORIES:Client Events
END:VEVENT
BEGIN:VEVENT
DTSTART;TZID=America/Winnipeg:20181127T140000
DTEND;TZID=America/Winnipeg:20181127T153000
DTSTAMP:20260424T074547
CREATED:20181030T142818Z
LAST-MODIFIED:20181030T142818Z
UID:10001263-1543327200-1543332600@ninecircles.ca
SUMMARY:Standing Strong: Back to Basics
DESCRIPTION:What is HIV\, CD4 and viral load?\nWhat is undetectable?\nWhat do HIV medications do?\nWhat is U=U?\nWhat tips work for remembering to take my meds?\nHow can I manage side effects? \nThis is a new group for people living with HIV (and their support family or friends) who want to better understand the basics of HIV\, HIV medication\, and HIV prevention. \nTalk to Shauna or Sri to register\, 204-940-6000.  Snacks provided.  Bus tickets available if needed.
URL:https://ninecircles.ca/event/standing-strong-back-to-basics/
LOCATION:Nine Circles Community Centre\, 705 Broadway Winnipeg\, Winnipeg\, Manitoba\, R3G 0X2\, Canada
CATEGORIES:People living with HIV only
END:VEVENT
BEGIN:VEVENT
DTSTART;TZID=America/Winnipeg:20181122T120000
DTEND;TZID=America/Winnipeg:20181122T130000
DTSTAMP:20260424T074547
CREATED:20180720T212955Z
LAST-MODIFIED:20180720T214222Z
UID:10001667-1542888000-1542891600@ninecircles.ca
SUMMARY:Food Bank   L-Z Members
DESCRIPTION:Food Bank is available for members only.  Please phone 204-940-6000 and ask to speak with Tania for assistance.
URL:https://ninecircles.ca/event/food-bank-a-k-members/2018-11-22/
LOCATION:Manitoba
CATEGORIES:People living with HIV only
END:VEVENT
BEGIN:VEVENT
DTSTART;TZID=America/Winnipeg:20181122T110000
DTEND;TZID=America/Winnipeg:20181122T120000
DTSTAMP:20260424T074547
CREATED:20180817T164256Z
LAST-MODIFIED:20181121T171101Z
UID:10001188-1542884400-1542888000@ninecircles.ca
SUMMARY:Viral Videos
DESCRIPTION:You are welcome to come and watch a short video with us in the Gathering Place while you wait for your food bank!
URL:https://ninecircles.ca/event/viral-videos-2/2018-11-22/
LOCATION:Manitoba
CATEGORIES:Client Events
END:VEVENT
BEGIN:VEVENT
DTSTART;TZID=America/Winnipeg:20181121T183000
DTEND;TZID=America/Winnipeg:20181121T193000
DTSTAMP:20260424T074547
CREATED:20170406T203449Z
LAST-MODIFIED:20200316T211103Z
UID:10001468-1542825000-1542828600@ninecircles.ca
SUMMARY:Coffee Talk - All Welcome
DESCRIPTION:Has HIV/AIDS affected your life? This drop-in conversation group is a safe space where you can talk about the changes\, challenges\, inspirations\, and supports in your life as you move forward. The third Wednesday of the month is a group for everyone\, all welcome!\nContact Sandra or Rosa for more information\, 204-940-6000
URL:https://ninecircles.ca/event/coffee-talk-welcome/2018-11-21/
LOCATION:Manitoba
CATEGORIES:People living with HIV only
END:VEVENT
END:VCALENDAR