BEGIN:VCALENDAR
VERSION:2.0
PRODID:-//Nine Circles Community Health Centre - ECPv6.15.18//NONSGML v1.0//EN
CALSCALE:GREGORIAN
METHOD:PUBLISH
X-WR-CALNAME:Nine Circles Community Health Centre
X-ORIGINAL-URL:https://ninecircles.ca
X-WR-CALDESC:Events for Nine Circles Community Health Centre
REFRESH-INTERVAL;VALUE=DURATION:PT1H
X-Robots-Tag:noindex
X-PUBLISHED-TTL:PT1H
BEGIN:VTIMEZONE
TZID:America/Winnipeg
BEGIN:DAYLIGHT
TZOFFSETFROM:-0600
TZOFFSETTO:-0500
TZNAME:CDT
DTSTART:20210314T080000
END:DAYLIGHT
BEGIN:STANDARD
TZOFFSETFROM:-0500
TZOFFSETTO:-0600
TZNAME:CST
DTSTART:20211107T070000
END:STANDARD
BEGIN:DAYLIGHT
TZOFFSETFROM:-0600
TZOFFSETTO:-0500
TZNAME:CDT
DTSTART:20220313T080000
END:DAYLIGHT
BEGIN:STANDARD
TZOFFSETFROM:-0500
TZOFFSETTO:-0600
TZNAME:CST
DTSTART:20221106T070000
END:STANDARD
BEGIN:DAYLIGHT
TZOFFSETFROM:-0600
TZOFFSETTO:-0500
TZNAME:CDT
DTSTART:20230312T080000
END:DAYLIGHT
BEGIN:STANDARD
TZOFFSETFROM:-0500
TZOFFSETTO:-0600
TZNAME:CST
DTSTART:20231105T070000
END:STANDARD
END:VTIMEZONE
BEGIN:VEVENT
DTSTART;TZID=America/Winnipeg:20220527T083000
DTEND;TZID=America/Winnipeg:20220527T163000
DTSTAMP:20260423T172637
CREATED:20220518T153205Z
LAST-MODIFIED:20220518T204858Z
UID:10001890-1653640200-1653669000@ninecircles.ca
SUMMARY:CINetwork: Igniting HIV-STBBI Change through Community Innovation
DESCRIPTION:Igniting HIV-STBBI Change Through Community Innovation\nHear from community organizations and organizations working in the community who are conducting projects\, programs\, pilot projects that our tackling HIV-STBBI’s in innovative ways. Additionally\, the CINetwork will share its projects\, progress\, and future plans. Download our e-vite here! \n\nFeaturing Key Note Speakers: \nDr. Barry Lavallee \nManitoba Keewatinowi Okimakanak Inc. \nElder Dr. Albert McLeod \nCINetwork Stewardship Team \nTo view full information on panel presentations and speaker biographies\, please view our Spring Symposium and Engagement Event document.  \nWe hope to see you for a day of education\, connection\, and networking. To reserve your spot\, please register online with us through our event link.  See our complete event itinerary here. \nFor PEERS interested in attending\, please contact: \nJackie Flett: JFlett@NineCircles.Ca \n\n  \n\n  \n\n  \n 
URL:https://ninecircles.ca/event/cinetwork-igniting-hiv-stbbi-change-through-community-innovation/
LOCATION:Zoom
CATEGORIES:Announcements,Client Events,Community / Public Events
ORGANIZER;CN="Manitoba HIV-STBBI Collective Impact Network":MAILTO:communityengagement@ninecircles.ca
END:VEVENT
END:VCALENDAR