BEGIN:VCALENDAR
VERSION:2.0
PRODID:-//Nine Circles Community Health Centre - ECPv6.15.18//NONSGML v1.0//EN
CALSCALE:GREGORIAN
METHOD:PUBLISH
X-WR-CALNAME:Nine Circles Community Health Centre
X-ORIGINAL-URL:https://ninecircles.ca
X-WR-CALDESC:Events for Nine Circles Community Health Centre
REFRESH-INTERVAL;VALUE=DURATION:PT1H
X-Robots-Tag:noindex
X-PUBLISHED-TTL:PT1H
BEGIN:VTIMEZONE
TZID:America/Winnipeg
BEGIN:DAYLIGHT
TZOFFSETFROM:-0600
TZOFFSETTO:-0500
TZNAME:CDT
DTSTART:20230312T080000
END:DAYLIGHT
BEGIN:STANDARD
TZOFFSETFROM:-0500
TZOFFSETTO:-0600
TZNAME:CST
DTSTART:20231105T070000
END:STANDARD
BEGIN:DAYLIGHT
TZOFFSETFROM:-0600
TZOFFSETTO:-0500
TZNAME:CDT
DTSTART:20240310T080000
END:DAYLIGHT
BEGIN:STANDARD
TZOFFSETFROM:-0500
TZOFFSETTO:-0600
TZNAME:CST
DTSTART:20241103T070000
END:STANDARD
BEGIN:DAYLIGHT
TZOFFSETFROM:-0600
TZOFFSETTO:-0500
TZNAME:CDT
DTSTART:20250309T080000
END:DAYLIGHT
BEGIN:STANDARD
TZOFFSETFROM:-0500
TZOFFSETTO:-0600
TZNAME:CST
DTSTART:20251102T070000
END:STANDARD
END:VTIMEZONE
BEGIN:VEVENT
DTSTART;TZID=America/Winnipeg:20241127T130000
DTEND;TZID=America/Winnipeg:20241127T160000
DTSTAMP:20260420T104229
CREATED:20241030T191406Z
LAST-MODIFIED:20250121T202941Z
UID:10006642-1732712400-1732723200@ninecircles.ca
SUMMARY:Ribbon Skirt/Shirt Making (By Registration Only)
DESCRIPTION:Led by Cultural Support Worker Kayleen Kaduchuk\nEvery Wednesday from 1:00 p.m. – 4:00 p.m. in our Gathering Place \nSpots are limited\, register by: Drop-in\, call (204) 940-6000\, or e-mail kkaduchuk@ninecircles.ca
URL:https://ninecircles.ca/event/ribbon-skirt-shirt-making-by-registration-only/2024-11-27/
LOCATION:Nine Circles Community Centre\, 705 Broadway Winnipeg\, Winnipeg\, Manitoba\, R3G 0X2\, Canada
CATEGORIES:Community / Public Events,Registered Event
END:VEVENT
BEGIN:VEVENT
DTSTART;TZID=America/Winnipeg:20241127T150000
DTEND;TZID=America/Winnipeg:20241127T160000
DTSTAMP:20260420T104229
CREATED:20241104T205228Z
LAST-MODIFIED:20241104T205228Z
UID:10006701-1732719600-1732723200@ninecircles.ca
SUMMARY:Harm Reduction Peer Advisory (HRPA) Meeting
DESCRIPTION:Nine Circles Community Health Centre values and aims to involve people who use drugs in our programming.\nJoin the Nine Circles Harm Reduction Peer Advisory Group!\n\nGive ideas and viewpoints to Nine Circles about how we can we can improve our services.\nAttend meetings\, assist with client surveys and co facilitate workshops and education sessions.\n\nBy registration only\, for information contact: Health Educators at 204-940-6056 / 204-950-6090
URL:https://ninecircles.ca/event/harm-reduction-peer-advisory-hrpa-meeting/
LOCATION:Nine Circles Community Centre\, 705 Broadway Winnipeg\, Winnipeg\, Manitoba\, R3G 0X2\, Canada
CATEGORIES:Registered Event
ATTACH;FMTTYPE=image/png:https://ninecircles.ca/wp-content/uploads/2022/06/pitstop-2022.png
END:VEVENT
BEGIN:VEVENT
DTSTART;TZID=America/Winnipeg:20241128T130000
DTEND;TZID=America/Winnipeg:20241128T153000
DTSTAMP:20260420T104229
CREATED:20240924T140605Z
LAST-MODIFIED:20260330T135707Z
UID:10006374-1732798800-1732807800@ninecircles.ca
SUMMARY:Beading Group
DESCRIPTION:Led by Cultural Support Worker Kayleen Kaduchuk\, for all levels and materials provided! \nEvery Thursday from 1:00 p.m. – 4:00 p.m. in our Gathering Place \nTo attend: Drop-in\, call (204) 940-6000\, or e-mail kkaduchuk@ninecircles.ca
URL:https://ninecircles.ca/event/beading-group/2024-11-28/
LOCATION:Nine Circles Community Centre\, 705 Broadway Winnipeg\, Winnipeg\, Manitoba\, R3G 0X2\, Canada
CATEGORIES:Client Events
ATTACH;FMTTYPE=image/png:https://ninecircles.ca/wp-content/uploads/2024/09/1.png
END:VEVENT
BEGIN:VEVENT
DTSTART;TZID=America/Winnipeg:20241129T130000
DTEND;TZID=America/Winnipeg:20241129T160000
DTSTAMP:20260420T104229
CREATED:20241030T191234Z
LAST-MODIFIED:20241030T191234Z
UID:10006113-1732885200-1732896000@ninecircles.ca
SUMMARY:Sharing Circle Drop-In
DESCRIPTION:Led by Cultural Support Worker Kayleen Kaduchuk\nEvery Friday from 1:00 p.m. – 4:00 p.m. in our Round Room \nFor questions: Drop-in\, call (204) 940-6000\, or e-mail kkaduchuk@ninecircles.ca
URL:https://ninecircles.ca/event/drumming-circle-4-2/2024-11-29/
LOCATION:Nine Circles Community Centre\, 705 Broadway Winnipeg\, Winnipeg\, Manitoba\, R3G 0X2\, Canada
CATEGORIES:Community / Public Events
ATTACH;FMTTYPE=image/png:https://ninecircles.ca/wp-content/uploads/2024/09/2.png
END:VEVENT
END:VCALENDAR