BEGIN:VCALENDAR
VERSION:2.0
PRODID:-//Nine Circles Community Health Centre - ECPv6.15.18//NONSGML v1.0//EN
CALSCALE:GREGORIAN
METHOD:PUBLISH
X-ORIGINAL-URL:https://ninecircles.ca
X-WR-CALDESC:Events for Nine Circles Community Health Centre
REFRESH-INTERVAL;VALUE=DURATION:PT1H
X-Robots-Tag:noindex
X-PUBLISHED-TTL:PT1H
BEGIN:VTIMEZONE
TZID:America/Winnipeg
BEGIN:DAYLIGHT
TZOFFSETFROM:-0600
TZOFFSETTO:-0500
TZNAME:CDT
DTSTART:20230312T080000
END:DAYLIGHT
BEGIN:STANDARD
TZOFFSETFROM:-0500
TZOFFSETTO:-0600
TZNAME:CST
DTSTART:20231105T070000
END:STANDARD
BEGIN:DAYLIGHT
TZOFFSETFROM:-0600
TZOFFSETTO:-0500
TZNAME:CDT
DTSTART:20240310T080000
END:DAYLIGHT
BEGIN:STANDARD
TZOFFSETFROM:-0500
TZOFFSETTO:-0600
TZNAME:CST
DTSTART:20241103T070000
END:STANDARD
BEGIN:DAYLIGHT
TZOFFSETFROM:-0600
TZOFFSETTO:-0500
TZNAME:CDT
DTSTART:20250309T080000
END:DAYLIGHT
BEGIN:STANDARD
TZOFFSETFROM:-0500
TZOFFSETTO:-0600
TZNAME:CST
DTSTART:20251102T070000
END:STANDARD
BEGIN:DAYLIGHT
TZOFFSETFROM:-0600
TZOFFSETTO:-0500
TZNAME:CDT
DTSTART:20260308T080000
END:DAYLIGHT
BEGIN:STANDARD
TZOFFSETFROM:-0500
TZOFFSETTO:-0600
TZNAME:CST
DTSTART:20261101T070000
END:STANDARD
END:VTIMEZONE
BEGIN:VEVENT
DTSTART;TZID=America/Winnipeg:20241230T090000
DTEND;TZID=America/Winnipeg:20241230T110000
DTSTAMP:20260419T163800
CREATED:20241204T191542Z
LAST-MODIFIED:20250121T202910Z
UID:10006962-1735549200-1735556400@ninecircles.ca
SUMMARY:Mending Mondays
DESCRIPTION:Join us for Mending Mondays\, a community event where you can give your favorite clothes a new lease on life! Bring in your ripped jeans\, torn shirts\, or sweaters with snags\, and we’ll help you patch\, sew\, and mend them back to wearable condition. With hands-on guidance\, tools\, and materials provided\, you’ll learn simple techniques to keep your wardrobe looking great while reducing waste. Let’s repair\, not replace!
URL:https://ninecircles.ca/event/mending-mondays/2024-12-30/
LOCATION:Nine Circles Community Centre\, 705 Broadway Winnipeg\, Winnipeg\, Manitoba\, R3G 0X2\, Canada
CATEGORIES:Announcements,Client Events
END:VEVENT
BEGIN:VEVENT
DTSTART;TZID=America/Winnipeg:20250102T130000
DTEND;TZID=America/Winnipeg:20250102T153000
DTSTAMP:20260419T163800
CREATED:20240924T140605Z
LAST-MODIFIED:20260330T135707Z
UID:10006379-1735822800-1735831800@ninecircles.ca
SUMMARY:Beading Group
DESCRIPTION:Led by Cultural Support Worker Kayleen Kaduchuk\, for all levels and materials provided! \nEvery Thursday from 1:00 p.m. – 4:00 p.m. in our Gathering Place \nTo attend: Drop-in\, call (204) 940-6000\, or e-mail kkaduchuk@ninecircles.ca
URL:https://ninecircles.ca/event/beading-group/2025-01-02/
LOCATION:Nine Circles Community Centre\, 705 Broadway Winnipeg\, Winnipeg\, Manitoba\, R3G 0X2\, Canada
CATEGORIES:Client Events
ATTACH;FMTTYPE=image/png:https://ninecircles.ca/wp-content/uploads/2024/09/1.png
END:VEVENT
BEGIN:VEVENT
DTSTART;TZID=America/Winnipeg:20250103T130000
DTEND;TZID=America/Winnipeg:20250103T150000
DTSTAMP:20260419T163800
CREATED:20241204T192102Z
LAST-MODIFIED:20241204T192521Z
UID:10007029-1735909200-1735916400@ninecircles.ca
SUMMARY:Drumming Circle
DESCRIPTION:Led by Cultural Support Worker Kayleen Kaduchuk\nJoin us for drumming circle\, borrow a drum or bring your own!
URL:https://ninecircles.ca/event/drumming-circle-5/2025-01-03/
LOCATION:Nine Circles Community Centre\, 705 Broadway Winnipeg\, Winnipeg\, Manitoba\, R3G 0X2\, Canada
CATEGORIES:Announcements,Client Events
END:VEVENT
END:VCALENDAR