BEGIN:VCALENDAR
VERSION:2.0
PRODID:-//Nine Circles Community Health Centre - ECPv6.15.18//NONSGML v1.0//EN
CALSCALE:GREGORIAN
METHOD:PUBLISH
X-WR-CALNAME:Nine Circles Community Health Centre
X-ORIGINAL-URL:https://ninecircles.ca
X-WR-CALDESC:Events for Nine Circles Community Health Centre
REFRESH-INTERVAL;VALUE=DURATION:PT1H
X-Robots-Tag:noindex
X-PUBLISHED-TTL:PT1H
BEGIN:VTIMEZONE
TZID:America/Winnipeg
BEGIN:DAYLIGHT
TZOFFSETFROM:-0600
TZOFFSETTO:-0500
TZNAME:CDT
DTSTART:20240310T080000
END:DAYLIGHT
BEGIN:STANDARD
TZOFFSETFROM:-0500
TZOFFSETTO:-0600
TZNAME:CST
DTSTART:20241103T070000
END:STANDARD
BEGIN:DAYLIGHT
TZOFFSETFROM:-0600
TZOFFSETTO:-0500
TZNAME:CDT
DTSTART:20250309T080000
END:DAYLIGHT
BEGIN:STANDARD
TZOFFSETFROM:-0500
TZOFFSETTO:-0600
TZNAME:CST
DTSTART:20251102T070000
END:STANDARD
BEGIN:DAYLIGHT
TZOFFSETFROM:-0600
TZOFFSETTO:-0500
TZNAME:CDT
DTSTART:20260308T080000
END:DAYLIGHT
BEGIN:STANDARD
TZOFFSETFROM:-0500
TZOFFSETTO:-0600
TZNAME:CST
DTSTART:20261101T070000
END:STANDARD
END:VTIMEZONE
BEGIN:VEVENT
DTSTART;TZID=America/Winnipeg:20251124T090000
DTEND;TZID=America/Winnipeg:20251124T110000
DTSTAMP:20260421T075100
CREATED:20250411T204341Z
LAST-MODIFIED:20260327T133123Z
UID:10007009-1763974800-1763982000@ninecircles.ca
SUMMARY:Mending Mondays
DESCRIPTION:Join us for Mending Mondays\, a community event where you can give your favorite clothes a new lease on life! Bring in your ripped jeans\, torn shirts\, or sweaters with snags\, and we’ll help you patch\, sew\, and mend them back to wearable condition. With hands-on guidance\, tools\, and materials provided\, you’ll learn simple techniques to keep your wardrobe looking great while reducing waste. Let’s repair\, not replace!
URL:https://ninecircles.ca/event/mending-mondays-2/2025-11-24/
LOCATION:Nine Circles Community Centre\, 705 Broadway Winnipeg\, Winnipeg\, Manitoba\, R3G 0X2\, Canada
CATEGORIES:Announcements,Client Events
END:VEVENT
BEGIN:VEVENT
DTSTART;TZID=America/Winnipeg:20251125T080000
DTEND;TZID=America/Winnipeg:20251125T170000
DTSTAMP:20260421T075100
CREATED:20251125T164136Z
LAST-MODIFIED:20251125T164209Z
UID:10007640-1764057600-1764090000@ninecircles.ca
SUMMARY:Closed All Day - Holiday Hours
DESCRIPTION:Nine Circles Holiday Hours\nWe will be closed the following days (all day) \n\nThursday\, December 25th\, 2025\nFriday\, December 26th\, 2025\nThursday\, January 1st\, 2026\n\nThis includes our drop-in services\, e-mail\, and phone lines. Beyond the posted dates\, our regular hours will resume as normal. Any additional updates to our hours will be posted to our events calendar and on our social media! \nHappy Holidays and a Safe New Year!
URL:https://ninecircles.ca/event/closed-all-day-holiday-hours/2025-11-25/
LOCATION:Nine Circles Community Centre\, 705 Broadway Winnipeg\, Winnipeg\, Manitoba\, R3G 0X2\, Canada
CATEGORIES:Closure Announcement
END:VEVENT
BEGIN:VEVENT
DTSTART;TZID=America/Winnipeg:20251126T130000
DTEND;TZID=America/Winnipeg:20251126T153000
DTSTAMP:20260421T075100
CREATED:20251107T154115Z
LAST-MODIFIED:20251107T154115Z
UID:10007367-1764162000-1764171000@ninecircles.ca
SUMMARY:Sewing Class
DESCRIPTION:Learn to sew Wednesdays from 1:00 p.m. to 3:00 p.m. Bring in a project or learn the basics of sewing\, quilting\, sewing machines\, and appliques. All materials and instruction provided. All ages. Open to community members that access the Pit Stop or Nine Circles clinic clients.
URL:https://ninecircles.ca/event/sewing-class/2025-11-26/
LOCATION:Nine Circles Community Centre\, 705 Broadway Winnipeg\, Winnipeg\, Manitoba\, R3G 0X2\, Canada
CATEGORIES:Client Events
END:VEVENT
BEGIN:VEVENT
DTSTART;TZID=America/Winnipeg:20251127T130000
DTEND;TZID=America/Winnipeg:20251127T153000
DTSTAMP:20260421T075100
CREATED:20240924T140605Z
LAST-MODIFIED:20260330T135707Z
UID:10006426-1764248400-1764257400@ninecircles.ca
SUMMARY:Beading Group
DESCRIPTION:Led by Cultural Support Worker Kayleen Kaduchuk\, for all levels and materials provided! \nEvery Thursday from 1:00 p.m. – 4:00 p.m. in our Gathering Place \nTo attend: Drop-in\, call (204) 940-6000\, or e-mail kkaduchuk@ninecircles.ca
URL:https://ninecircles.ca/event/beading-group/2025-11-27/
LOCATION:Nine Circles Community Centre\, 705 Broadway Winnipeg\, Winnipeg\, Manitoba\, R3G 0X2\, Canada
CATEGORIES:Client Events
ATTACH;FMTTYPE=image/png:https://ninecircles.ca/wp-content/uploads/2024/09/1.png
END:VEVENT
BEGIN:VEVENT
DTSTART;TZID=America/Winnipeg:20251128T190000
DTEND;TZID=America/Winnipeg:20251128T223000
DTSTAMP:20260421T075100
CREATED:20251027T165912Z
LAST-MODIFIED:20251027T165912Z
UID:10007363-1764356400-1764369000@ninecircles.ca
SUMMARY:World AIDS Day Cabaret
DESCRIPTION:Join us for a night of laughter\, joy\, and supporting those living with HIV at “World AIDS Day Cabaret” brought to you by CUPE Manitoba in Support of Nine Circles Community Health Centre!\n  \nVisit Eventbrite for more information and to buy tickets now!
URL:https://ninecircles.ca/event/world-aids-day-cabaret/
LOCATION:Winnipeg Art Gallery-Qaumajuq\, 300 Memorial Boulevard\, Winnipeg\, Manitoba\, Canada
CATEGORIES:Announcements,Community / Public Events
ATTACH;FMTTYPE=image/png:https://ninecircles.ca/wp-content/uploads/2025/10/ninecircles_Esignature2.png
ORGANIZER;CN="Nine Circles Community Health":MAILTO:ninecircles@ninecircles.ca
END:VEVENT
END:VCALENDAR