BEGIN:VCALENDAR
VERSION:2.0
PRODID:-//Nine Circles Community Health Centre - ECPv6.15.18//NONSGML v1.0//EN
CALSCALE:GREGORIAN
METHOD:PUBLISH
X-ORIGINAL-URL:https://ninecircles.ca
X-WR-CALDESC:Events for Nine Circles Community Health Centre
REFRESH-INTERVAL;VALUE=DURATION:PT1H
X-Robots-Tag:noindex
X-PUBLISHED-TTL:PT1H
BEGIN:VTIMEZONE
TZID:America/Winnipeg
BEGIN:DAYLIGHT
TZOFFSETFROM:-0600
TZOFFSETTO:-0500
TZNAME:CDT
DTSTART:20160313T080000
END:DAYLIGHT
BEGIN:STANDARD
TZOFFSETFROM:-0500
TZOFFSETTO:-0600
TZNAME:CST
DTSTART:20161106T070000
END:STANDARD
BEGIN:DAYLIGHT
TZOFFSETFROM:-0600
TZOFFSETTO:-0500
TZNAME:CDT
DTSTART:20170312T080000
END:DAYLIGHT
BEGIN:STANDARD
TZOFFSETFROM:-0500
TZOFFSETTO:-0600
TZNAME:CST
DTSTART:20171105T070000
END:STANDARD
BEGIN:DAYLIGHT
TZOFFSETFROM:-0600
TZOFFSETTO:-0500
TZNAME:CDT
DTSTART:20180311T080000
END:DAYLIGHT
BEGIN:STANDARD
TZOFFSETFROM:-0500
TZOFFSETTO:-0600
TZNAME:CST
DTSTART:20181104T070000
END:STANDARD
BEGIN:DAYLIGHT
TZOFFSETFROM:-0600
TZOFFSETTO:-0500
TZNAME:CDT
DTSTART:20190310T080000
END:DAYLIGHT
BEGIN:STANDARD
TZOFFSETFROM:-0500
TZOFFSETTO:-0600
TZNAME:CST
DTSTART:20191103T070000
END:STANDARD
BEGIN:DAYLIGHT
TZOFFSETFROM:-0600
TZOFFSETTO:-0500
TZNAME:CDT
DTSTART:20200308T080000
END:DAYLIGHT
BEGIN:STANDARD
TZOFFSETFROM:-0500
TZOFFSETTO:-0600
TZNAME:CST
DTSTART:20201101T070000
END:STANDARD
BEGIN:DAYLIGHT
TZOFFSETFROM:-0600
TZOFFSETTO:-0500
TZNAME:CDT
DTSTART:20210314T080000
END:DAYLIGHT
BEGIN:STANDARD
TZOFFSETFROM:-0500
TZOFFSETTO:-0600
TZNAME:CST
DTSTART:20211107T070000
END:STANDARD
BEGIN:DAYLIGHT
TZOFFSETFROM:-0600
TZOFFSETTO:-0500
TZNAME:CDT
DTSTART:20220313T080000
END:DAYLIGHT
BEGIN:STANDARD
TZOFFSETFROM:-0500
TZOFFSETTO:-0600
TZNAME:CST
DTSTART:20221106T070000
END:STANDARD
BEGIN:DAYLIGHT
TZOFFSETFROM:-0600
TZOFFSETTO:-0500
TZNAME:CDT
DTSTART:20230312T080000
END:DAYLIGHT
BEGIN:STANDARD
TZOFFSETFROM:-0500
TZOFFSETTO:-0600
TZNAME:CST
DTSTART:20231105T070000
END:STANDARD
END:VTIMEZONE
BEGIN:VEVENT
DTSTART;TZID=America/Winnipeg:20220929T090000
DTEND;TZID=America/Winnipeg:20220929T170000
DTSTAMP:20260424T153341
CREATED:20200703T181111Z
LAST-MODIFIED:20211110T183321Z
UID:10001869-1664442000-1664470800@ninecircles.ca
SUMMARY:Food Bank: A-K Members
DESCRIPTION:Food Bank is for members only. \n*The food bank process has changed due to COVID-19* \n\nFood Bank is now accessed every 4 weeks (subject to change)\nWe are scheduling pick-up times for members on food bank Thursdays. To make your pick-up appointment phone 204-226-0282 Mon-Tues-Wed of your food bank week.\nWinnipeg Harvest is sending larger amounts of food\, so please bring bags or grocery trolleys to take the food home with you.\nPeople picking up food will go through COVID-19 screening at the back door\, and enter the food bank room one at a time. Helpers will be asked to wait outside.\nIf you miss your Food Bank day\, you can contact Winnipeg Harvest to access a different food bank\, or phone us at Nine Circles to see if we can make an emergency plan.
URL:https://ninecircles.ca/event/food-bank-a-k-members-7-2020-12-10/2022-09-29/
LOCATION:Nine Circles Community Centre\, 705 Broadway Winnipeg\, Winnipeg\, Manitoba\, R3G 0X2\, Canada
CATEGORIES:People living with HIV only
ORGANIZER;CN="Nine Circles Community Health":MAILTO:ninecircles@ninecircles.ca
END:VEVENT
BEGIN:VEVENT
DTSTART;TZID=America/Winnipeg:20220901T090000
DTEND;TZID=America/Winnipeg:20220901T170000
DTSTAMP:20260424T153341
CREATED:20200703T181111Z
LAST-MODIFIED:20211110T183321Z
UID:10001868-1662022800-1662051600@ninecircles.ca
SUMMARY:Food Bank: A-K Members
DESCRIPTION:Food Bank is for members only. \n*The food bank process has changed due to COVID-19* \n\nFood Bank is now accessed every 4 weeks (subject to change)\nWe are scheduling pick-up times for members on food bank Thursdays. To make your pick-up appointment phone 204-226-0282 Mon-Tues-Wed of your food bank week.\nWinnipeg Harvest is sending larger amounts of food\, so please bring bags or grocery trolleys to take the food home with you.\nPeople picking up food will go through COVID-19 screening at the back door\, and enter the food bank room one at a time. Helpers will be asked to wait outside.\nIf you miss your Food Bank day\, you can contact Winnipeg Harvest to access a different food bank\, or phone us at Nine Circles to see if we can make an emergency plan.
URL:https://ninecircles.ca/event/food-bank-a-k-members-7-2020-12-10/2022-09-01/
LOCATION:Nine Circles Community Centre\, 705 Broadway Winnipeg\, Winnipeg\, Manitoba\, R3G 0X2\, Canada
CATEGORIES:People living with HIV only
ORGANIZER;CN="Nine Circles Community Health":MAILTO:ninecircles@ninecircles.ca
END:VEVENT
BEGIN:VEVENT
DTSTART;TZID=America/Winnipeg:20220804T090000
DTEND;TZID=America/Winnipeg:20220804T170000
DTSTAMP:20260424T153341
CREATED:20200703T181111Z
LAST-MODIFIED:20211110T183321Z
UID:10001867-1659603600-1659632400@ninecircles.ca
SUMMARY:Food Bank: A-K Members
DESCRIPTION:Food Bank is for members only. \n*The food bank process has changed due to COVID-19* \n\nFood Bank is now accessed every 4 weeks (subject to change)\nWe are scheduling pick-up times for members on food bank Thursdays. To make your pick-up appointment phone 204-226-0282 Mon-Tues-Wed of your food bank week.\nWinnipeg Harvest is sending larger amounts of food\, so please bring bags or grocery trolleys to take the food home with you.\nPeople picking up food will go through COVID-19 screening at the back door\, and enter the food bank room one at a time. Helpers will be asked to wait outside.\nIf you miss your Food Bank day\, you can contact Winnipeg Harvest to access a different food bank\, or phone us at Nine Circles to see if we can make an emergency plan.
URL:https://ninecircles.ca/event/food-bank-a-k-members-7-2020-12-10/2022-08-04/
LOCATION:Nine Circles Community Centre\, 705 Broadway Winnipeg\, Winnipeg\, Manitoba\, R3G 0X2\, Canada
CATEGORIES:People living with HIV only
ORGANIZER;CN="Nine Circles Community Health":MAILTO:ninecircles@ninecircles.ca
END:VEVENT
BEGIN:VEVENT
DTSTART;TZID=America/Winnipeg:20220707T090000
DTEND;TZID=America/Winnipeg:20220707T170000
DTSTAMP:20260424T153341
CREATED:20200703T181111Z
LAST-MODIFIED:20211110T183321Z
UID:10001866-1657184400-1657213200@ninecircles.ca
SUMMARY:Food Bank: A-K Members
DESCRIPTION:Food Bank is for members only. \n*The food bank process has changed due to COVID-19* \n\nFood Bank is now accessed every 4 weeks (subject to change)\nWe are scheduling pick-up times for members on food bank Thursdays. To make your pick-up appointment phone 204-226-0282 Mon-Tues-Wed of your food bank week.\nWinnipeg Harvest is sending larger amounts of food\, so please bring bags or grocery trolleys to take the food home with you.\nPeople picking up food will go through COVID-19 screening at the back door\, and enter the food bank room one at a time. Helpers will be asked to wait outside.\nIf you miss your Food Bank day\, you can contact Winnipeg Harvest to access a different food bank\, or phone us at Nine Circles to see if we can make an emergency plan.
URL:https://ninecircles.ca/event/food-bank-a-k-members-7-2020-12-10/2022-07-07/
LOCATION:Nine Circles Community Centre\, 705 Broadway Winnipeg\, Winnipeg\, Manitoba\, R3G 0X2\, Canada
CATEGORIES:People living with HIV only
ORGANIZER;CN="Nine Circles Community Health":MAILTO:ninecircles@ninecircles.ca
END:VEVENT
BEGIN:VEVENT
DTSTART;TZID=America/Winnipeg:20220620T173000
DTEND;TZID=America/Winnipeg:20220620T193000
DTSTAMP:20260424T153341
CREATED:20220531T171146Z
LAST-MODIFIED:20220531T171146Z
UID:10001891-1655746200-1655753400@ninecircles.ca
SUMMARY:Nine Circles Annual General Meeting
DESCRIPTION:As COVID-19 challenges us to do things differently\, we invite you to join us for Nine Circles Community Health Centre’s Hybrid (in-person or online) Annual General Meeting. You can hear about our recent successes\, vote for board members and get a sneak peek at our upcoming projects all from the comfort of your own home or join us at 705 Broadway! \nDATE:                  Monday June 20\, 2022 \nTIME:                   5:30 pm – 7:30 pm  \nLOCATION:         Online via Zoom OR in-person at 705 Broadway’s MPR room (food and refreshments provided) \n                             Online Registration: https://ninecirclesagm2022.eventbrite.ca \nTo have the registration link or in-person invitation sent directly to your email\, please send a message to: Chance at communityengagement@ninecircles.ca \nWe are offering both an in-person and online option for our members this year. This event is free to all participants. \nFor online Zoom participants: You will receive a confirmation email containing information about joining the meeting\, for more information contact Chance at CommunityEngagement@ninecircles.ca. \nIf you don’t have access to a computer/tablet/smartphone and want to participate\, please contact Jess at jtait@ninecircles.ca or 204-940-6000.
URL:https://ninecircles.ca/event/nine-circles-annual-general-meeting/
LOCATION:Nine Circles Community Centre\, 705 Broadway Winnipeg\, Winnipeg\, Manitoba\, R3G 0X2\, Canada
ORGANIZER;CN="Nine Circles Community Health":MAILTO:ninecircles@ninecircles.ca
END:VEVENT
BEGIN:VEVENT
DTSTART;TZID=America/Winnipeg:20220609T090000
DTEND;TZID=America/Winnipeg:20220609T170000
DTSTAMP:20260424T153341
CREATED:20200703T181111Z
LAST-MODIFIED:20211110T183321Z
UID:10001865-1654765200-1654794000@ninecircles.ca
SUMMARY:Food Bank: A-K Members
DESCRIPTION:Food Bank is for members only. \n*The food bank process has changed due to COVID-19* \n\nFood Bank is now accessed every 4 weeks (subject to change)\nWe are scheduling pick-up times for members on food bank Thursdays. To make your pick-up appointment phone 204-226-0282 Mon-Tues-Wed of your food bank week.\nWinnipeg Harvest is sending larger amounts of food\, so please bring bags or grocery trolleys to take the food home with you.\nPeople picking up food will go through COVID-19 screening at the back door\, and enter the food bank room one at a time. Helpers will be asked to wait outside.\nIf you miss your Food Bank day\, you can contact Winnipeg Harvest to access a different food bank\, or phone us at Nine Circles to see if we can make an emergency plan.
URL:https://ninecircles.ca/event/food-bank-a-k-members-7-2020-12-10/2022-06-09/
LOCATION:Nine Circles Community Centre\, 705 Broadway Winnipeg\, Winnipeg\, Manitoba\, R3G 0X2\, Canada
CATEGORIES:People living with HIV only
ORGANIZER;CN="Nine Circles Community Health":MAILTO:ninecircles@ninecircles.ca
END:VEVENT
BEGIN:VEVENT
DTSTART;TZID=America/Winnipeg:20220512T090000
DTEND;TZID=America/Winnipeg:20220512T170000
DTSTAMP:20260424T153341
CREATED:20200703T181111Z
LAST-MODIFIED:20211110T183321Z
UID:10001864-1652346000-1652374800@ninecircles.ca
SUMMARY:Food Bank: A-K Members
DESCRIPTION:Food Bank is for members only. \n*The food bank process has changed due to COVID-19* \n\nFood Bank is now accessed every 4 weeks (subject to change)\nWe are scheduling pick-up times for members on food bank Thursdays. To make your pick-up appointment phone 204-226-0282 Mon-Tues-Wed of your food bank week.\nWinnipeg Harvest is sending larger amounts of food\, so please bring bags or grocery trolleys to take the food home with you.\nPeople picking up food will go through COVID-19 screening at the back door\, and enter the food bank room one at a time. Helpers will be asked to wait outside.\nIf you miss your Food Bank day\, you can contact Winnipeg Harvest to access a different food bank\, or phone us at Nine Circles to see if we can make an emergency plan.
URL:https://ninecircles.ca/event/food-bank-a-k-members-7-2020-12-10/2022-05-12/
LOCATION:Nine Circles Community Centre\, 705 Broadway Winnipeg\, Winnipeg\, Manitoba\, R3G 0X2\, Canada
CATEGORIES:People living with HIV only
ORGANIZER;CN="Nine Circles Community Health":MAILTO:ninecircles@ninecircles.ca
END:VEVENT
BEGIN:VEVENT
DTSTART;TZID=America/Winnipeg:20220414T090000
DTEND;TZID=America/Winnipeg:20220414T170000
DTSTAMP:20260424T153341
CREATED:20200703T181111Z
LAST-MODIFIED:20211110T183321Z
UID:10001863-1649926800-1649955600@ninecircles.ca
SUMMARY:Food Bank: A-K Members
DESCRIPTION:Food Bank is for members only. \n*The food bank process has changed due to COVID-19* \n\nFood Bank is now accessed every 4 weeks (subject to change)\nWe are scheduling pick-up times for members on food bank Thursdays. To make your pick-up appointment phone 204-226-0282 Mon-Tues-Wed of your food bank week.\nWinnipeg Harvest is sending larger amounts of food\, so please bring bags or grocery trolleys to take the food home with you.\nPeople picking up food will go through COVID-19 screening at the back door\, and enter the food bank room one at a time. Helpers will be asked to wait outside.\nIf you miss your Food Bank day\, you can contact Winnipeg Harvest to access a different food bank\, or phone us at Nine Circles to see if we can make an emergency plan.
URL:https://ninecircles.ca/event/food-bank-a-k-members-7-2020-12-10/2022-04-14/
LOCATION:Nine Circles Community Centre\, 705 Broadway Winnipeg\, Winnipeg\, Manitoba\, R3G 0X2\, Canada
CATEGORIES:People living with HIV only
ORGANIZER;CN="Nine Circles Community Health":MAILTO:ninecircles@ninecircles.ca
END:VEVENT
BEGIN:VEVENT
DTSTART;TZID=America/Winnipeg:20220317T090000
DTEND;TZID=America/Winnipeg:20220317T170000
DTSTAMP:20260424T153341
CREATED:20200703T181111Z
LAST-MODIFIED:20211110T183321Z
UID:10001862-1647507600-1647536400@ninecircles.ca
SUMMARY:Food Bank: A-K Members
DESCRIPTION:Food Bank is for members only. \n*The food bank process has changed due to COVID-19* \n\nFood Bank is now accessed every 4 weeks (subject to change)\nWe are scheduling pick-up times for members on food bank Thursdays. To make your pick-up appointment phone 204-226-0282 Mon-Tues-Wed of your food bank week.\nWinnipeg Harvest is sending larger amounts of food\, so please bring bags or grocery trolleys to take the food home with you.\nPeople picking up food will go through COVID-19 screening at the back door\, and enter the food bank room one at a time. Helpers will be asked to wait outside.\nIf you miss your Food Bank day\, you can contact Winnipeg Harvest to access a different food bank\, or phone us at Nine Circles to see if we can make an emergency plan.
URL:https://ninecircles.ca/event/food-bank-a-k-members-7-2020-12-10/2022-03-17/
LOCATION:Nine Circles Community Centre\, 705 Broadway Winnipeg\, Winnipeg\, Manitoba\, R3G 0X2\, Canada
CATEGORIES:People living with HIV only
ORGANIZER;CN="Nine Circles Community Health":MAILTO:ninecircles@ninecircles.ca
END:VEVENT
BEGIN:VEVENT
DTSTART;TZID=America/Winnipeg:20220217T090000
DTEND;TZID=America/Winnipeg:20220217T170000
DTSTAMP:20260424T153341
CREATED:20200703T181111Z
LAST-MODIFIED:20211110T183321Z
UID:10001861-1645088400-1645117200@ninecircles.ca
SUMMARY:Food Bank: A-K Members
DESCRIPTION:Food Bank is for members only. \n*The food bank process has changed due to COVID-19* \n\nFood Bank is now accessed every 4 weeks (subject to change)\nWe are scheduling pick-up times for members on food bank Thursdays. To make your pick-up appointment phone 204-226-0282 Mon-Tues-Wed of your food bank week.\nWinnipeg Harvest is sending larger amounts of food\, so please bring bags or grocery trolleys to take the food home with you.\nPeople picking up food will go through COVID-19 screening at the back door\, and enter the food bank room one at a time. Helpers will be asked to wait outside.\nIf you miss your Food Bank day\, you can contact Winnipeg Harvest to access a different food bank\, or phone us at Nine Circles to see if we can make an emergency plan.
URL:https://ninecircles.ca/event/food-bank-a-k-members-7-2020-12-10/2022-02-17/
LOCATION:Nine Circles Community Centre\, 705 Broadway Winnipeg\, Winnipeg\, Manitoba\, R3G 0X2\, Canada
CATEGORIES:People living with HIV only
ORGANIZER;CN="Nine Circles Community Health":MAILTO:ninecircles@ninecircles.ca
END:VEVENT
BEGIN:VEVENT
DTSTART;TZID=America/Winnipeg:20220120T090000
DTEND;TZID=America/Winnipeg:20220120T170000
DTSTAMP:20260424T153341
CREATED:20200703T181111Z
LAST-MODIFIED:20211110T183321Z
UID:10001860-1642669200-1642698000@ninecircles.ca
SUMMARY:Food Bank: A-K Members
DESCRIPTION:Food Bank is for members only. \n*The food bank process has changed due to COVID-19* \n\nFood Bank is now accessed every 4 weeks (subject to change)\nWe are scheduling pick-up times for members on food bank Thursdays. To make your pick-up appointment phone 204-226-0282 Mon-Tues-Wed of your food bank week.\nWinnipeg Harvest is sending larger amounts of food\, so please bring bags or grocery trolleys to take the food home with you.\nPeople picking up food will go through COVID-19 screening at the back door\, and enter the food bank room one at a time. Helpers will be asked to wait outside.\nIf you miss your Food Bank day\, you can contact Winnipeg Harvest to access a different food bank\, or phone us at Nine Circles to see if we can make an emergency plan.
URL:https://ninecircles.ca/event/food-bank-a-k-members-7-2020-12-10/2022-01-20/
LOCATION:Nine Circles Community Centre\, 705 Broadway Winnipeg\, Winnipeg\, Manitoba\, R3G 0X2\, Canada
CATEGORIES:People living with HIV only
ORGANIZER;CN="Nine Circles Community Health":MAILTO:ninecircles@ninecircles.ca
END:VEVENT
BEGIN:VEVENT
DTSTART;TZID=America/Winnipeg:20211223T090000
DTEND;TZID=America/Winnipeg:20211223T170000
DTSTAMP:20260424T153341
CREATED:20200703T181111Z
LAST-MODIFIED:20211110T183321Z
UID:10001859-1640250000-1640278800@ninecircles.ca
SUMMARY:Food Bank: A-K Members
DESCRIPTION:Food Bank is for members only. \n*The food bank process has changed due to COVID-19* \n\nFood Bank is now accessed every 4 weeks (subject to change)\nWe are scheduling pick-up times for members on food bank Thursdays. To make your pick-up appointment phone 204-226-0282 Mon-Tues-Wed of your food bank week.\nWinnipeg Harvest is sending larger amounts of food\, so please bring bags or grocery trolleys to take the food home with you.\nPeople picking up food will go through COVID-19 screening at the back door\, and enter the food bank room one at a time. Helpers will be asked to wait outside.\nIf you miss your Food Bank day\, you can contact Winnipeg Harvest to access a different food bank\, or phone us at Nine Circles to see if we can make an emergency plan.
URL:https://ninecircles.ca/event/food-bank-a-k-members-7-2020-12-10/2021-12-23/
LOCATION:Nine Circles Community Centre\, 705 Broadway Winnipeg\, Winnipeg\, Manitoba\, R3G 0X2\, Canada
CATEGORIES:People living with HIV only
ORGANIZER;CN="Nine Circles Community Health":MAILTO:ninecircles@ninecircles.ca
END:VEVENT
BEGIN:VEVENT
DTSTART;TZID=America/Winnipeg:20211125T090000
DTEND;TZID=America/Winnipeg:20211125T170000
DTSTAMP:20260424T153341
CREATED:20200703T181111Z
LAST-MODIFIED:20211110T183321Z
UID:10001858-1637830800-1637859600@ninecircles.ca
SUMMARY:Food Bank: A-K Members
DESCRIPTION:Food Bank is for members only. \n*The food bank process has changed due to COVID-19* \n\nFood Bank is now accessed every 4 weeks (subject to change)\nWe are scheduling pick-up times for members on food bank Thursdays. To make your pick-up appointment phone 204-226-0282 Mon-Tues-Wed of your food bank week.\nWinnipeg Harvest is sending larger amounts of food\, so please bring bags or grocery trolleys to take the food home with you.\nPeople picking up food will go through COVID-19 screening at the back door\, and enter the food bank room one at a time. Helpers will be asked to wait outside.\nIf you miss your Food Bank day\, you can contact Winnipeg Harvest to access a different food bank\, or phone us at Nine Circles to see if we can make an emergency plan.
URL:https://ninecircles.ca/event/food-bank-a-k-members-7-2020-12-10/2021-11-25/
LOCATION:Nine Circles Community Centre\, 705 Broadway Winnipeg\, Winnipeg\, Manitoba\, R3G 0X2\, Canada
CATEGORIES:People living with HIV only
ORGANIZER;CN="Nine Circles Community Health":MAILTO:ninecircles@ninecircles.ca
END:VEVENT
BEGIN:VEVENT
DTSTART;VALUE=DATE:20200914
DTEND;VALUE=DATE:20200921
DTSTAMP:20260424T153341
CREATED:20200904T214424Z
LAST-MODIFIED:20200904T214424Z
UID:10001884-1600041600-1600646399@ninecircles.ca
SUMMARY:2020 Virtual Red Ribbon Walk & Run
DESCRIPTION:Help people living with HIV thrive by participating in the Red Ribbon Walk & Run: 50/50 Raffle & 7 Days of Awareness Activities to smash stigma. Click here for all the details
URL:https://ninecircles.ca/event/2020-virtual-red-ribbon-walk-run/
LOCATION:Nine Circles Community Centre\, 705 Broadway Winnipeg\, Winnipeg\, Manitoba\, R3G 0X2\, Canada
CATEGORIES:Community / Public Events
ORGANIZER;CN="Nine Circles Community Health":MAILTO:ninecircles@ninecircles.ca
END:VEVENT
BEGIN:VEVENT
DTSTART;VALUE=DATE:20200909
DTEND;VALUE=DATE:20200910
DTSTAMP:20260424T153341
CREATED:20200904T213022Z
LAST-MODIFIED:20200904T213022Z
UID:10001883-1599609600-1599695999@ninecircles.ca
SUMMARY:Red Ribbon Walk & Run Launch
DESCRIPTION:Get your Red Ribbon Walk & Run participant toolkit and buy 50/50 tickets to support Nine Circles programming for people living with HIV!
URL:https://ninecircles.ca/event/red-ribbon-walk-run-launch/
LOCATION:Nine Circles Community Centre\, 705 Broadway Winnipeg\, Winnipeg\, Manitoba\, R3G 0X2\, Canada
CATEGORIES:Community / Public Events
ORGANIZER;CN="Nine Circles Community Health":MAILTO:ninecircles@ninecircles.ca
END:VEVENT
BEGIN:VEVENT
DTSTART;TZID=America/Winnipeg:20191206T200000
DTEND;TZID=America/Winnipeg:20191206T220000
DTSTAMP:20260424T153341
CREATED:20191120T221205Z
LAST-MODIFIED:20191120T221205Z
UID:10001816-1575662400-1575669600@ninecircles.ca
SUMMARY:STILL BEGINNING: The 30th Annual Day With(out) Art
DESCRIPTION:You’re invited to mark World AIDS Day & Aboriginal AIDS Awareness Week with Nine Circles Community Health Centre & Video Pool Media Arts Centre! \nJoin us for the opening of STILL BEGINNING: The 30th Annual Day With(out) Art on Friday\, December 6\, 2019 from 8pm-10pm. \nVideo Pool and Nine Circles Community Health Centre are proud to partner with Visual AIDS for the thirtieth annual Day With(out) Art by presenting STILL BEGINNING\, a program of seven newly commissioned videos responding to the ongoing HIV/AIDS epidemic by Shanti Avirgan\, Nguyen Tan Hoang\, Carl George\, Viva Ruiz\, Iman Shervington\, Jack Waters/Victor F.M. Torres\, and Derrick Woods-Morrow.
URL:https://ninecircles.ca/event/still-beginning-the-30th-annual-day-without-art/
LOCATION:Video Pool Media Arts Centre\, 100 Arthur St # 300\, Winnipeg\, Manitoba\, R3B 1H3\, Canada
CATEGORIES:Community / Public Events
ORGANIZER;CN="Nine Circles Community Health":MAILTO:ninecircles@ninecircles.ca
END:VEVENT
BEGIN:VEVENT
DTSTART;TZID=America/Winnipeg:20190922T090000
DTEND;TZID=America/Winnipeg:20190922T130000
DTSTAMP:20260424T153341
CREATED:20190827T221733Z
LAST-MODIFIED:20190827T221733Z
UID:10001786-1569142800-1569157200@ninecircles.ca
SUMMARY:Red Ribbon Walk & Run
DESCRIPTION:On Sunday\, September 22\, 2019\, join Nine Circles Community Health Centre for the Red Ribbon Walk & Run\, an event that brings the community together in the fight against HIV stigma and raises money for programs and services that help people living with HIV thrive.
URL:https://ninecircles.ca/event/red-ribbon-walk-run/
LOCATION:Vimy Ridge Memorial Park\, 821 Preston Ave.\, Winnipeg\, Canada
ORGANIZER;CN="Nine Circles Community Health":MAILTO:ninecircles@ninecircles.ca
GEO:49.883764;-97.168311
X-APPLE-STRUCTURED-LOCATION;VALUE=URI;X-ADDRESS=Vimy Ridge Memorial Park 821 Preston Ave. Winnipeg Canada;X-APPLE-RADIUS=500;X-TITLE=821 Preston Ave.:geo:-97.168311,49.883764
END:VEVENT
BEGIN:VEVENT
DTSTART;TZID=America/Winnipeg:20170924T113000
DTEND;TZID=America/Winnipeg:20170924T140000
DTSTAMP:20260424T153341
CREATED:20170915T162209Z
LAST-MODIFIED:20170915T162325Z
UID:10000991-1506252600-1506261600@ninecircles.ca
SUMMARY:Scotiabank AIDS Walk
DESCRIPTION:Tie up your RED SHOELACES and show your support for Manitobans living with HIV! The day includes games\, entertainment and an action packed 2 km loop around the West End. Regardless of HIV status\, we are all one community\, so let’s come together in the fight against HIV/AIDS. Sign up/Donate at www.scotiabankaidswalk.ca/winnipeg
URL:https://ninecircles.ca/event/scotiabank-aids-walk/
LOCATION:Central Park\, 400 Cumberland\, Winnipeg\, MB\, Canada
ORGANIZER;CN="Nine Circles Community Health":MAILTO:ninecircles@ninecircles.ca
END:VEVENT
END:VCALENDAR